BEGIN:VCALENDAR
VERSION:2.0
PRODID:-//The LINE LA - ECPv6.13.1//NONSGML v1.0//EN
CALSCALE:GREGORIAN
METHOD:PUBLISH
X-WR-CALNAME:The LINE LA
X-ORIGINAL-URL:https://www.thelinehotel.com/los-angeles
X-WR-CALDESC:Events for The LINE LA
REFRESH-INTERVAL;VALUE=DURATION:PT1H
X-Robots-Tag:noindex
X-PUBLISHED-TTL:PT1H
BEGIN:VTIMEZONE
TZID:America/Los_Angeles
BEGIN:DAYLIGHT
TZOFFSETFROM:-0800
TZOFFSETTO:-0700
TZNAME:PDT
DTSTART:20260308T100000
END:DAYLIGHT
BEGIN:STANDARD
TZOFFSETFROM:-0700
TZOFFSETTO:-0800
TZNAME:PST
DTSTART:20261101T090000
END:STANDARD
END:VTIMEZONE
BEGIN:VEVENT
DTSTART;TZID=America/Los_Angeles:20260420T150000
DTEND;TZID=America/Los_Angeles:20260420T190000
DTSTAMP:20260420T024044
CREATED:20260127T003618Z
LAST-MODIFIED:20260219T184514Z
UID:10047594-1776697200-1776711600@www.thelinehotel.com
SUMMARY:Happy Hour at Lobby Bar
DESCRIPTION:When you’re looking for the good stuff made simple\, Lobby Bar is your unpretentious hang with all the classics. Stop in for daily happy hour\, refreshing cocktails\, and an eclectic mix of bar snacks.
URL:https://www.thelinehotel.com/los-angeles/event/happy-hour-at-lobby-bar/2026-04-20/
LOCATION:Lobby Bar
CATEGORIES:Food & Drink
ATTACH;FMTTYPE=image/webp:https://www.thelinehotel.com/wp-content/uploads/sites/2/2026/01/19104453/Lobby-Bar-Happy-Hour-Menu.webp
END:VEVENT
BEGIN:VEVENT
DTSTART;TZID=America/Los_Angeles:20260425T100000
DTEND;TZID=America/Los_Angeles:20260425T143000
DTSTAMP:20260420T024044
CREATED:20260316T203131Z
LAST-MODIFIED:20260316T203410Z
UID:10052582-1777111200-1777127400@www.thelinehotel.com
SUMMARY:Weekend Brunch at Openaire
DESCRIPTION:There’s no better way to do the weekend than a long\, unhurried brunch. \nOur weekend brunch menu is crafted to satisfy every craving\, whether you’re starting light with our Coconut and Chia Pudding or going all-in with the Hibachi-Grilled Hanger Steak and Eggs. From classic Eggs Benedict and Huevos Rancheros to the Corn Flake-Crusted French Toast drizzled with yuzu-berry compote\, there’s something for everyone at the table. Pull up a chair\, take your time\, and let brunch be the best part of your weekend. \nView brunch menu here
URL:https://www.thelinehotel.com/los-angeles/event/weekend-brunch-at-openaire/2026-04-25/
LOCATION:Openaire\, 3515 Wilshire Blvd\, Los Angeles\, CA\, 90010\, United States
CATEGORIES:Food & Drink
ATTACH;FMTTYPE=image/webp:https://www.thelinehotel.com/wp-content/uploads/sites/2/2025/12/01010853/Openaire_edits-35_2023_Jayna.webp
END:VEVENT
BEGIN:VEVENT
DTSTART;TZID=America/Los_Angeles:20260502T190000
DTEND;TZID=America/Los_Angeles:20260502T203000
DTSTAMP:20260420T024044
CREATED:20260414T193916Z
LAST-MODIFIED:20260417T184358Z
UID:10053502-1777748400-1777753800@www.thelinehotel.com
SUMMARY:Lunar Soundbath with Ayres Nouveau
DESCRIPTION:We gather in sound and silence to shed\, to soften\, to remember the rhythm that lives beneath all the noise. One of the most potent crossings of the year\, the space between spring and summer where our collective life force is fully awakening. For those who feel everything. Let sound move through you the way moonlight moves through water. Come be held. Leave in bloom. \nTime: The event is from 7:00pm – 8:30pm\, and doors will open at 6:30pm. \nWhat to Bring: Please bring your own yoga mat and any additional items you may need to feel comfortable lying on the ground\, such as a blanket or pillow. A limited number of yoga mats will be available at the front desk for guests who need one. \nParking: Guests who choose to park on-property may do so via valet at the hotel’s regular valet rates (please access this link to view our valet rates). We recommend arriving early to allow time for parking and settling in before the experience begins.
URL:https://www.thelinehotel.com/los-angeles/event/lunar-soundbath-with-ayres-nouveau/
LOCATION:The LINE LA\, 3515 Wilshire Blvd\, Los Angeles\, CA\, 90010\, United States
CATEGORIES:Health & Wellness
ATTACH;FMTTYPE=image/jpeg:https://www.thelinehotel.com/wp-content/uploads/sites/2/2026/04/17114344/LineLA_Soundbath-May_Website-Calendar-v1.jpg
END:VEVENT
END:VCALENDAR