BEGIN:VCALENDAR
VERSION:2.0
PRODID:-//The LINE LA - ECPv6.13.1//NONSGML v1.0//EN
CALSCALE:GREGORIAN
METHOD:PUBLISH
X-WR-CALNAME:The LINE LA
X-ORIGINAL-URL:https://www.thelinehotel.com/los-angeles
X-WR-CALDESC:Events for The LINE LA
REFRESH-INTERVAL;VALUE=DURATION:PT1H
X-Robots-Tag:noindex
X-PUBLISHED-TTL:PT1H
BEGIN:VTIMEZONE
TZID:America/Los_Angeles
BEGIN:DAYLIGHT
TZOFFSETFROM:-0800
TZOFFSETTO:-0700
TZNAME:PDT
DTSTART:20260308T100000
END:DAYLIGHT
BEGIN:STANDARD
TZOFFSETFROM:-0700
TZOFFSETTO:-0800
TZNAME:PST
DTSTART:20261101T090000
END:STANDARD
END:VTIMEZONE
BEGIN:VEVENT
DTSTART;TZID=America/Los_Angeles:20260419T150000
DTEND;TZID=America/Los_Angeles:20260419T190000
DTSTAMP:20260420T040537
CREATED:20260127T003618Z
LAST-MODIFIED:20260219T184514Z
UID:10047593-1776610800-1776625200@www.thelinehotel.com
SUMMARY:Happy Hour at Lobby Bar
DESCRIPTION:When you’re looking for the good stuff made simple\, Lobby Bar is your unpretentious hang with all the classics. Stop in for daily happy hour\, refreshing cocktails\, and an eclectic mix of bar snacks.
URL:https://www.thelinehotel.com/los-angeles/event/happy-hour-at-lobby-bar/2026-04-19/
LOCATION:Lobby Bar
CATEGORIES:Food & Drink
ATTACH;FMTTYPE=image/webp:https://www.thelinehotel.com/wp-content/uploads/sites/2/2026/01/19104453/Lobby-Bar-Happy-Hour-Menu.webp
END:VEVENT
BEGIN:VEVENT
DTSTART;TZID=America/Los_Angeles:20260419T100000
DTEND;TZID=America/Los_Angeles:20260419T143000
DTSTAMP:20260420T040537
CREATED:20260316T203131Z
LAST-MODIFIED:20260316T203410Z
UID:10052581-1776592800-1776609000@www.thelinehotel.com
SUMMARY:Weekend Brunch at Openaire
DESCRIPTION:There’s no better way to do the weekend than a long\, unhurried brunch. \nOur weekend brunch menu is crafted to satisfy every craving\, whether you’re starting light with our Coconut and Chia Pudding or going all-in with the Hibachi-Grilled Hanger Steak and Eggs. From classic Eggs Benedict and Huevos Rancheros to the Corn Flake-Crusted French Toast drizzled with yuzu-berry compote\, there’s something for everyone at the table. Pull up a chair\, take your time\, and let brunch be the best part of your weekend. \nView brunch menu here
URL:https://www.thelinehotel.com/los-angeles/event/weekend-brunch-at-openaire/2026-04-19/
LOCATION:Openaire\, 3515 Wilshire Blvd\, Los Angeles\, CA\, 90010\, United States
CATEGORIES:Food & Drink
ATTACH;FMTTYPE=image/webp:https://www.thelinehotel.com/wp-content/uploads/sites/2/2025/12/01010853/Openaire_edits-35_2023_Jayna.webp
END:VEVENT
BEGIN:VEVENT
DTSTART;TZID=America/Los_Angeles:20260409T190000
DTEND;TZID=America/Los_Angeles:20260409T230000
DTSTAMP:20260420T040537
CREATED:20260402T001542Z
LAST-MODIFIED:20260409T214649Z
UID:10053010-1775761200-1775775600@www.thelinehotel.com
SUMMARY:THE LINE LA x Framework Haus Cocktail Event
DESCRIPTION:The team behind Seoul’s acclaimed Alice Cheongdam bar – ranked No. 13 on Asia’s 50 Best Bars – brings its boundary-pushing cocktail program to Los Angeles for one night only at Breakroom 86 at the LINE LA. Led by renowned bartender Eggsy Seong\, the evening features five original cocktails crafted with rare\, house-prepared ingredients flown in from Korea. \nWith 80 tickets available and approximately 200 cocktails total\, this intimate experience is designed to be both exclusive and fleeting. Drinks will be served on a first come\, first served basis until sold out. \nGuests can expect inventive\, globally inspired flavors alongside a lively\, high-energy atmosphere in the heart of Koreatown. Secure your spot early and be part of a rare collaboration that brings one of Asia’s most exciting bar concepts stateside for a single night. \nEntrance: Breakroom 86 entrance on 630 S Ardmore Ave.\, next to the loading dock
URL:https://www.thelinehotel.com/los-angeles/event/line-la-x-framework-haus/
LOCATION:Break Room 86\, 3515 Wilshire Blvd\,\, Los Angele\, CA\, 90010\, United States
CATEGORIES:Food & Drink
ATTACH;FMTTYPE=image/png:https://www.thelinehotel.com/wp-content/uploads/sites/2/2026/04/01170011/TalkMedia_i_71d3c4f89ae3.png-scaled-e1775089083297.png
END:VEVENT
BEGIN:VEVENT
DTSTART;TZID=America/Los_Angeles:20260219T180000
DTEND;TZID=America/Los_Angeles:20260219T180000
DTSTAMP:20260420T040537
CREATED:20260131T004138Z
LAST-MODIFIED:20260219T200719Z
UID:10048088-1771524000-1771524000@www.thelinehotel.com
SUMMARY:Year of the Horse Mahjong Tournament
DESCRIPTION:East Never Loses and Hennessy present the Year of the Horse Mahjong Tournament on Feb. 19\, from 6PM to 12 AM. In the zodiac\, the Horse represents passion\, energy\, and momentum—all qualities that define a Mahjong Champion. \nWhere: The LINE LA hotel lobby + Kiss Kiss Bang Bang \nPrice: Free to attend with RSVP. $50 to compete and limited to 64 players. \nPrize: $1\,000 cash prize\, sponsored by Hennessy. \nWhat’s included with free RSVP: There will be mahjong tables for casual play in the lobby and a Hennessy karaoke room at Kiss Kiss Bang Bang. \nMahjong style: Taiwanese 16-tile Mahjong using a no-points format. Instead of tracking scores\, the first player at each table to win two games advances to the next round. This format keeps gameplay fast and competitive\, with clear progression and less downtime\, while putting the focus on strategy\, momentum\, and strong play rather than point calculations. \nTournament Schedule: \n6:00–7:00 PM: Player Check-In\n7:30–8:30 PM: Elimination Round\n8:30–9:00 PM: Break\n9:00–10:00 PM: Semifinals\n10:30–11:00 PM: Break\n11:00 PM–12:00 AM: Finals\n12:00 AM: Winner Crowning \nCompete. Party. Or do both. Click here for more details. 
URL:https://www.thelinehotel.com/los-angeles/event/mahjong-tournament-2026/
LOCATION:Lobby Bar
CATEGORIES:Music & Entertainment
ATTACH;FMTTYPE=image/webp:https://www.thelinehotel.com/wp-content/uploads/sites/2/2026/01/19120706/ENL-Mahjong-Event-Flyer.webp
END:VEVENT
BEGIN:VEVENT
DTSTART;TZID=America/Los_Angeles:20260215T173000
DTEND;TZID=America/Los_Angeles:20260215T220000
DTSTAMP:20260420T040537
CREATED:20260123T205003Z
LAST-MODIFIED:20260130T165725Z
UID:10046816-1771176600-1771192800@www.thelinehotel.com
SUMMARY:Valentine's Celebration at Openaire
DESCRIPTION:Celebrate Valentine’s season with a thoughtfully crafted three-course menu at Openaire\, perfect for an intimate night out before or after the big day. \nStart off your evening with shareable first courses\, including Strawberry and Champagne Salad\, Oyster Rockefeller\, or Seared Diver Scallop. Second courses range from Miso Glazed Black Cod and Braised Short Rib to Tagliatelle Cacio e Pepe. Desserts are served to finish\, featuring Dubai Chocolate Cake\, Blackberry Tart\, and the Openaire Candy Box. \nPrice: $75/per person \nAvailable: Feb. 13 & 15\, 5:30-10pm \nView 3-course Valentine’s Dinner Menu Here
URL:https://www.thelinehotel.com/los-angeles/event/valentines-celebration-at-openaire/2026-02-15/
LOCATION:Openaire\, 3515 Wilshire Blvd\, Los Angeles\, CA\, 90010\, United States
CATEGORIES:Food & Drink
ATTACH;FMTTYPE=image/webp:https://www.thelinehotel.com/wp-content/uploads/sites/2/2026/01/30085706/202502-LA-Openaire-ValentinesDayDinner-02141-scaled-1.webp
END:VEVENT
BEGIN:VEVENT
DTSTART;TZID=America/Los_Angeles:20260214T173000
DTEND;TZID=America/Los_Angeles:20260214T220000
DTSTAMP:20260420T040537
CREATED:20260118T021555Z
LAST-MODIFIED:20260219T182328Z
UID:10045716-1771090200-1771106400@www.thelinehotel.com
SUMMARY:Valentine's Day at Openaire
DESCRIPTION:An unforgettable Valentine’s Day begins with a four-course menu at Openaire\, designed to delight from the first bite to the last. \nStart off your evening with shareable first courses\, including Wagyu Beef Tartare\, Caprese Bite\, Grilled Prawn Bruschetta\, and Okinawa Purple Sweet Potato. For the second course\, choose from Strawberry and Champagne Salad\, Oyster Rockefeller\, or Seared Diver Scallop. Entrées range from Miso Glazed Black Cod and Braised Short Rib to Tagliatelle Cacio e Pepe. Desserts are served to finish\, featuring Dubai Chocolate Cake\, Blackberry Tart\, and the Openaire Candy Box. \nPrice: $125/per person \nAvailable: Feb. 14\, 5:30-10pm \nView Valentine’s Day Dinner Menu Here
URL:https://www.thelinehotel.com/los-angeles/event/valentines-day-at-openaire-2026/
LOCATION:Openaire\, 3515 Wilshire Blvd\, Los Angeles\, CA\, 90010\, United States
CATEGORIES:Food & Drink
ATTACH;FMTTYPE=image/webp:https://www.thelinehotel.com/wp-content/uploads/sites/2/2026/01/30084524/202502-LA-Openaire-ValentinesDayDinner-01902-scaled-1.webp
END:VEVENT
BEGIN:VEVENT
DTSTART;TZID=America/Los_Angeles:20260206T173000
DTEND;TZID=America/Los_Angeles:20260206T220000
DTSTAMP:20260420T040537
CREATED:20260105T221454Z
LAST-MODIFIED:20260219T200139Z
UID:10044562-1770399000-1770415200@www.thelinehotel.com
SUMMARY:Dine LA Restaurant Week Winter 2026
DESCRIPTION:Step into the lush greenery of Openaire and celebrate Dine LA Restaurant Week with our special 3-course menu. \nStart with grilled prawns with Aji Amarillo or ahi tuna tartare\, then indulge in grilled branzino or wild mushroom bolognese for your main course. Finish the evening on a sweet note with passion fruit crème brûlée or dulce de leche chocolate mousse. \nPrice: $55/per person \nNote: Dine LA Restaurant Week runs Jan. 23 – Feb. 6. Openaire serves this special menu for dinner Wednesday – Sunday\, 5:30pm – 10pm. \nView menu here
URL:https://www.thelinehotel.com/los-angeles/event/dine-la-winter-2026/2026-02-06/
LOCATION:Openaire\, 3515 Wilshire Blvd\, Los Angeles\, CA\, 90010\, United States
CATEGORIES:Food & Drink
ATTACH;FMTTYPE=image/webp:https://www.thelinehotel.com/wp-content/uploads/sites/2/2026/01/19120125/DSC01367-2-bRvX58-1.webp
END:VEVENT
END:VCALENDAR