BEGIN:VCALENDAR
VERSION:2.0
PRODID:-//The LINE Hotels - ECPv6.13.2//NONSGML v1.0//EN
CALSCALE:GREGORIAN
METHOD:PUBLISH
X-ORIGINAL-URL:https://www.thelinehotel.com
X-WR-CALDESC:Events for The LINE Hotels
REFRESH-INTERVAL;VALUE=DURATION:PT1H
X-Robots-Tag:noindex
X-PUBLISHED-TTL:PT1H
BEGIN:VTIMEZONE
TZID:America/Los_Angeles
BEGIN:DAYLIGHT
TZOFFSETFROM:-0800
TZOFFSETTO:-0700
TZNAME:PDT
DTSTART:20260308T100000
END:DAYLIGHT
BEGIN:STANDARD
TZOFFSETFROM:-0700
TZOFFSETTO:-0800
TZNAME:PST
DTSTART:20261101T090000
END:STANDARD
END:VTIMEZONE
BEGIN:VTIMEZONE
TZID:America/New_York
BEGIN:DAYLIGHT
TZOFFSETFROM:-0500
TZOFFSETTO:-0400
TZNAME:EDT
DTSTART:20260308T070000
END:DAYLIGHT
BEGIN:STANDARD
TZOFFSETFROM:-0400
TZOFFSETTO:-0500
TZNAME:EST
DTSTART:20261101T060000
END:STANDARD
END:VTIMEZONE
BEGIN:VTIMEZONE
TZID:America/Chicago
BEGIN:DAYLIGHT
TZOFFSETFROM:-0600
TZOFFSETTO:-0500
TZNAME:CDT
DTSTART:20260308T080000
END:DAYLIGHT
BEGIN:STANDARD
TZOFFSETFROM:-0500
TZOFFSETTO:-0600
TZNAME:CST
DTSTART:20261101T070000
END:STANDARD
END:VTIMEZONE
BEGIN:VEVENT
DTSTART;TZID=America/Los_Angeles:20260119T080000
DTEND;TZID=America/Los_Angeles:20260125T170000
DTSTAMP:20260421T014902
CREATED:20260120T172057Z
LAST-MODIFIED:20260130T170853Z
UID:10013888-1768809600-1769360400@www.thelinehotel.com
SUMMARY:Metropolitan Restaurant Winter Restaurant Week
DESCRIPTION:With Metropolitan Washington Winter Restaurant Week returning this January\, we invite you to No Goodbyes to join us for a week of elevated dining and seasonal flavors. From Jan. 19 – 25\, savor specially curated prixe-fixe brunch and dinner menus that showcase our kitchen’s passion for fresh ingredients and thoughtful technique. \nWhether you’re stopping in for a leisurely brunch or an elegant evening meal\, Restaurant Week is the perfect time to experience our limited-time menus. \nView Metropolitan Restaurant Week Menus: \nBrunch Menu ($25/pp)   |    Dinner Menu ($55/pp) \nNo Goodbyes’ Hours: \nDinner: \nMon-Thurs: 5-10pm | Fri & Sat: 5-11pm | Sun: Closed for Dinner \nBrunch: \nSat & Sun: 9am-2pm
URL:https://www.thelinehotel.com/event/metropolitan-restaurant-winter-restaurant-week-2/
LOCATION:No Goodbyes
CATEGORIES:food & drink,Washington DC
ATTACH;FMTTYPE=image/webp:https://www.thelinehotel.com/wp-content/uploads/2026/01/30090813/1186_081924_TheLINE_DC-rtEnw0.webp
END:VEVENT
BEGIN:VEVENT
DTSTART;TZID=America/New_York:20260120T150000
DTEND;TZID=America/New_York:20260120T190000
DTSTAMP:20260421T014902
CREATED:20260102T223553Z
LAST-MODIFIED:20260120T231516Z
UID:10013486-1768921200-1768935600@www.thelinehotel.com
SUMMARY:No Goodbyes Happy Hour
DESCRIPTION:Monday-Saturday: 3pm – 7pm
URL:https://www.thelinehotel.com/event/no-goodbyes-happy-hour-1248/
LOCATION:The LINE DC\, 2468 Champlain St NW\, Washington\, DC\, 20009\, United States
CATEGORIES:food & drink,Washington DC
ATTACH;FMTTYPE=image/jpeg:https://www.thelinehotel.com/wp-content/uploads/2022/11/15103247/stepitup-e1649866664936-u0osfp.tmp_.jpg
END:VEVENT
BEGIN:VEVENT
DTSTART;TZID=America/New_York:20260121T150000
DTEND;TZID=America/New_York:20260121T190000
DTSTAMP:20260421T014902
CREATED:20260102T223555Z
LAST-MODIFIED:20260121T233017Z
UID:10013487-1769007600-1769022000@www.thelinehotel.com
SUMMARY:No Goodbyes Happy Hour
DESCRIPTION:Monday-Saturday: 3pm – 7pm
URL:https://www.thelinehotel.com/event/no-goodbyes-happy-hour-1249/
LOCATION:The LINE DC\, 2468 Champlain St NW\, Washington\, DC\, 20009\, United States
CATEGORIES:food & drink,Washington DC
ATTACH;FMTTYPE=image/jpeg:https://www.thelinehotel.com/wp-content/uploads/2022/11/15103247/stepitup-e1649866664936-u0osfp.tmp_.jpg
END:VEVENT
BEGIN:VEVENT
DTSTART;TZID=America/New_York:20260122T150000
DTEND;TZID=America/New_York:20260122T190000
DTSTAMP:20260421T014902
CREATED:20260102T223557Z
LAST-MODIFIED:20260122T234518Z
UID:10013488-1769094000-1769108400@www.thelinehotel.com
SUMMARY:No Goodbyes Happy Hour
DESCRIPTION:Monday-Saturday: 3pm – 7pm
URL:https://www.thelinehotel.com/event/no-goodbyes-happy-hour-1250/
LOCATION:The LINE DC\, 2468 Champlain St NW\, Washington\, DC\, 20009\, United States
CATEGORIES:food & drink,Washington DC
ATTACH;FMTTYPE=image/jpeg:https://www.thelinehotel.com/wp-content/uploads/2022/11/15103247/stepitup-e1649866664936-u0osfp.tmp_.jpg
END:VEVENT
BEGIN:VEVENT
DTSTART;TZID=America/Chicago:20260122T173000
DTEND;TZID=America/Chicago:20260122T190000
DTSTAMP:20260421T014902
CREATED:20260106T003537Z
LAST-MODIFIED:20260122T230019Z
UID:10013576-1769103000-1769108400@www.thelinehotel.com
SUMMARY:Tarot in The Lobby
DESCRIPTION:Join us in the East Lobby for free tarot readings every Thursday from Megan at Jaguar High Priestess. First come\, first served (open to hotel guests only.) \nWith a larger group? It’s okay to bring your friends—we can accommodate up to six for a collective journey through the cosmos. 
URL:https://www.thelinehotel.com/event/tarot-in-the-lobby-79/
LOCATION:The LINE Austin\, 111 E Cesar Chavez St\, Austin\, TX\, 78701\, United States
CATEGORIES:Austin,Health & Wellness
ATTACH;FMTTYPE=image/jpeg:https://www.thelinehotel.com/wp-content/uploads/2023/11/02003235/Austin_TarotInTheLobby-pZcTab.tmp_.jpg
END:VEVENT
BEGIN:VEVENT
DTSTART;TZID=America/Chicago:20260122T180000
DTEND;TZID=America/Chicago:20260122T190000
DTSTAMP:20260421T014902
CREATED:20260109T192534Z
LAST-MODIFIED:20260122T230019Z
UID:10013866-1769104800-1769108400@www.thelinehotel.com
SUMMARY:Todd Day Wait x the LINE Hotel x The White Horse P6 Showcase
DESCRIPTION:To mark the start of our partnership with White Horse Saloon\, we invite you to P6 for an exclusive live performance by Todd Day Wait. \nKnown for his refined take on classic country\, Todd Day Wait delivers a performance that feels both timeless and distinctly his own. Come experience a slice of White Horse Saloon on the water at P6. \nNote: Admission to this show is free with RSVP.  \n  \n 
URL:https://www.thelinehotel.com/event/todd-day-wait-x-the-line-hotel-x-the-white-horse-p6-showcase/
LOCATION:P6 at the LINE Austin\, 111 E Cesar Chavez St\, Austin\, Texas\, 78701
CATEGORIES:Austin,Music & Entertainment
ATTACH;FMTTYPE=image/png:https://www.thelinehotel.com/wp-content/uploads/2026/01/09112549/TDW-P6-Flyer-Uo5wvl.png
END:VEVENT
BEGIN:VEVENT
DTSTART;TZID=America/New_York:20260123T150000
DTEND;TZID=America/New_York:20260123T190000
DTSTAMP:20260421T014902
CREATED:20260102T223558Z
LAST-MODIFIED:20260123T232020Z
UID:10013489-1769180400-1769194800@www.thelinehotel.com
SUMMARY:No Goodbyes Happy Hour
DESCRIPTION:Monday-Saturday: 3pm – 7pm
URL:https://www.thelinehotel.com/event/no-goodbyes-happy-hour-1251/
LOCATION:The LINE DC\, 2468 Champlain St NW\, Washington\, DC\, 20009\, United States
CATEGORIES:food & drink,Washington DC
ATTACH;FMTTYPE=image/jpeg:https://www.thelinehotel.com/wp-content/uploads/2022/11/15103247/stepitup-e1649866664936-u0osfp.tmp_.jpg
END:VEVENT
BEGIN:VEVENT
DTSTART;TZID=America/Los_Angeles:20260123T173000
DTEND;TZID=America/Los_Angeles:20260123T220000
DTSTAMP:20260421T014902
CREATED:20260105T223512Z
LAST-MODIFIED:20260123T232018Z
UID:10013561-1769189400-1769205600@www.thelinehotel.com
SUMMARY:Dine LA Restaurant Week Winter 2026
DESCRIPTION:Step into the lush greenery of Openaire and celebrate Dine LA Restaurant Week with our special 3-course menu. \nStart with grilled prawns with Aji Amarillo or ahi tuna tartare\, then indulge in grilled branzino or wild mushroom bolognese for your main course. Finish the evening on a sweet note with passion fruit crème brûlée or dulce de leche chocolate mousse. \nPrice: $55/per person \nNote: Dine LA Restaurant Week runs Jan. 23 – Feb. 6. Openaire serves this special menu for dinner Wednesday – Sunday\, 5:30pm – 10pm. \nView menu here
URL:https://www.thelinehotel.com/event/dine-la-restaurant-week-winter-2026/
LOCATION:Openaire\, 3515 Wilshire Blvd\, Los Angeles\, CA\, 90010\, United States
CATEGORIES:food & drink,Los Angeles
ATTACH;FMTTYPE=image/jpeg:https://www.thelinehotel.com/wp-content/uploads/2026/01/12151519/DSC01367-2-bRvX58.jpg
END:VEVENT
BEGIN:VEVENT
DTSTART;TZID=America/Los_Angeles:20260123T173000
DTEND;TZID=America/Los_Angeles:20260123T220000
DTSTAMP:20260421T014902
CREATED:20260106T185654Z
LAST-MODIFIED:20260112T183140Z
UID:10013589-1769189400-1769205600@www.thelinehotel.com
SUMMARY:Dine LA Restaurant Week Winter 2026
DESCRIPTION:Step into the lush greenery of Openaire and celebrate Dine LA Restaurant Week with our special 3-course menu. \nStart with grilled prawns with Aji Amarillo or ahi tuna tartare\, then indulge in grilled branzino or wild mushroom bolognese for your main course. Finish the evening on a sweet note with passion fruit crème brûlée or dulce de leche chocolate mousse. \nPrice: $55/per person \nNote: Dine LA Restaurant Week runs Jan. 23 – Feb. 6. Openaire serves this special menu for dinner Wednesday – Sunday\, 5:30pm – 10pm. \nView menu here
URL:https://www.thelinehotel.com/event/dine-la-restaurant-week-winter-2026-12/2026-01-23/
LOCATION:Openaire\, 3515 Wilshire Blvd\, Los Angeles\, CA\, 90010\, United States
CATEGORIES:food & drink,Los Angeles
ATTACH;FMTTYPE=image/jpeg:https://www.thelinehotel.com/wp-content/uploads/2026/01/06105407/Young-Beet-Salad-and-Hamachi-Crudo-1-DSC08365-e1767651264434.jpg
END:VEVENT
BEGIN:VEVENT
DTSTART;TZID=America/Chicago:20260124T090000
DTEND;TZID=America/Chicago:20260124T100000
DTSTAMP:20260421T014902
CREATED:20260103T011536Z
LAST-MODIFIED:20260219T114049Z
UID:10013553-1769245200-1769248800@www.thelinehotel.com
SUMMARY:Slow Flow Yoga
DESCRIPTION:Join us every Saturday morning for a slow-flow class to start the weekend right. 12/13/25 -03/07/26 will be taught on the 2nd floor in Topaz. \nTaught by Megan at Jaguar High Priestess. Mats provided.
URL:https://www.thelinehotel.com/event/slow-flow-yoga-226/
LOCATION:The LINE Austin\, 111 E Cesar Chavez St\, Austin\, TX\, 78701\, United States
CATEGORIES:Austin,Health & Wellness
ATTACH;FMTTYPE=image/jpeg:https://www.thelinehotel.com/wp-content/uploads/2024/10/29065015/Slow-Flow-Yoga-Update-Winter-2024-Website-Calendar-WcYEe8.tmp_.jpg
END:VEVENT
BEGIN:VEVENT
DTSTART;TZID=America/New_York:20260124T150000
DTEND;TZID=America/New_York:20260124T190000
DTSTAMP:20260421T014902
CREATED:20260102T223601Z
LAST-MODIFIED:20260124T233018Z
UID:10013490-1769266800-1769281200@www.thelinehotel.com
SUMMARY:No Goodbyes Happy Hour
DESCRIPTION:Monday-Saturday: 3pm – 7pm
URL:https://www.thelinehotel.com/event/no-goodbyes-happy-hour-1252/
LOCATION:The LINE DC\, 2468 Champlain St NW\, Washington\, DC\, 20009\, United States
CATEGORIES:food & drink,Washington DC
ATTACH;FMTTYPE=image/jpeg:https://www.thelinehotel.com/wp-content/uploads/2022/11/15103247/stepitup-e1649866664936-u0osfp.tmp_.jpg
END:VEVENT
BEGIN:VEVENT
DTSTART;TZID=America/Los_Angeles:20260124T173000
DTEND;TZID=America/Los_Angeles:20260124T220000
DTSTAMP:20260421T014902
CREATED:20260106T185654Z
LAST-MODIFIED:20260112T183140Z
UID:10013590-1769275800-1769292000@www.thelinehotel.com
SUMMARY:Dine LA Restaurant Week Winter 2026
DESCRIPTION:Step into the lush greenery of Openaire and celebrate Dine LA Restaurant Week with our special 3-course menu. \nStart with grilled prawns with Aji Amarillo or ahi tuna tartare\, then indulge in grilled branzino or wild mushroom bolognese for your main course. Finish the evening on a sweet note with passion fruit crème brûlée or dulce de leche chocolate mousse. \nPrice: $55/per person \nNote: Dine LA Restaurant Week runs Jan. 23 – Feb. 6. Openaire serves this special menu for dinner Wednesday – Sunday\, 5:30pm – 10pm. \nView menu here
URL:https://www.thelinehotel.com/event/dine-la-restaurant-week-winter-2026-12/2026-01-24/
LOCATION:Openaire\, 3515 Wilshire Blvd\, Los Angeles\, CA\, 90010\, United States
CATEGORIES:food & drink,Los Angeles
ATTACH;FMTTYPE=image/jpeg:https://www.thelinehotel.com/wp-content/uploads/2026/01/06105407/Young-Beet-Salad-and-Hamachi-Crudo-1-DSC08365-e1767651264434.jpg
END:VEVENT
BEGIN:VEVENT
DTSTART;TZID=America/New_York:20260125T103000
DTEND;TZID=America/New_York:20260125T120000
DTSTAMP:20260421T014902
CREATED:20260113T001546Z
LAST-MODIFIED:20260125T225516Z
UID:10013871-1769337000-1769342400@www.thelinehotel.com
SUMMARY:Moves and Connects Series: Peared x The LINE
DESCRIPTION:Peared Moves and Connects Series is back at the Line DC so you can start your 2026 with movement\, coffee\, and great company. \nJoin Peared x The LINE DC for a relaxed\, social morning featuring a light\, beginner-friendly partner workout\, followed by coffee and mingling in the lobby. Designed to be inclusive\, low-pressure\, and fun\, this is not a hardcore fitness class\, but a chance to move your body and meet new people in a natural way. \n10:30 – 11:40 am: Check-In + Partner Workout at the LYRA/LYNX Room\n-Guest check-in (10:30-10:45 am)\n-A guided light cardio and strength circuit (no mats or equipment) with solo moves\, partner switches\, and a stretch to finish (11 am)\n-Special giveaways \n12:00 pm & Onward: Coffee & Mingle\n-20 free drip coffee (iced or hot) for Peared users who have an active profile prior; first come first serve\n-Discounted coffee (Peared perks with wrist band) available in the LINE lobby\n-Casual mingling and conversation\n-Music to keep the vibe relaxed and social \nWhat to Bring\nComfortable workout clothes\, sneakers\, a water bottle\, and an open mind. \nNote: A photographer may be present at this event to capture moments for Peared and the LINE Hotel’s social media and marketing. By attending\, you consent to being photographed or filmed. If you prefer not to be included\, please let a host know at check-in and we’ll happily accommodate.
URL:https://www.thelinehotel.com/event/moves-and-connects-series-peared-x-the-line/
LOCATION:The LINE DC\, 2468 Champlain St NW\, Washington\, DC\, 20009\, United States
CATEGORIES:Health & Wellness,Washington DC
ATTACH;FMTTYPE=image/jpeg:https://www.thelinehotel.com/wp-content/uploads/2026/01/12161550/XXR00364-2-WVp5ss.jpg
END:VEVENT
BEGIN:VEVENT
DTSTART;TZID=America/Los_Angeles:20260125T173000
DTEND;TZID=America/Los_Angeles:20260125T220000
DTSTAMP:20260421T014902
CREATED:20260106T185654Z
LAST-MODIFIED:20260112T183140Z
UID:10013591-1769362200-1769378400@www.thelinehotel.com
SUMMARY:Dine LA Restaurant Week Winter 2026
DESCRIPTION:Step into the lush greenery of Openaire and celebrate Dine LA Restaurant Week with our special 3-course menu. \nStart with grilled prawns with Aji Amarillo or ahi tuna tartare\, then indulge in grilled branzino or wild mushroom bolognese for your main course. Finish the evening on a sweet note with passion fruit crème brûlée or dulce de leche chocolate mousse. \nPrice: $55/per person \nNote: Dine LA Restaurant Week runs Jan. 23 – Feb. 6. Openaire serves this special menu for dinner Wednesday – Sunday\, 5:30pm – 10pm. \nView menu here
URL:https://www.thelinehotel.com/event/dine-la-restaurant-week-winter-2026-12/2026-01-25/
LOCATION:Openaire\, 3515 Wilshire Blvd\, Los Angeles\, CA\, 90010\, United States
CATEGORIES:food & drink,Los Angeles
ATTACH;FMTTYPE=image/jpeg:https://www.thelinehotel.com/wp-content/uploads/2026/01/06105407/Young-Beet-Salad-and-Hamachi-Crudo-1-DSC08365-e1767651264434.jpg
END:VEVENT
BEGIN:VEVENT
DTSTART;TZID=America/New_York:20260126T150000
DTEND;TZID=America/New_York:20260126T190000
DTSTAMP:20260421T014902
CREATED:20260102T223616Z
LAST-MODIFIED:20260126T234516Z
UID:10013491-1769439600-1769454000@www.thelinehotel.com
SUMMARY:No Goodbyes Happy Hour
DESCRIPTION:Monday-Saturday: 3pm – 7pm
URL:https://www.thelinehotel.com/event/no-goodbyes-happy-hour-1253/
LOCATION:The LINE DC\, 2468 Champlain St NW\, Washington\, DC\, 20009\, United States
CATEGORIES:food & drink,Washington DC
ATTACH;FMTTYPE=image/jpeg:https://www.thelinehotel.com/wp-content/uploads/2022/11/15103247/stepitup-e1649866664936-u0osfp.tmp_.jpg
END:VEVENT
BEGIN:VEVENT
DTSTART;TZID=America/New_York:20260127T150000
DTEND;TZID=America/New_York:20260127T190000
DTSTAMP:20260421T014902
CREATED:20260102T223617Z
LAST-MODIFIED:20260127T232518Z
UID:10013492-1769526000-1769540400@www.thelinehotel.com
SUMMARY:No Goodbyes Happy Hour
DESCRIPTION:Monday-Saturday: 3pm – 7pm
URL:https://www.thelinehotel.com/event/no-goodbyes-happy-hour-1254/
LOCATION:The LINE DC\, 2468 Champlain St NW\, Washington\, DC\, 20009\, United States
CATEGORIES:food & drink,Washington DC
ATTACH;FMTTYPE=image/jpeg:https://www.thelinehotel.com/wp-content/uploads/2022/11/15103247/stepitup-e1649866664936-u0osfp.tmp_.jpg
END:VEVENT
BEGIN:VEVENT
DTSTART;TZID=America/Los_Angeles:20260127T150000
DTEND;TZID=America/Los_Angeles:20260127T190000
DTSTAMP:20260421T014902
CREATED:20260127T011519Z
LAST-MODIFIED:20260127T234018Z
UID:10013901-1769526000-1769540400@www.thelinehotel.com
SUMMARY:Happy Hour at Lobby Bar
DESCRIPTION:When you’re looking for the good stuff made simple\, Lobby Bar is your unpretentious hang with all the classics. Stop in for daily happy hour\, refreshing cocktails\, and an eclectic mix of bar snacks.
URL:https://www.thelinehotel.com/event/happy-hour-at-lobby-bar-459/
LOCATION:Lobby Bar
CATEGORIES:food & drink,Los Angeles
ATTACH;FMTTYPE=image/jpeg:https://www.thelinehotel.com/wp-content/uploads/2026/01/26171525/Lobby-Bar-Happy-Hour-Menu-FOho94.jpg
END:VEVENT
BEGIN:VEVENT
DTSTART;TZID=America/New_York:20260128T150000
DTEND;TZID=America/New_York:20260128T190000
DTSTAMP:20260421T014902
CREATED:20260102T223619Z
LAST-MODIFIED:20260128T235016Z
UID:10013493-1769612400-1769626800@www.thelinehotel.com
SUMMARY:No Goodbyes Happy Hour
DESCRIPTION:Monday-Saturday: 3pm – 7pm
URL:https://www.thelinehotel.com/event/no-goodbyes-happy-hour-1255/
LOCATION:The LINE DC\, 2468 Champlain St NW\, Washington\, DC\, 20009\, United States
CATEGORIES:food & drink,Washington DC
ATTACH;FMTTYPE=image/jpeg:https://www.thelinehotel.com/wp-content/uploads/2022/11/15103247/stepitup-e1649866664936-u0osfp.tmp_.jpg
END:VEVENT
BEGIN:VEVENT
DTSTART;TZID=America/Los_Angeles:20260128T150000
DTEND;TZID=America/Los_Angeles:20260128T190000
DTSTAMP:20260421T014902
CREATED:20260127T011528Z
LAST-MODIFIED:20260128T233019Z
UID:10013902-1769612400-1769626800@www.thelinehotel.com
SUMMARY:Happy Hour at Lobby Bar
DESCRIPTION:When you’re looking for the good stuff made simple\, Lobby Bar is your unpretentious hang with all the classics. Stop in for daily happy hour\, refreshing cocktails\, and an eclectic mix of bar snacks.
URL:https://www.thelinehotel.com/event/happy-hour-at-lobby-bar-463/
LOCATION:Lobby Bar
CATEGORIES:food & drink,Los Angeles
ATTACH;FMTTYPE=image/jpeg:https://www.thelinehotel.com/wp-content/uploads/2026/01/26171525/Lobby-Bar-Happy-Hour-Menu-FOho94.jpg
END:VEVENT
BEGIN:VEVENT
DTSTART;TZID=America/Los_Angeles:20260128T173000
DTEND;TZID=America/Los_Angeles:20260128T220000
DTSTAMP:20260421T014902
CREATED:20260106T185654Z
LAST-MODIFIED:20260112T183140Z
UID:10013592-1769621400-1769637600@www.thelinehotel.com
SUMMARY:Dine LA Restaurant Week Winter 2026
DESCRIPTION:Step into the lush greenery of Openaire and celebrate Dine LA Restaurant Week with our special 3-course menu. \nStart with grilled prawns with Aji Amarillo or ahi tuna tartare\, then indulge in grilled branzino or wild mushroom bolognese for your main course. Finish the evening on a sweet note with passion fruit crème brûlée or dulce de leche chocolate mousse. \nPrice: $55/per person \nNote: Dine LA Restaurant Week runs Jan. 23 – Feb. 6. Openaire serves this special menu for dinner Wednesday – Sunday\, 5:30pm – 10pm. \nView menu here
URL:https://www.thelinehotel.com/event/dine-la-restaurant-week-winter-2026-12/2026-01-28/
LOCATION:Openaire\, 3515 Wilshire Blvd\, Los Angeles\, CA\, 90010\, United States
CATEGORIES:food & drink,Los Angeles
ATTACH;FMTTYPE=image/jpeg:https://www.thelinehotel.com/wp-content/uploads/2026/01/06105407/Young-Beet-Salad-and-Hamachi-Crudo-1-DSC08365-e1767651264434.jpg
END:VEVENT
BEGIN:VEVENT
DTSTART;TZID=America/New_York:20260129T150000
DTEND;TZID=America/New_York:20260129T190000
DTSTAMP:20260421T014902
CREATED:20260102T223620Z
LAST-MODIFIED:20260129T230018Z
UID:10013494-1769698800-1769713200@www.thelinehotel.com
SUMMARY:No Goodbyes Happy Hour
DESCRIPTION:Monday-Saturday: 3pm – 7pm
URL:https://www.thelinehotel.com/event/no-goodbyes-happy-hour-1256/
LOCATION:The LINE DC\, 2468 Champlain St NW\, Washington\, DC\, 20009\, United States
CATEGORIES:food & drink,Washington DC
ATTACH;FMTTYPE=image/jpeg:https://www.thelinehotel.com/wp-content/uploads/2022/11/15103247/stepitup-e1649866664936-u0osfp.tmp_.jpg
END:VEVENT
BEGIN:VEVENT
DTSTART;TZID=America/Los_Angeles:20260129T150000
DTEND;TZID=America/Los_Angeles:20260129T190000
DTSTAMP:20260421T014902
CREATED:20260127T011529Z
LAST-MODIFIED:20260129T230020Z
UID:10013903-1769698800-1769713200@www.thelinehotel.com
SUMMARY:Happy Hour at Lobby Bar
DESCRIPTION:When you’re looking for the good stuff made simple\, Lobby Bar is your unpretentious hang with all the classics. Stop in for daily happy hour\, refreshing cocktails\, and an eclectic mix of bar snacks.
URL:https://www.thelinehotel.com/event/happy-hour-at-lobby-bar-465/
LOCATION:Lobby Bar
CATEGORIES:food & drink,Los Angeles
ATTACH;FMTTYPE=image/jpeg:https://www.thelinehotel.com/wp-content/uploads/2026/01/26171525/Lobby-Bar-Happy-Hour-Menu-FOho94.jpg
END:VEVENT
BEGIN:VEVENT
DTSTART;TZID=America/Chicago:20260129T173000
DTEND;TZID=America/Chicago:20260129T190000
DTSTAMP:20260421T014902
CREATED:20260106T003540Z
LAST-MODIFIED:20260129T231524Z
UID:10013577-1769707800-1769713200@www.thelinehotel.com
SUMMARY:Tarot in The Lobby
DESCRIPTION:Join us in the East Lobby for free tarot readings every Thursday from Megan at Jaguar High Priestess. First come\, first served (open to hotel guests only.) \nWith a larger group? It’s okay to bring your friends—we can accommodate up to six for a collective journey through the cosmos. 
URL:https://www.thelinehotel.com/event/tarot-in-the-lobby-80/
LOCATION:The LINE Austin\, 111 E Cesar Chavez St\, Austin\, TX\, 78701\, United States
CATEGORIES:Austin,Health & Wellness
ATTACH;FMTTYPE=image/jpeg:https://www.thelinehotel.com/wp-content/uploads/2023/11/02003235/Austin_TarotInTheLobby-pZcTab.tmp_.jpg
END:VEVENT
BEGIN:VEVENT
DTSTART;TZID=America/Los_Angeles:20260129T173000
DTEND;TZID=America/Los_Angeles:20260129T220000
DTSTAMP:20260421T014902
CREATED:20260106T185654Z
LAST-MODIFIED:20260112T183140Z
UID:10013593-1769707800-1769724000@www.thelinehotel.com
SUMMARY:Dine LA Restaurant Week Winter 2026
DESCRIPTION:Step into the lush greenery of Openaire and celebrate Dine LA Restaurant Week with our special 3-course menu. \nStart with grilled prawns with Aji Amarillo or ahi tuna tartare\, then indulge in grilled branzino or wild mushroom bolognese for your main course. Finish the evening on a sweet note with passion fruit crème brûlée or dulce de leche chocolate mousse. \nPrice: $55/per person \nNote: Dine LA Restaurant Week runs Jan. 23 – Feb. 6. Openaire serves this special menu for dinner Wednesday – Sunday\, 5:30pm – 10pm. \nView menu here
URL:https://www.thelinehotel.com/event/dine-la-restaurant-week-winter-2026-12/2026-01-29/
LOCATION:Openaire\, 3515 Wilshire Blvd\, Los Angeles\, CA\, 90010\, United States
CATEGORIES:food & drink,Los Angeles
ATTACH;FMTTYPE=image/jpeg:https://www.thelinehotel.com/wp-content/uploads/2026/01/06105407/Young-Beet-Salad-and-Hamachi-Crudo-1-DSC08365-e1767651264434.jpg
END:VEVENT
BEGIN:VEVENT
DTSTART;TZID=America/New_York:20260130T150000
DTEND;TZID=America/New_York:20260130T190000
DTSTAMP:20260421T014902
CREATED:20260102T223622Z
LAST-MODIFIED:20260130T230018Z
UID:10013495-1769785200-1769799600@www.thelinehotel.com
SUMMARY:No Goodbyes Happy Hour
DESCRIPTION:Monday-Saturday: 3pm – 7pm
URL:https://www.thelinehotel.com/event/no-goodbyes-happy-hour-1257/
LOCATION:The LINE DC\, 2468 Champlain St NW\, Washington\, DC\, 20009\, United States
CATEGORIES:food & drink,Washington DC
ATTACH;FMTTYPE=image/jpeg:https://www.thelinehotel.com/wp-content/uploads/2022/11/15103247/stepitup-e1649866664936-u0osfp.tmp_.jpg
END:VEVENT
BEGIN:VEVENT
DTSTART;TZID=America/Los_Angeles:20260130T150000
DTEND;TZID=America/Los_Angeles:20260130T190000
DTSTAMP:20260421T014902
CREATED:20260127T011532Z
LAST-MODIFIED:20260130T231519Z
UID:10013904-1769785200-1769799600@www.thelinehotel.com
SUMMARY:Happy Hour at Lobby Bar
DESCRIPTION:When you’re looking for the good stuff made simple\, Lobby Bar is your unpretentious hang with all the classics. Stop in for daily happy hour\, refreshing cocktails\, and an eclectic mix of bar snacks.
URL:https://www.thelinehotel.com/event/happy-hour-at-lobby-bar-563/
LOCATION:Lobby Bar
CATEGORIES:food & drink,Los Angeles
ATTACH;FMTTYPE=image/jpeg:https://www.thelinehotel.com/wp-content/uploads/2026/01/26171525/Lobby-Bar-Happy-Hour-Menu-FOho94.jpg
END:VEVENT
BEGIN:VEVENT
DTSTART;TZID=America/Los_Angeles:20260130T173000
DTEND;TZID=America/Los_Angeles:20260130T220000
DTSTAMP:20260421T014902
CREATED:20260106T185654Z
LAST-MODIFIED:20260112T183140Z
UID:10013594-1769794200-1769810400@www.thelinehotel.com
SUMMARY:Dine LA Restaurant Week Winter 2026
DESCRIPTION:Step into the lush greenery of Openaire and celebrate Dine LA Restaurant Week with our special 3-course menu. \nStart with grilled prawns with Aji Amarillo or ahi tuna tartare\, then indulge in grilled branzino or wild mushroom bolognese for your main course. Finish the evening on a sweet note with passion fruit crème brûlée or dulce de leche chocolate mousse. \nPrice: $55/per person \nNote: Dine LA Restaurant Week runs Jan. 23 – Feb. 6. Openaire serves this special menu for dinner Wednesday – Sunday\, 5:30pm – 10pm. \nView menu here
URL:https://www.thelinehotel.com/event/dine-la-restaurant-week-winter-2026-12/2026-01-30/
LOCATION:Openaire\, 3515 Wilshire Blvd\, Los Angeles\, CA\, 90010\, United States
CATEGORIES:food & drink,Los Angeles
ATTACH;FMTTYPE=image/jpeg:https://www.thelinehotel.com/wp-content/uploads/2026/01/06105407/Young-Beet-Salad-and-Hamachi-Crudo-1-DSC08365-e1767651264434.jpg
END:VEVENT
BEGIN:VEVENT
DTSTART;TZID=America/Chicago:20260131T090000
DTEND;TZID=America/Chicago:20260131T100000
DTSTAMP:20260421T014902
CREATED:20260103T011539Z
LAST-MODIFIED:20260219T114034Z
UID:10013554-1769850000-1769853600@www.thelinehotel.com
SUMMARY:Slow Flow Yoga
DESCRIPTION:Join us every Saturday morning for a slow-flow class to start the weekend right. 12/13/25 -03/07/26 will be taught on the 2nd floor in Topaz. \nTaught by Megan at Jaguar High Priestess. Mats provided.
URL:https://www.thelinehotel.com/event/slow-flow-yoga-227/
LOCATION:The LINE Austin\, 111 E Cesar Chavez St\, Austin\, TX\, 78701\, United States
CATEGORIES:Austin,Health & Wellness
ATTACH;FMTTYPE=image/jpeg:https://www.thelinehotel.com/wp-content/uploads/2024/10/29065015/Slow-Flow-Yoga-Update-Winter-2024-Website-Calendar-WcYEe8.tmp_.jpg
END:VEVENT
BEGIN:VEVENT
DTSTART;TZID=America/New_York:20260131T150000
DTEND;TZID=America/New_York:20260131T190000
DTSTAMP:20260421T014902
CREATED:20260102T223624Z
LAST-MODIFIED:20260131T235515Z
UID:10013496-1769871600-1769886000@www.thelinehotel.com
SUMMARY:No Goodbyes Happy Hour
DESCRIPTION:Monday-Saturday: 3pm – 7pm
URL:https://www.thelinehotel.com/event/no-goodbyes-happy-hour-1258/
LOCATION:The LINE DC\, 2468 Champlain St NW\, Washington\, DC\, 20009\, United States
CATEGORIES:food & drink,Washington DC
ATTACH;FMTTYPE=image/jpeg:https://www.thelinehotel.com/wp-content/uploads/2022/11/15103247/stepitup-e1649866664936-u0osfp.tmp_.jpg
END:VEVENT
BEGIN:VEVENT
DTSTART;TZID=America/Los_Angeles:20260131T150000
DTEND;TZID=America/Los_Angeles:20260131T190000
DTSTAMP:20260421T014902
CREATED:20260127T011534Z
LAST-MODIFIED:20260131T002021Z
UID:10013905-1769871600-1769886000@www.thelinehotel.com
SUMMARY:Happy Hour at Lobby Bar
DESCRIPTION:When you’re looking for the good stuff made simple\, Lobby Bar is your unpretentious hang with all the classics. Stop in for daily happy hour\, refreshing cocktails\, and an eclectic mix of bar snacks.
URL:https://www.thelinehotel.com/event/happy-hour-at-lobby-bar-564/
LOCATION:Lobby Bar
CATEGORIES:food & drink,Los Angeles
ATTACH;FMTTYPE=image/jpeg:https://www.thelinehotel.com/wp-content/uploads/2026/01/26171525/Lobby-Bar-Happy-Hour-Menu-FOho94.jpg
END:VEVENT
END:VCALENDAR