BEGIN:VCALENDAR
VERSION:2.0
PRODID:-//The LINE Hotels - ECPv6.13.2//NONSGML v1.0//EN
CALSCALE:GREGORIAN
METHOD:PUBLISH
X-ORIGINAL-URL:https://www.thelinehotel.com
X-WR-CALDESC:Events for The LINE Hotels
REFRESH-INTERVAL;VALUE=DURATION:PT1H
X-Robots-Tag:noindex
X-PUBLISHED-TTL:PT1H
BEGIN:VTIMEZONE
TZID:America/Los_Angeles
BEGIN:DAYLIGHT
TZOFFSETFROM:-0800
TZOFFSETTO:-0700
TZNAME:PDT
DTSTART:20260308T100000
END:DAYLIGHT
BEGIN:STANDARD
TZOFFSETFROM:-0700
TZOFFSETTO:-0800
TZNAME:PST
DTSTART:20261101T090000
END:STANDARD
END:VTIMEZONE
BEGIN:VTIMEZONE
TZID:America/Chicago
BEGIN:DAYLIGHT
TZOFFSETFROM:-0600
TZOFFSETTO:-0500
TZNAME:CDT
DTSTART:20260308T080000
END:DAYLIGHT
BEGIN:STANDARD
TZOFFSETFROM:-0500
TZOFFSETTO:-0600
TZNAME:CST
DTSTART:20261101T070000
END:STANDARD
END:VTIMEZONE
BEGIN:VTIMEZONE
TZID:America/Chicago
BEGIN:DAYLIGHT
TZOFFSETFROM:-0600
TZOFFSETTO:-0500
TZNAME:CDT
DTSTART:20260308T080000
END:DAYLIGHT
BEGIN:STANDARD
TZOFFSETFROM:-0500
TZOFFSETTO:-0600
TZNAME:CST
DTSTART:20261101T070000
END:STANDARD
END:VTIMEZONE
BEGIN:VTIMEZONE
TZID:America/New_York
BEGIN:DAYLIGHT
TZOFFSETFROM:-0500
TZOFFSETTO:-0400
TZNAME:EDT
DTSTART:20260308T070000
END:DAYLIGHT
BEGIN:STANDARD
TZOFFSETFROM:-0400
TZOFFSETTO:-0500
TZNAME:EST
DTSTART:20261101T060000
END:STANDARD
END:VTIMEZONE
BEGIN:VEVENT
DTSTART;TZID=America/Los_Angeles:20260510T150000
DTEND;TZID=America/Los_Angeles:20260510T190000
DTSTAMP:20260421T095350
CREATED:20260210T170342Z
LAST-MODIFIED:20260421T162102Z
UID:10014028-1778425200-1778439600@www.thelinehotel.com
SUMMARY:Happy Hour at Lobby Bar
DESCRIPTION:When you’re looking for the good stuff made simple\, Lobby Bar is your unpretentious hang with all the classics. Stop in for daily happy hour\, refreshing cocktails\, and an eclectic mix of bar snacks.
URL:https://www.thelinehotel.com/event/happy-hour-at-lobby-bar-767/
LOCATION:Lobby Bar
CATEGORIES:food & drink,Los Angeles
ATTACH;FMTTYPE=image/webp:https://www.thelinehotel.com/wp-content/uploads/2026/02/19115528/Lobby-Bar-Happy-Hour-Menu-A26GKz.webp
END:VEVENT
BEGIN:VEVENT
DTSTART;TZID=America/Chicago:20260510T160000
DTEND;TZID=America/Chicago:20260510T230000
DTSTAMP:20260421T095350
CREATED:20260209T010658Z
LAST-MODIFIED:20260421T162039Z
UID:10014016-1778428800-1778454000@www.thelinehotel.com
SUMMARY:Sip Well Sundays
DESCRIPTION:\,lWine down from the weekend with $20 off bottles of wine — every Sunday evening at P6.
URL:https://www.thelinehotel.com/event/sip-well-sundays-135/
LOCATION:P6 at the LINE Austin\, 111 E Cesar Chavez St\, Austin\, Texas\, 78701
CATEGORIES:Austin,food & drink
ATTACH;FMTTYPE=image/webp:https://www.thelinehotel.com/wp-content/uploads/2026/03/12060040/MUR_7967-opt-2DxOw7.webp
END:VEVENT
BEGIN:VEVENT
DTSTART;TZID=America/Chicago:20260511T080000
DTEND;TZID=America/Chicago:20260511T090000
DTSTAMP:20260421T095350
CREATED:20260210T010202Z
LAST-MODIFIED:20260421T162040Z
UID:10014017-1778486400-1778490000@www.thelinehotel.com
SUMMARY:Morning Brew with Alfred
DESCRIPTION:Join us at the lobby every Monday morning for complimentary drip coffee or cold brew from Alfred\, plus views of Lady Bird Lake from under sprawling\, shady oaks.
URL:https://www.thelinehotel.com/event/morning-brew-with-alfred-106/
LOCATION:The LINE Austin\, 111 E Cesar Chavez St\, Austin\, TX\, 78701\, United States
CATEGORIES:Austin,food & drink
ATTACH;FMTTYPE=image/webp:https://www.thelinehotel.com/wp-content/uploads/2025/11/17090025/alfred-coffee-stacked-ItzEP6.tmp_-mLxNWL.webp
END:VEVENT
BEGIN:VEVENT
DTSTART;TZID=America/Los_Angeles:20260511T150000
DTEND;TZID=America/Los_Angeles:20260511T190000
DTSTAMP:20260421T095350
CREATED:20260210T170343Z
LAST-MODIFIED:20260421T162103Z
UID:10014029-1778511600-1778526000@www.thelinehotel.com
SUMMARY:Happy Hour at Lobby Bar
DESCRIPTION:When you’re looking for the good stuff made simple\, Lobby Bar is your unpretentious hang with all the classics. Stop in for daily happy hour\, refreshing cocktails\, and an eclectic mix of bar snacks.
URL:https://www.thelinehotel.com/event/happy-hour-at-lobby-bar-768/
LOCATION:Lobby Bar
CATEGORIES:food & drink,Los Angeles
ATTACH;FMTTYPE=image/webp:https://www.thelinehotel.com/wp-content/uploads/2026/02/19115528/Lobby-Bar-Happy-Hour-Menu-A26GKz.webp
END:VEVENT
BEGIN:VEVENT
DTSTART;TZID=America/New_York:20260513T150000
DTEND;TZID=America/New_York:20260513T190000
DTSTAMP:20260421T095350
CREATED:20260212T002724Z
LAST-MODIFIED:20260421T165104Z
UID:10014033-1778684400-1778698800@www.thelinehotel.com
SUMMARY:No Goodbyes Happy Hour
DESCRIPTION:Monday-Saturday: 3pm – 7pm
URL:https://www.thelinehotel.com/event/no-goodbyes-happy-hour-1335/
LOCATION:The LINE DC\, 2468 Champlain St NW\, Washington\, DC\, 20009\, United States
CATEGORIES:food & drink,Washington DC
ATTACH;FMTTYPE=image/jpeg:https://www.thelinehotel.com/wp-content/uploads/2022/11/15103247/stepitup-e1649866664936-u0osfp.tmp_.jpg
END:VEVENT
BEGIN:VEVENT
DTSTART;TZID=America/New_York:20260513T163000
DTEND;TZID=America/New_York:20260513T203000
DTSTAMP:20260421T095350
CREATED:20260402T015702Z
LAST-MODIFIED:20260421T165118Z
UID:10014238-1778689800-1778704200@www.thelinehotel.com
SUMMARY:Pour Decisions at No Goodbyes
DESCRIPTION:Pour Decisions is your midweek excuse to head over to No Goodbyes\, slow down\, and ease into the evening with stunning rooftop views. On Wednesdays from 4:30PM to 8:30PM\, enjoy featured sundown spritzes alongside happy hour cocktails\, beer\, and wine. As the night picks up\, explore last-call wine cellar bottles for $40 and discover something new to love. \nNo RSVP Required
URL:https://www.thelinehotel.com/event/pour-decisions-at-no-goodbyes-5/
LOCATION:The LINE DC\, 2468 Champlain St NW\, Washington\, DC\, 20009\, United States
CATEGORIES:food & drink,Washington DC
ATTACH;FMTTYPE=image/webp:https://www.thelinehotel.com/wp-content/uploads/2026/04/02094050/18_TheLINE_DC_by_Anna-AlexiaBasile-BPVTf2.webp
END:VEVENT
BEGIN:VEVENT
DTSTART;TZID=America/New_York:20260514T150000
DTEND;TZID=America/New_York:20260514T190000
DTSTAMP:20260421T095350
CREATED:20260213T005231Z
LAST-MODIFIED:20260421T165119Z
UID:10014036-1778770800-1778785200@www.thelinehotel.com
SUMMARY:No Goodbyes Happy Hour
DESCRIPTION:Monday-Saturday: 3pm – 7pm
URL:https://www.thelinehotel.com/event/no-goodbyes-happy-hour-842/
LOCATION:The LINE DC\, 2468 Champlain St NW\, Washington\, DC\, 20009\, United States
CATEGORIES:food & drink,Washington DC
ATTACH;FMTTYPE=image/jpeg:https://www.thelinehotel.com/wp-content/uploads/2022/11/15103247/stepitup-e1649866664936-u0osfp.tmp_.jpg
END:VEVENT
BEGIN:VEVENT
DTSTART;TZID=America/Chicago:20260514T160000
DTEND;TZID=America/Chicago:20260514T210000
DTSTAMP:20260421T095350
CREATED:20260213T005156Z
LAST-MODIFIED:20260421T162041Z
UID:10014034-1778774400-1778792400@www.thelinehotel.com
SUMMARY:‘Agave After Work’ Happy Hour
DESCRIPTION:Join us at Cantero for Agave After Work\, a weekly celebration of the desert’s bold flavors and the vibrant energy of downtown Austin. Every week\, we’re serving up refreshing drink specials as a tribute to the spirits of the desert—sotol and agave—alongside mouthwatering Veracruz tacos. Our curated musicians’ sets or live music bring the perfect mix of ambient rhythms\, creating a relaxed yet lively atmosphere for you to unwind with friends after a long day of work. Whether you’re here to sip\, savor\, or soak in the festive vibes\, Agave After Work is the ultimate way to unwind and kick off your evening. \n  \nView the Happy Hour Menu HERE.
URL:https://www.thelinehotel.com/event/agave-after-work-happy-hour-27/
LOCATION:Cantero\, 111 E Cesar Chavez St\, Austin\, TX\, 78701\, United States
CATEGORIES:Austin,food & drink,Music & Entertainment
ATTACH;FMTTYPE=image/webp:https://www.thelinehotel.com/wp-content/uploads/2025/10/14043026/2024.10_JadeHammer_Opening_-105-6e1aib.webp
END:VEVENT
BEGIN:VEVENT
DTSTART;TZID=America/New_York:20260515T150000
DTEND;TZID=America/New_York:20260515T190000
DTSTAMP:20260421T095350
CREATED:20260214T003723Z
LAST-MODIFIED:20260421T165119Z
UID:10014039-1778857200-1778871600@www.thelinehotel.com
SUMMARY:No Goodbyes Happy Hour
DESCRIPTION:Monday-Saturday: 3pm – 7pm
URL:https://www.thelinehotel.com/event/no-goodbyes-happy-hour-1336/
LOCATION:The LINE DC\, 2468 Champlain St NW\, Washington\, DC\, 20009\, United States
CATEGORIES:food & drink,Washington DC
ATTACH;FMTTYPE=image/jpeg:https://www.thelinehotel.com/wp-content/uploads/2022/11/15103247/stepitup-e1649866664936-u0osfp.tmp_.jpg
END:VEVENT
BEGIN:VEVENT
DTSTART;TZID=America/Chicago:20260516T090000
DTEND;TZID=America/Chicago:20260516T100000
DTSTAMP:20260421T095350
CREATED:20260321T011646Z
LAST-MODIFIED:20260421T162054Z
UID:10014169-1778922000-1778925600@www.thelinehotel.com
SUMMARY:Slow Flow Yoga
DESCRIPTION:Join us every Saturday morning for a slow-flow class to start the weekend right. Taught by Megan at Jaguar High Priestess. Mats provided.
URL:https://www.thelinehotel.com/event/slow-flow-yoga-239/
LOCATION:The LINE Austin\, 111 E Cesar Chavez St\, Austin\, TX\, 78701\, United States
CATEGORIES:Austin,Health & Wellness
ATTACH;FMTTYPE=image/webp:https://www.thelinehotel.com/wp-content/uploads/2025/12/01024024/Slow-Flow-Yoga-Update-Winter-2024-Website-Calendar-hluM3H.webp
END:VEVENT
BEGIN:VEVENT
DTSTART;TZID=America/New_York:20260516T090000
DTEND;TZID=America/New_York:20260516T140000
DTSTAMP:20260421T095350
CREATED:20260324T213731Z
LAST-MODIFIED:20260421T165120Z
UID:10014198-1778922000-1778940000@www.thelinehotel.com
SUMMARY:Weekend Brunch at No Goodbyes
DESCRIPTION:Gather your people and make it a moment. Every Saturday and Sunday from 9am to 2pm\, No Goodbyes is the place to slow down\, catch up\, and indulge\, surrounded by the stunning light of our gorgeous space\, once a 110-year-old neoclassical church. \nKick things off with a handcrafted cocktail (or two) and settle in for a menu that’s equal parts comforting and craveable. Think Challah French Toast with dulce de leche and whipped cream\, a Chorizo Hangover Hash loaded with peppers\, avocado\, and fried eggs\, or a classic Benedict elevated with smoked salmon. From classics done right to something a little more decadent\, there’s something for every mood and every member of the crew. \nWe’re here morning\, noon\, and night in Adams Morgan. Come as you are\, stay as long as you’d like.
URL:https://www.thelinehotel.com/event/weekend-brunch-at-no-goodbyes-238/
LOCATION:No Goodbyes
CATEGORIES:food & drink,Washington DC
ATTACH;FMTTYPE=image/jpeg:https://www.thelinehotel.com/wp-content/uploads/2026/03/24143529/20251015_TheLineHotel_holiday_selects-26-scaled-B32yGG.jpg
END:VEVENT
BEGIN:VEVENT
DTSTART;TZID=America/Los_Angeles:20260516T100000
DTEND;TZID=America/Los_Angeles:20260516T143000
DTSTAMP:20260421T095350
CREATED:20260316T205747Z
LAST-MODIFIED:20260421T162119Z
UID:10014142-1778925600-1778941800@www.thelinehotel.com
SUMMARY:Weekend Brunch at Openaire
DESCRIPTION:There’s no better way to do the weekend than a long\, unhurried brunch. \nOur weekend brunch menu is crafted to satisfy every craving\, whether you’re starting light with our Coconut and Chia Pudding or going all-in with the Hibachi-Grilled Hanger Steak and Eggs. From classic Eggs Benedict and Huevos Rancheros to the Corn Flake-Crusted French Toast drizzled with yuzu-berry compote\, there’s something for everyone at the table. Pull up a chair\, take your time\, and let brunch be the best part of your weekend. \nView brunch menu here
URL:https://www.thelinehotel.com/event/weekend-brunch-at-openaire-17/
LOCATION:Openaire\, 3515 Wilshire Blvd\, Los Angeles\, CA\, 90010\, United States
CATEGORIES:food & drink,Los Angeles
ATTACH;FMTTYPE=image/webp:https://www.thelinehotel.com/wp-content/uploads/2026/03/16135528/Openaire_edits-35_2023_Jayna-GWmqiT.webp
END:VEVENT
BEGIN:VEVENT
DTSTART;TZID=America/New_York:20260516T150000
DTEND;TZID=America/New_York:20260516T190000
DTSTAMP:20260421T095350
CREATED:20260215T002228Z
LAST-MODIFIED:20260421T165121Z
UID:10014040-1778943600-1778958000@www.thelinehotel.com
SUMMARY:No Goodbyes Happy Hour
DESCRIPTION:Monday-Saturday: 3pm – 7pm
URL:https://www.thelinehotel.com/event/no-goodbyes-happy-hour-1337/
LOCATION:The LINE DC\, 2468 Champlain St NW\, Washington\, DC\, 20009\, United States
CATEGORIES:food & drink,Washington DC
ATTACH;FMTTYPE=image/jpeg:https://www.thelinehotel.com/wp-content/uploads/2022/11/15103247/stepitup-e1649866664936-u0osfp.tmp_.jpg
END:VEVENT
BEGIN:VEVENT
DTSTART;TZID=America/New_York:20260517T090000
DTEND;TZID=America/New_York:20260517T140000
DTSTAMP:20260421T095350
CREATED:20260324T213732Z
LAST-MODIFIED:20260421T165121Z
UID:10014199-1779008400-1779026400@www.thelinehotel.com
SUMMARY:Weekend Brunch at No Goodbyes
DESCRIPTION:Gather your people and make it a moment. Every Saturday and Sunday from 9am to 2pm\, No Goodbyes is the place to slow down\, catch up\, and indulge\, surrounded by the stunning light of our gorgeous space\, once a 110-year-old neoclassical church. \nKick things off with a handcrafted cocktail (or two) and settle in for a menu that’s equal parts comforting and craveable. Think Challah French Toast with dulce de leche and whipped cream\, a Chorizo Hangover Hash loaded with peppers\, avocado\, and fried eggs\, or a classic Benedict elevated with smoked salmon. From classics done right to something a little more decadent\, there’s something for every mood and every member of the crew. \nWe’re here morning\, noon\, and night in Adams Morgan. Come as you are\, stay as long as you’d like.
URL:https://www.thelinehotel.com/event/weekend-brunch-at-no-goodbyes-239/
LOCATION:No Goodbyes
CATEGORIES:food & drink,Washington DC
ATTACH;FMTTYPE=image/jpeg:https://www.thelinehotel.com/wp-content/uploads/2026/03/24143529/20251015_TheLineHotel_holiday_selects-26-scaled-B32yGG.jpg
END:VEVENT
BEGIN:VEVENT
DTSTART;TZID=America/Los_Angeles:20260517T100000
DTEND;TZID=America/Los_Angeles:20260517T143000
DTSTAMP:20260421T095350
CREATED:20260316T205749Z
LAST-MODIFIED:20260421T162120Z
UID:10014143-1779012000-1779028200@www.thelinehotel.com
SUMMARY:Weekend Brunch at Openaire
DESCRIPTION:There’s no better way to do the weekend than a long\, unhurried brunch. \nOur weekend brunch menu is crafted to satisfy every craving\, whether you’re starting light with our Coconut and Chia Pudding or going all-in with the Hibachi-Grilled Hanger Steak and Eggs. From classic Eggs Benedict and Huevos Rancheros to the Corn Flake-Crusted French Toast drizzled with yuzu-berry compote\, there’s something for everyone at the table. Pull up a chair\, take your time\, and let brunch be the best part of your weekend. \nView brunch menu here
URL:https://www.thelinehotel.com/event/weekend-brunch-at-openaire-18/
LOCATION:Openaire\, 3515 Wilshire Blvd\, Los Angeles\, CA\, 90010\, United States
CATEGORIES:food & drink,Los Angeles
ATTACH;FMTTYPE=image/webp:https://www.thelinehotel.com/wp-content/uploads/2026/03/16135528/Openaire_edits-35_2023_Jayna-GWmqiT.webp
END:VEVENT
BEGIN:VEVENT
DTSTART;TZID=America/New_York:20260518T150000
DTEND;TZID=America/New_York:20260518T190000
DTSTAMP:20260421T095350
CREATED:20260217T005720Z
LAST-MODIFIED:20260421T165122Z
UID:10014046-1779116400-1779130800@www.thelinehotel.com
SUMMARY:No Goodbyes Happy Hour
DESCRIPTION:Monday-Saturday: 3pm – 7pm
URL:https://www.thelinehotel.com/event/no-goodbyes-happy-hour-1214/
LOCATION:The LINE DC\, 2468 Champlain St NW\, Washington\, DC\, 20009\, United States
CATEGORIES:food & drink,Washington DC
ATTACH;FMTTYPE=image/jpeg:https://www.thelinehotel.com/wp-content/uploads/2022/11/15103247/stepitup-e1649866664936-u0osfp.tmp_.jpg
END:VEVENT
BEGIN:VEVENT
DTSTART;TZID=America/New_York:20260519T150000
DTEND;TZID=America/New_York:20260519T190000
DTSTAMP:20260421T095350
CREATED:20260218T001236Z
LAST-MODIFIED:20260421T165123Z
UID:10014050-1779202800-1779217200@www.thelinehotel.com
SUMMARY:No Goodbyes Happy Hour
DESCRIPTION:Monday-Saturday: 3pm – 7pm
URL:https://www.thelinehotel.com/event/no-goodbyes-happy-hour-1244/
LOCATION:The LINE DC\, 2468 Champlain St NW\, Washington\, DC\, 20009\, United States
CATEGORIES:food & drink,Washington DC
ATTACH;FMTTYPE=image/jpeg:https://www.thelinehotel.com/wp-content/uploads/2022/11/15103247/stepitup-e1649866664936-u0osfp.tmp_.jpg
END:VEVENT
BEGIN:VEVENT
DTSTART;TZID=America/New_York:20260520T163000
DTEND;TZID=America/New_York:20260520T203000
DTSTAMP:20260421T095350
CREATED:20260402T015719Z
LAST-MODIFIED:20260421T165124Z
UID:10014239-1779294600-1779309000@www.thelinehotel.com
SUMMARY:Pour Decisions at No Goodbyes
DESCRIPTION:Pour Decisions is your midweek excuse to head over to No Goodbyes\, slow down\, and ease into the evening with stunning rooftop views. On Wednesdays from 4:30PM to 8:30PM\, enjoy featured sundown spritzes alongside happy hour cocktails\, beer\, and wine. As the night picks up\, explore last-call wine cellar bottles for $40 and discover something new to love. \nNo RSVP Required
URL:https://www.thelinehotel.com/event/pour-decisions-at-no-goodbyes-6/
LOCATION:The LINE DC\, 2468 Champlain St NW\, Washington\, DC\, 20009\, United States
CATEGORIES:food & drink,Washington DC
ATTACH;FMTTYPE=image/webp:https://www.thelinehotel.com/wp-content/uploads/2026/04/02094050/18_TheLINE_DC_by_Anna-AlexiaBasile-BPVTf2.webp
END:VEVENT
BEGIN:VEVENT
DTSTART;TZID=America/Los_Angeles:20260521T150000
DTEND;TZID=America/Los_Angeles:20260521T190000
DTSTAMP:20260421T095350
CREATED:20260220T003313Z
LAST-MODIFIED:20260421T162123Z
UID:10014056-1779375600-1779390000@www.thelinehotel.com
SUMMARY:Happy Hour at Lobby Bar
DESCRIPTION:When you’re looking for the good stuff made simple\, Lobby Bar is your unpretentious hang with all the classics. Stop in for daily happy hour\, refreshing cocktails\, and an eclectic mix of bar snacks.
URL:https://www.thelinehotel.com/event/happy-hour-at-lobby-bar-64/
LOCATION:Lobby Bar
CATEGORIES:food & drink,Los Angeles
ATTACH;FMTTYPE=image/webp:https://www.thelinehotel.com/wp-content/uploads/2026/02/19115528/Lobby-Bar-Happy-Hour-Menu-A26GKz.webp
END:VEVENT
BEGIN:VEVENT
DTSTART;TZID=America/New_York:20260521T150000
DTEND;TZID=America/New_York:20260521T190000
DTSTAMP:20260421T095350
CREATED:20260220T011732Z
LAST-MODIFIED:20260421T165137Z
UID:10014057-1779375600-1779390000@www.thelinehotel.com
SUMMARY:No Goodbyes Happy Hour
DESCRIPTION:Monday-Saturday: 3pm – 7pm
URL:https://www.thelinehotel.com/event/no-goodbyes-happy-hour-1338/
LOCATION:The LINE DC\, 2468 Champlain St NW\, Washington\, DC\, 20009\, United States
CATEGORIES:food & drink,Washington DC
ATTACH;FMTTYPE=image/jpeg:https://www.thelinehotel.com/wp-content/uploads/2022/11/15103247/stepitup-e1649866664936-u0osfp.tmp_.jpg
END:VEVENT
BEGIN:VEVENT
DTSTART;TZID=America/Chicago:20260521T173000
DTEND;TZID=America/Chicago:20260521T190000
DTSTAMP:20260421T095350
CREATED:20260220T000215Z
LAST-MODIFIED:20260421T162056Z
UID:10014055-1779384600-1779390000@www.thelinehotel.com
SUMMARY:Tarot in The Lobby
DESCRIPTION:Join us in the East Lobby for free tarot readings every Thursday from Megan at Jaguar High Priestess. First come\, first served (open to hotel guests only.) \nWith a larger group? It’s okay to bring your friends—we can accommodate up to six for a collective journey through the cosmos. 
URL:https://www.thelinehotel.com/event/tarot-in-the-lobby-96/
LOCATION:The LINE Austin\, 111 E Cesar Chavez St\, Austin\, TX\, 78701\, United States
CATEGORIES:Austin,Health & Wellness
ATTACH;FMTTYPE=image/jpeg:https://www.thelinehotel.com/wp-content/uploads/2023/11/02003235/Austin_TarotInTheLobby-pZcTab.tmp_.jpg
END:VEVENT
BEGIN:VEVENT
DTSTART;TZID=America/Los_Angeles:20260522T150000
DTEND;TZID=America/Los_Angeles:20260522T190000
DTSTAMP:20260421T095350
CREATED:20260221T002817Z
LAST-MODIFIED:20260421T162136Z
UID:10014058-1779462000-1779476400@www.thelinehotel.com
SUMMARY:Happy Hour at Lobby Bar
DESCRIPTION:When you’re looking for the good stuff made simple\, Lobby Bar is your unpretentious hang with all the classics. Stop in for daily happy hour\, refreshing cocktails\, and an eclectic mix of bar snacks.
URL:https://www.thelinehotel.com/event/happy-hour-at-lobby-bar-558/
LOCATION:Lobby Bar
CATEGORIES:food & drink,Los Angeles
ATTACH;FMTTYPE=image/webp:https://www.thelinehotel.com/wp-content/uploads/2026/02/19115528/Lobby-Bar-Happy-Hour-Menu-A26GKz.webp
END:VEVENT
BEGIN:VEVENT
DTSTART;TZID=America/New_York:20260522T150000
DTEND;TZID=America/New_York:20260522T190000
DTSTAMP:20260421T095350
CREATED:20260221T005738Z
LAST-MODIFIED:20260421T165138Z
UID:10014059-1779462000-1779476400@www.thelinehotel.com
SUMMARY:No Goodbyes Happy Hour
DESCRIPTION:Monday-Saturday: 3pm – 7pm
URL:https://www.thelinehotel.com/event/no-goodbyes-happy-hour-1339/
LOCATION:The LINE DC\, 2468 Champlain St NW\, Washington\, DC\, 20009\, United States
CATEGORIES:food & drink,Washington DC
ATTACH;FMTTYPE=image/jpeg:https://www.thelinehotel.com/wp-content/uploads/2022/11/15103247/stepitup-e1649866664936-u0osfp.tmp_.jpg
END:VEVENT
BEGIN:VEVENT
DTSTART;TZID=America/Chicago:20260523T090000
DTEND;TZID=America/Chicago:20260523T100000
DTSTAMP:20260421T095350
CREATED:20260321T011650Z
LAST-MODIFIED:20260421T162057Z
UID:10014170-1779526800-1779530400@www.thelinehotel.com
SUMMARY:Slow Flow Yoga
DESCRIPTION:Join us every Saturday morning for a slow-flow class to start the weekend right. Taught by Megan at Jaguar High Priestess. Mats provided.
URL:https://www.thelinehotel.com/event/slow-flow-yoga-240/
LOCATION:The LINE Austin\, 111 E Cesar Chavez St\, Austin\, TX\, 78701\, United States
CATEGORIES:Austin,Health & Wellness
ATTACH;FMTTYPE=image/webp:https://www.thelinehotel.com/wp-content/uploads/2025/12/01024024/Slow-Flow-Yoga-Update-Winter-2024-Website-Calendar-hluM3H.webp
END:VEVENT
BEGIN:VEVENT
DTSTART;TZID=America/New_York:20260523T090000
DTEND;TZID=America/New_York:20260523T140000
DTSTAMP:20260421T095350
CREATED:20260324T213737Z
LAST-MODIFIED:20260421T165138Z
UID:10014200-1779526800-1779544800@www.thelinehotel.com
SUMMARY:Weekend Brunch at No Goodbyes
DESCRIPTION:Gather your people and make it a moment. Every Saturday and Sunday from 9am to 2pm\, No Goodbyes is the place to slow down\, catch up\, and indulge\, surrounded by the stunning light of our gorgeous space\, once a 110-year-old neoclassical church. \nKick things off with a handcrafted cocktail (or two) and settle in for a menu that’s equal parts comforting and craveable. Think Challah French Toast with dulce de leche and whipped cream\, a Chorizo Hangover Hash loaded with peppers\, avocado\, and fried eggs\, or a classic Benedict elevated with smoked salmon. From classics done right to something a little more decadent\, there’s something for every mood and every member of the crew. \nWe’re here morning\, noon\, and night in Adams Morgan. Come as you are\, stay as long as you’d like.
URL:https://www.thelinehotel.com/event/weekend-brunch-at-no-goodbyes-240/
LOCATION:No Goodbyes
CATEGORIES:food & drink,Washington DC
ATTACH;FMTTYPE=image/jpeg:https://www.thelinehotel.com/wp-content/uploads/2026/03/24143529/20251015_TheLineHotel_holiday_selects-26-scaled-B32yGG.jpg
END:VEVENT
BEGIN:VEVENT
DTSTART;TZID=America/Los_Angeles:20260523T100000
DTEND;TZID=America/Los_Angeles:20260523T143000
DTSTAMP:20260421T095350
CREATED:20260316T205806Z
LAST-MODIFIED:20260421T162137Z
UID:10014144-1779530400-1779546600@www.thelinehotel.com
SUMMARY:Weekend Brunch at Openaire
DESCRIPTION:There’s no better way to do the weekend than a long\, unhurried brunch. \nOur weekend brunch menu is crafted to satisfy every craving\, whether you’re starting light with our Coconut and Chia Pudding or going all-in with the Hibachi-Grilled Hanger Steak and Eggs. From classic Eggs Benedict and Huevos Rancheros to the Corn Flake-Crusted French Toast drizzled with yuzu-berry compote\, there’s something for everyone at the table. Pull up a chair\, take your time\, and let brunch be the best part of your weekend. \nView brunch menu here
URL:https://www.thelinehotel.com/event/weekend-brunch-at-openaire-19/
LOCATION:Openaire\, 3515 Wilshire Blvd\, Los Angeles\, CA\, 90010\, United States
CATEGORIES:food & drink,Los Angeles
ATTACH;FMTTYPE=image/webp:https://www.thelinehotel.com/wp-content/uploads/2026/03/16135528/Openaire_edits-35_2023_Jayna-GWmqiT.webp
END:VEVENT
BEGIN:VEVENT
DTSTART;TZID=America/New_York:20260523T150000
DTEND;TZID=America/New_York:20260523T190000
DTSTAMP:20260421T095350
CREATED:20260222T000735Z
LAST-MODIFIED:20260421T165139Z
UID:10014060-1779548400-1779562800@www.thelinehotel.com
SUMMARY:No Goodbyes Happy Hour
DESCRIPTION:Monday-Saturday: 3pm – 7pm
URL:https://www.thelinehotel.com/event/no-goodbyes-happy-hour-1340/
LOCATION:The LINE DC\, 2468 Champlain St NW\, Washington\, DC\, 20009\, United States
CATEGORIES:food & drink,Washington DC
ATTACH;FMTTYPE=image/jpeg:https://www.thelinehotel.com/wp-content/uploads/2022/11/15103247/stepitup-e1649866664936-u0osfp.tmp_.jpg
END:VEVENT
BEGIN:VEVENT
DTSTART;TZID=America/Los_Angeles:20260523T150000
DTEND;TZID=America/Los_Angeles:20260523T190000
DTSTAMP:20260421T095350
CREATED:20260222T005314Z
LAST-MODIFIED:20260421T162137Z
UID:10014061-1779548400-1779562800@www.thelinehotel.com
SUMMARY:Happy Hour at Lobby Bar
DESCRIPTION:When you’re looking for the good stuff made simple\, Lobby Bar is your unpretentious hang with all the classics. Stop in for daily happy hour\, refreshing cocktails\, and an eclectic mix of bar snacks.
URL:https://www.thelinehotel.com/event/happy-hour-at-lobby-bar-778/
LOCATION:Lobby Bar
CATEGORIES:food & drink,Los Angeles
ATTACH;FMTTYPE=image/webp:https://www.thelinehotel.com/wp-content/uploads/2026/02/19115528/Lobby-Bar-Happy-Hour-Menu-A26GKz.webp
END:VEVENT
BEGIN:VEVENT
DTSTART;TZID=America/New_York:20260524T090000
DTEND;TZID=America/New_York:20260524T140000
DTSTAMP:20260421T095350
CREATED:20260324T213752Z
LAST-MODIFIED:20260421T165139Z
UID:10014201-1779613200-1779631200@www.thelinehotel.com
SUMMARY:Weekend Brunch at No Goodbyes
DESCRIPTION:Gather your people and make it a moment. Every Saturday and Sunday from 9am to 2pm\, No Goodbyes is the place to slow down\, catch up\, and indulge\, surrounded by the stunning light of our gorgeous space\, once a 110-year-old neoclassical church. \nKick things off with a handcrafted cocktail (or two) and settle in for a menu that’s equal parts comforting and craveable. Think Challah French Toast with dulce de leche and whipped cream\, a Chorizo Hangover Hash loaded with peppers\, avocado\, and fried eggs\, or a classic Benedict elevated with smoked salmon. From classics done right to something a little more decadent\, there’s something for every mood and every member of the crew. \nWe’re here morning\, noon\, and night in Adams Morgan. Come as you are\, stay as long as you’d like.
URL:https://www.thelinehotel.com/event/weekend-brunch-at-no-goodbyes-241/
LOCATION:No Goodbyes
CATEGORIES:food & drink,Washington DC
ATTACH;FMTTYPE=image/jpeg:https://www.thelinehotel.com/wp-content/uploads/2026/03/24143529/20251015_TheLineHotel_holiday_selects-26-scaled-B32yGG.jpg
END:VEVENT
BEGIN:VEVENT
DTSTART;TZID=America/Los_Angeles:20260524T100000
DTEND;TZID=America/Los_Angeles:20260524T143000
DTSTAMP:20260421T095350
CREATED:20260316T205807Z
LAST-MODIFIED:20260421T162138Z
UID:10014145-1779616800-1779633000@www.thelinehotel.com
SUMMARY:Weekend Brunch at Openaire
DESCRIPTION:There’s no better way to do the weekend than a long\, unhurried brunch. \nOur weekend brunch menu is crafted to satisfy every craving\, whether you’re starting light with our Coconut and Chia Pudding or going all-in with the Hibachi-Grilled Hanger Steak and Eggs. From classic Eggs Benedict and Huevos Rancheros to the Corn Flake-Crusted French Toast drizzled with yuzu-berry compote\, there’s something for everyone at the table. Pull up a chair\, take your time\, and let brunch be the best part of your weekend. \nView brunch menu here
URL:https://www.thelinehotel.com/event/weekend-brunch-at-openaire-20/
LOCATION:Openaire\, 3515 Wilshire Blvd\, Los Angeles\, CA\, 90010\, United States
CATEGORIES:food & drink,Los Angeles
ATTACH;FMTTYPE=image/webp:https://www.thelinehotel.com/wp-content/uploads/2026/03/16135528/Openaire_edits-35_2023_Jayna-GWmqiT.webp
END:VEVENT
END:VCALENDAR