BEGIN:VCALENDAR
VERSION:2.0
PRODID:-//The LINE Hotels - ECPv6.13.2//NONSGML v1.0//EN
CALSCALE:GREGORIAN
METHOD:PUBLISH
X-ORIGINAL-URL:https://www.thelinehotel.com
X-WR-CALDESC:Events for The LINE Hotels
REFRESH-INTERVAL;VALUE=DURATION:PT1H
X-Robots-Tag:noindex
X-PUBLISHED-TTL:PT1H
BEGIN:VTIMEZONE
TZID:America/New_York
BEGIN:DAYLIGHT
TZOFFSETFROM:-0500
TZOFFSETTO:-0400
TZNAME:EDT
DTSTART:20260308T070000
END:DAYLIGHT
BEGIN:STANDARD
TZOFFSETFROM:-0400
TZOFFSETTO:-0500
TZNAME:EST
DTSTART:20261101T060000
END:STANDARD
END:VTIMEZONE
BEGIN:VTIMEZONE
TZID:America/Los_Angeles
BEGIN:DAYLIGHT
TZOFFSETFROM:-0800
TZOFFSETTO:-0700
TZNAME:PDT
DTSTART:20260308T100000
END:DAYLIGHT
BEGIN:STANDARD
TZOFFSETFROM:-0700
TZOFFSETTO:-0800
TZNAME:PST
DTSTART:20261101T090000
END:STANDARD
END:VTIMEZONE
BEGIN:VTIMEZONE
TZID:America/Chicago
BEGIN:DAYLIGHT
TZOFFSETFROM:-0600
TZOFFSETTO:-0500
TZNAME:CDT
DTSTART:20260308T080000
END:DAYLIGHT
BEGIN:STANDARD
TZOFFSETFROM:-0500
TZOFFSETTO:-0600
TZNAME:CST
DTSTART:20261101T070000
END:STANDARD
END:VTIMEZONE
BEGIN:VTIMEZONE
TZID:America/Chicago
BEGIN:DAYLIGHT
TZOFFSETFROM:-0600
TZOFFSETTO:-0500
TZNAME:CDT
DTSTART:20260308T080000
END:DAYLIGHT
BEGIN:STANDARD
TZOFFSETFROM:-0500
TZOFFSETTO:-0600
TZNAME:CST
DTSTART:20261101T070000
END:STANDARD
END:VTIMEZONE
BEGIN:VEVENT
DTSTART;TZID=America/New_York:20260624T150000
DTEND;TZID=America/New_York:20260624T190000
DTSTAMP:20260422T213216
CREATED:20260326T042308Z
LAST-MODIFIED:20260423T042738Z
UID:10014212-1782313200-1782327600@www.thelinehotel.com
SUMMARY:No Goodbyes Happy Hour
DESCRIPTION:Monday-Saturday: 3pm – 7pm
URL:https://www.thelinehotel.com/event/no-goodbyes-happy-hour-1352/
LOCATION:The LINE DC\, 2468 Champlain St NW\, Washington\, DC\, 20009\, United States
CATEGORIES:food & drink,Washington DC
ATTACH;FMTTYPE=image/jpeg:https://www.thelinehotel.com/wp-content/uploads/2022/11/15103247/stepitup-e1649866664936-u0osfp.tmp_.jpg
END:VEVENT
BEGIN:VEVENT
DTSTART;TZID=America/Los_Angeles:20260624T150000
DTEND;TZID=America/Los_Angeles:20260624T190000
DTSTAMP:20260422T213216
CREATED:20260422T125250Z
LAST-MODIFIED:20260423T035751Z
UID:10014314-1782313200-1782327600@www.thelinehotel.com
SUMMARY:Happy Hour at Lobby Bar
DESCRIPTION:When you’re looking for the good stuff made simple\, Lobby Bar is your unpretentious hang with all the classics. Stop in for daily happy hour\, refreshing cocktails\, and an eclectic mix of bar snacks.
URL:https://www.thelinehotel.com/event/happy-hour-at-lobby-bar-832/
LOCATION:Lobby Bar
CATEGORIES:food & drink,Los Angeles
ATTACH;FMTTYPE=image/webp:https://www.thelinehotel.com/wp-content/uploads/2026/02/19115528/Lobby-Bar-Happy-Hour-Menu-A26GKz.webp
END:VEVENT
BEGIN:VEVENT
DTSTART;TZID=America/New_York:20260625T150000
DTEND;TZID=America/New_York:20260625T190000
DTSTAMP:20260422T213216
CREATED:20260327T005317Z
LAST-MODIFIED:20260423T042751Z
UID:10014215-1782399600-1782414000@www.thelinehotel.com
SUMMARY:No Goodbyes Happy Hour
DESCRIPTION:Monday-Saturday: 3pm – 7pm
URL:https://www.thelinehotel.com/event/no-goodbyes-happy-hour-1353/
LOCATION:The LINE DC\, 2468 Champlain St NW\, Washington\, DC\, 20009\, United States
CATEGORIES:food & drink,Washington DC
ATTACH;FMTTYPE=image/jpeg:https://www.thelinehotel.com/wp-content/uploads/2022/11/15103247/stepitup-e1649866664936-u0osfp.tmp_.jpg
END:VEVENT
BEGIN:VEVENT
DTSTART;TZID=America/Los_Angeles:20260625T150000
DTEND;TZID=America/Los_Angeles:20260625T190000
DTSTAMP:20260422T213216
CREATED:20260422T125251Z
LAST-MODIFIED:20260423T035752Z
UID:10014315-1782399600-1782414000@www.thelinehotel.com
SUMMARY:Happy Hour at Lobby Bar
DESCRIPTION:When you’re looking for the good stuff made simple\, Lobby Bar is your unpretentious hang with all the classics. Stop in for daily happy hour\, refreshing cocktails\, and an eclectic mix of bar snacks.
URL:https://www.thelinehotel.com/event/happy-hour-at-lobby-bar-833/
LOCATION:Lobby Bar
CATEGORIES:food & drink,Los Angeles
ATTACH;FMTTYPE=image/webp:https://www.thelinehotel.com/wp-content/uploads/2026/02/19115528/Lobby-Bar-Happy-Hour-Menu-A26GKz.webp
END:VEVENT
BEGIN:VEVENT
DTSTART;TZID=America/Chicago:20260625T160000
DTEND;TZID=America/Chicago:20260625T210000
DTSTAMP:20260422T213216
CREATED:20260327T044214Z
LAST-MODIFIED:20260423T035639Z
UID:10014216-1782403200-1782421200@www.thelinehotel.com
SUMMARY:‘Agave After Work’ Happy Hour
DESCRIPTION:Join us at Cantero for Agave After Work\, a weekly celebration of the desert’s bold flavors and the vibrant energy of downtown Austin. Every week\, we’re serving up refreshing drink specials as a tribute to the spirits of the desert—sotol and agave—alongside mouthwatering Veracruz tacos. Our curated musicians’ sets or live music bring the perfect mix of ambient rhythms\, creating a relaxed yet lively atmosphere for you to unwind with friends after a long day of work. Whether you’re here to sip\, savor\, or soak in the festive vibes\, Agave After Work is the ultimate way to unwind and kick off your evening. \n  \nView the Happy Hour Menu HERE.
URL:https://www.thelinehotel.com/event/agave-after-work-happy-hour-46/
LOCATION:Cantero\, 111 E Cesar Chavez St\, Austin\, TX\, 78701\, United States
CATEGORIES:Austin,food & drink,Music & Entertainment
ATTACH;FMTTYPE=image/webp:https://www.thelinehotel.com/wp-content/uploads/2025/10/14043026/2024.10_JadeHammer_Opening_-105-6e1aib.webp
END:VEVENT
BEGIN:VEVENT
DTSTART;TZID=America/Chicago:20260625T173000
DTEND;TZID=America/Chicago:20260625T190000
DTSTAMP:20260422T213216
CREATED:20260327T044215Z
LAST-MODIFIED:20260423T035640Z
UID:10014217-1782408600-1782414000@www.thelinehotel.com
SUMMARY:Tarot in The Lobby
DESCRIPTION:Join us in the East Lobby for free tarot readings every Thursday from Megan at Jaguar High Priestess. First come\, first served (open to hotel guests only.) \nWith a larger group? It’s okay to bring your friends—we can accommodate up to six for a collective journey through the cosmos. 
URL:https://www.thelinehotel.com/event/tarot-in-the-lobby-101/
LOCATION:The LINE Austin\, 111 E Cesar Chavez St\, Austin\, TX\, 78701\, United States
CATEGORIES:Austin,Health & Wellness
ATTACH;FMTTYPE=image/jpeg:https://www.thelinehotel.com/wp-content/uploads/2023/11/02003235/Austin_TarotInTheLobby-pZcTab.tmp_.jpg
END:VEVENT
BEGIN:VEVENT
DTSTART;TZID=America/New_York:20260626T150000
DTEND;TZID=America/New_York:20260626T190000
DTSTAMP:20260422T213216
CREATED:20260328T005121Z
LAST-MODIFIED:20260423T042752Z
UID:10014219-1782486000-1782500400@www.thelinehotel.com
SUMMARY:No Goodbyes Happy Hour
DESCRIPTION:Monday-Saturday: 3pm – 7pm
URL:https://www.thelinehotel.com/event/no-goodbyes-happy-hour-861/
LOCATION:The LINE DC\, 2468 Champlain St NW\, Washington\, DC\, 20009\, United States
CATEGORIES:food & drink,Washington DC
ATTACH;FMTTYPE=image/jpeg:https://www.thelinehotel.com/wp-content/uploads/2022/11/15103247/stepitup-e1649866664936-u0osfp.tmp_.jpg
END:VEVENT
BEGIN:VEVENT
DTSTART;TZID=America/Los_Angeles:20260626T150000
DTEND;TZID=America/Los_Angeles:20260626T190000
DTSTAMP:20260422T213216
CREATED:20260422T125252Z
LAST-MODIFIED:20260423T035752Z
UID:10014316-1782486000-1782500400@www.thelinehotel.com
SUMMARY:Happy Hour at Lobby Bar
DESCRIPTION:When you’re looking for the good stuff made simple\, Lobby Bar is your unpretentious hang with all the classics. Stop in for daily happy hour\, refreshing cocktails\, and an eclectic mix of bar snacks.
URL:https://www.thelinehotel.com/event/happy-hour-at-lobby-bar-834/
LOCATION:Lobby Bar
CATEGORIES:food & drink,Los Angeles
ATTACH;FMTTYPE=image/webp:https://www.thelinehotel.com/wp-content/uploads/2026/02/19115528/Lobby-Bar-Happy-Hour-Menu-A26GKz.webp
END:VEVENT
BEGIN:VEVENT
DTSTART;TZID=America/Los_Angeles:20260627T100000
DTEND;TZID=America/Los_Angeles:20260627T143000
DTSTAMP:20260422T213216
CREATED:20260329T004850Z
LAST-MODIFIED:20260423T035753Z
UID:10014222-1782554400-1782570600@www.thelinehotel.com
SUMMARY:Weekend Brunch at Openaire
DESCRIPTION:There’s no better way to do the weekend than a long\, unhurried brunch. \nOur weekend brunch menu is crafted to satisfy every craving\, whether you’re starting light with our Coconut and Chia Pudding or going all-in with the Hibachi-Grilled Hanger Steak and Eggs. From classic Eggs Benedict and Huevos Rancheros to the Corn Flake-Crusted French Toast drizzled with yuzu-berry compote\, there’s something for everyone at the table. Pull up a chair\, take your time\, and let brunch be the best part of your weekend. \nView brunch menu here
URL:https://www.thelinehotel.com/event/weekend-brunch-at-openaire-29/
LOCATION:Openaire\, 3515 Wilshire Blvd\, Los Angeles\, CA\, 90010\, United States
CATEGORIES:food & drink,Los Angeles
ATTACH;FMTTYPE=image/webp:https://www.thelinehotel.com/wp-content/uploads/2026/03/16135528/Openaire_edits-35_2023_Jayna-GWmqiT.webp
END:VEVENT
BEGIN:VEVENT
DTSTART;TZID=America/Los_Angeles:20260627T150000
DTEND;TZID=America/Los_Angeles:20260627T190000
DTSTAMP:20260422T213216
CREATED:20260422T125254Z
LAST-MODIFIED:20260423T035753Z
UID:10014317-1782572400-1782586800@www.thelinehotel.com
SUMMARY:Happy Hour at Lobby Bar
DESCRIPTION:When you’re looking for the good stuff made simple\, Lobby Bar is your unpretentious hang with all the classics. Stop in for daily happy hour\, refreshing cocktails\, and an eclectic mix of bar snacks.
URL:https://www.thelinehotel.com/event/happy-hour-at-lobby-bar-835/
LOCATION:Lobby Bar
CATEGORIES:food & drink,Los Angeles
ATTACH;FMTTYPE=image/webp:https://www.thelinehotel.com/wp-content/uploads/2026/02/19115528/Lobby-Bar-Happy-Hour-Menu-A26GKz.webp
END:VEVENT
BEGIN:VEVENT
DTSTART;TZID=America/Los_Angeles:20260628T100000
DTEND;TZID=America/Los_Angeles:20260628T143000
DTSTAMP:20260422T213216
CREATED:20260330T001356Z
LAST-MODIFIED:20260423T035754Z
UID:10014226-1782640800-1782657000@www.thelinehotel.com
SUMMARY:Weekend Brunch at Openaire
DESCRIPTION:There’s no better way to do the weekend than a long\, unhurried brunch. \nOur weekend brunch menu is crafted to satisfy every craving\, whether you’re starting light with our Coconut and Chia Pudding or going all-in with the Hibachi-Grilled Hanger Steak and Eggs. From classic Eggs Benedict and Huevos Rancheros to the Corn Flake-Crusted French Toast drizzled with yuzu-berry compote\, there’s something for everyone at the table. Pull up a chair\, take your time\, and let brunch be the best part of your weekend. \nView brunch menu here
URL:https://www.thelinehotel.com/event/weekend-brunch-at-openaire-30/
LOCATION:Openaire\, 3515 Wilshire Blvd\, Los Angeles\, CA\, 90010\, United States
CATEGORIES:food & drink,Los Angeles
ATTACH;FMTTYPE=image/webp:https://www.thelinehotel.com/wp-content/uploads/2026/03/16135528/Openaire_edits-35_2023_Jayna-GWmqiT.webp
END:VEVENT
BEGIN:VEVENT
DTSTART;TZID=America/Los_Angeles:20260628T150000
DTEND;TZID=America/Los_Angeles:20260628T190000
DTSTAMP:20260422T213216
CREATED:20260422T125256Z
LAST-MODIFIED:20260423T035754Z
UID:10014318-1782658800-1782673200@www.thelinehotel.com
SUMMARY:Happy Hour at Lobby Bar
DESCRIPTION:When you’re looking for the good stuff made simple\, Lobby Bar is your unpretentious hang with all the classics. Stop in for daily happy hour\, refreshing cocktails\, and an eclectic mix of bar snacks.
URL:https://www.thelinehotel.com/event/happy-hour-at-lobby-bar-836/
LOCATION:Lobby Bar
CATEGORIES:food & drink,Los Angeles
ATTACH;FMTTYPE=image/webp:https://www.thelinehotel.com/wp-content/uploads/2026/02/19115528/Lobby-Bar-Happy-Hour-Menu-A26GKz.webp
END:VEVENT
BEGIN:VEVENT
DTSTART;TZID=America/Los_Angeles:20260629T150000
DTEND;TZID=America/Los_Angeles:20260629T190000
DTSTAMP:20260422T213216
CREATED:20260422T125258Z
LAST-MODIFIED:20260423T035755Z
UID:10014319-1782745200-1782759600@www.thelinehotel.com
SUMMARY:Happy Hour at Lobby Bar
DESCRIPTION:When you’re looking for the good stuff made simple\, Lobby Bar is your unpretentious hang with all the classics. Stop in for daily happy hour\, refreshing cocktails\, and an eclectic mix of bar snacks.
URL:https://www.thelinehotel.com/event/happy-hour-at-lobby-bar-837/
LOCATION:Lobby Bar
CATEGORIES:food & drink,Los Angeles
ATTACH;FMTTYPE=image/webp:https://www.thelinehotel.com/wp-content/uploads/2026/02/19115528/Lobby-Bar-Happy-Hour-Menu-A26GKz.webp
END:VEVENT
BEGIN:VEVENT
DTSTART;TZID=America/Los_Angeles:20260630T150000
DTEND;TZID=America/Los_Angeles:20260630T190000
DTSTAMP:20260422T213216
CREATED:20260422T125313Z
LAST-MODIFIED:20260423T035755Z
UID:10014320-1782831600-1782846000@www.thelinehotel.com
SUMMARY:Happy Hour at Lobby Bar
DESCRIPTION:When you’re looking for the good stuff made simple\, Lobby Bar is your unpretentious hang with all the classics. Stop in for daily happy hour\, refreshing cocktails\, and an eclectic mix of bar snacks.
URL:https://www.thelinehotel.com/event/happy-hour-at-lobby-bar-838/
LOCATION:Lobby Bar
CATEGORIES:food & drink,Los Angeles
ATTACH;FMTTYPE=image/webp:https://www.thelinehotel.com/wp-content/uploads/2026/02/19115528/Lobby-Bar-Happy-Hour-Menu-A26GKz.webp
END:VEVENT
BEGIN:VEVENT
DTSTART;TZID=America/Los_Angeles:20260701T150000
DTEND;TZID=America/Los_Angeles:20260701T190000
DTSTAMP:20260422T213216
CREATED:20260422T125315Z
LAST-MODIFIED:20260423T035809Z
UID:10014321-1782918000-1782932400@www.thelinehotel.com
SUMMARY:Happy Hour at Lobby Bar
DESCRIPTION:When you’re looking for the good stuff made simple\, Lobby Bar is your unpretentious hang with all the classics. Stop in for daily happy hour\, refreshing cocktails\, and an eclectic mix of bar snacks.
URL:https://www.thelinehotel.com/event/happy-hour-at-lobby-bar-839/
LOCATION:Lobby Bar
CATEGORIES:food & drink,Los Angeles
ATTACH;FMTTYPE=image/webp:https://www.thelinehotel.com/wp-content/uploads/2026/02/19115528/Lobby-Bar-Happy-Hour-Menu-A26GKz.webp
END:VEVENT
BEGIN:VEVENT
DTSTART;TZID=America/Los_Angeles:20260702T150000
DTEND;TZID=America/Los_Angeles:20260702T190000
DTSTAMP:20260422T213216
CREATED:20260422T125316Z
LAST-MODIFIED:20260423T035810Z
UID:10014322-1783004400-1783018800@www.thelinehotel.com
SUMMARY:Happy Hour at Lobby Bar
DESCRIPTION:When you’re looking for the good stuff made simple\, Lobby Bar is your unpretentious hang with all the classics. Stop in for daily happy hour\, refreshing cocktails\, and an eclectic mix of bar snacks.
URL:https://www.thelinehotel.com/event/happy-hour-at-lobby-bar-840/
LOCATION:Lobby Bar
CATEGORIES:food & drink,Los Angeles
ATTACH;FMTTYPE=image/webp:https://www.thelinehotel.com/wp-content/uploads/2026/02/19115528/Lobby-Bar-Happy-Hour-Menu-A26GKz.webp
END:VEVENT
BEGIN:VEVENT
DTSTART;TZID=America/Los_Angeles:20260703T150000
DTEND;TZID=America/Los_Angeles:20260703T190000
DTSTAMP:20260422T213216
CREATED:20260422T125318Z
LAST-MODIFIED:20260423T035810Z
UID:10014323-1783090800-1783105200@www.thelinehotel.com
SUMMARY:Happy Hour at Lobby Bar
DESCRIPTION:When you’re looking for the good stuff made simple\, Lobby Bar is your unpretentious hang with all the classics. Stop in for daily happy hour\, refreshing cocktails\, and an eclectic mix of bar snacks.
URL:https://www.thelinehotel.com/event/happy-hour-at-lobby-bar-841/
LOCATION:Lobby Bar
CATEGORIES:food & drink,Los Angeles
ATTACH;FMTTYPE=image/webp:https://www.thelinehotel.com/wp-content/uploads/2026/02/19115528/Lobby-Bar-Happy-Hour-Menu-A26GKz.webp
END:VEVENT
BEGIN:VEVENT
DTSTART;TZID=America/Los_Angeles:20260704T150000
DTEND;TZID=America/Los_Angeles:20260704T190000
DTSTAMP:20260422T213216
CREATED:20260422T125320Z
LAST-MODIFIED:20260423T035812Z
UID:10014324-1783177200-1783191600@www.thelinehotel.com
SUMMARY:Happy Hour at Lobby Bar
DESCRIPTION:When you’re looking for the good stuff made simple\, Lobby Bar is your unpretentious hang with all the classics. Stop in for daily happy hour\, refreshing cocktails\, and an eclectic mix of bar snacks.
URL:https://www.thelinehotel.com/event/happy-hour-at-lobby-bar-842/
LOCATION:Lobby Bar
CATEGORIES:food & drink,Los Angeles
ATTACH;FMTTYPE=image/webp:https://www.thelinehotel.com/wp-content/uploads/2026/02/19115528/Lobby-Bar-Happy-Hour-Menu-A26GKz.webp
END:VEVENT
BEGIN:VEVENT
DTSTART;TZID=America/Los_Angeles:20260705T150000
DTEND;TZID=America/Los_Angeles:20260705T190000
DTSTAMP:20260422T213216
CREATED:20260422T125322Z
LAST-MODIFIED:20260423T035813Z
UID:10014325-1783263600-1783278000@www.thelinehotel.com
SUMMARY:Happy Hour at Lobby Bar
DESCRIPTION:When you’re looking for the good stuff made simple\, Lobby Bar is your unpretentious hang with all the classics. Stop in for daily happy hour\, refreshing cocktails\, and an eclectic mix of bar snacks.
URL:https://www.thelinehotel.com/event/happy-hour-at-lobby-bar-843/
LOCATION:Lobby Bar
CATEGORIES:food & drink,Los Angeles
ATTACH;FMTTYPE=image/webp:https://www.thelinehotel.com/wp-content/uploads/2026/02/19115528/Lobby-Bar-Happy-Hour-Menu-A26GKz.webp
END:VEVENT
BEGIN:VEVENT
DTSTART;TZID=America/Chicago:20260705T160000
DTEND;TZID=America/Chicago:20260705T230000
DTSTAMP:20260422T213216
CREATED:20260406T004748Z
LAST-MODIFIED:20260423T035657Z
UID:10014253-1783267200-1783292400@www.thelinehotel.com
SUMMARY:Sip Well Sundays
DESCRIPTION:\,lWine down from the weekend with $20 off bottles of wine — every Sunday evening at P6.
URL:https://www.thelinehotel.com/event/sip-well-sundays-172/
LOCATION:P6 at the LINE Austin\, 111 E Cesar Chavez St\, Austin\, Texas\, 78701
CATEGORIES:Austin,food & drink
ATTACH;FMTTYPE=image/webp:https://www.thelinehotel.com/wp-content/uploads/2026/03/12060040/MUR_7967-opt-2DxOw7.webp
END:VEVENT
BEGIN:VEVENT
DTSTART;TZID=America/Chicago:20260706T080000
DTEND;TZID=America/Chicago:20260706T090000
DTSTAMP:20260422T213216
CREATED:20260407T001803Z
LAST-MODIFIED:20260423T035657Z
UID:10014257-1783324800-1783328400@www.thelinehotel.com
SUMMARY:Morning Brew with Alfred
DESCRIPTION:Join us at the lobby every Monday morning for complimentary drip coffee or cold brew from Alfred\, plus views of Lady Bird Lake from under sprawling\, shady oaks.
URL:https://www.thelinehotel.com/event/morning-brew-with-alfred-141/
LOCATION:The LINE Austin\, 111 E Cesar Chavez St\, Austin\, TX\, 78701\, United States
CATEGORIES:Austin,food & drink
ATTACH;FMTTYPE=image/webp:https://www.thelinehotel.com/wp-content/uploads/2025/11/17090025/alfred-coffee-stacked-ItzEP6.tmp_-mLxNWL.webp
END:VEVENT
BEGIN:VEVENT
DTSTART;TZID=America/Los_Angeles:20260706T150000
DTEND;TZID=America/Los_Angeles:20260706T190000
DTSTAMP:20260422T213216
CREATED:20260422T125324Z
LAST-MODIFIED:20260423T035813Z
UID:10014326-1783350000-1783364400@www.thelinehotel.com
SUMMARY:Happy Hour at Lobby Bar
DESCRIPTION:When you’re looking for the good stuff made simple\, Lobby Bar is your unpretentious hang with all the classics. Stop in for daily happy hour\, refreshing cocktails\, and an eclectic mix of bar snacks.
URL:https://www.thelinehotel.com/event/happy-hour-at-lobby-bar-844/
LOCATION:Lobby Bar
CATEGORIES:food & drink,Los Angeles
ATTACH;FMTTYPE=image/webp:https://www.thelinehotel.com/wp-content/uploads/2026/02/19115528/Lobby-Bar-Happy-Hour-Menu-A26GKz.webp
END:VEVENT
BEGIN:VEVENT
DTSTART;TZID=America/Los_Angeles:20260707T150000
DTEND;TZID=America/Los_Angeles:20260707T190000
DTSTAMP:20260422T213216
CREATED:20260422T125327Z
LAST-MODIFIED:20260423T035814Z
UID:10014327-1783436400-1783450800@www.thelinehotel.com
SUMMARY:Happy Hour at Lobby Bar
DESCRIPTION:When you’re looking for the good stuff made simple\, Lobby Bar is your unpretentious hang with all the classics. Stop in for daily happy hour\, refreshing cocktails\, and an eclectic mix of bar snacks.
URL:https://www.thelinehotel.com/event/happy-hour-at-lobby-bar-845/
LOCATION:Lobby Bar
CATEGORIES:food & drink,Los Angeles
ATTACH;FMTTYPE=image/webp:https://www.thelinehotel.com/wp-content/uploads/2026/02/19115528/Lobby-Bar-Happy-Hour-Menu-A26GKz.webp
END:VEVENT
BEGIN:VEVENT
DTSTART;TZID=America/Los_Angeles:20260708T150000
DTEND;TZID=America/Los_Angeles:20260708T190000
DTSTAMP:20260422T213216
CREATED:20260422T125342Z
LAST-MODIFIED:20260423T035814Z
UID:10014328-1783522800-1783537200@www.thelinehotel.com
SUMMARY:Happy Hour at Lobby Bar
DESCRIPTION:When you’re looking for the good stuff made simple\, Lobby Bar is your unpretentious hang with all the classics. Stop in for daily happy hour\, refreshing cocktails\, and an eclectic mix of bar snacks.
URL:https://www.thelinehotel.com/event/happy-hour-at-lobby-bar-846/
LOCATION:Lobby Bar
CATEGORIES:food & drink,Los Angeles
ATTACH;FMTTYPE=image/webp:https://www.thelinehotel.com/wp-content/uploads/2026/02/19115528/Lobby-Bar-Happy-Hour-Menu-A26GKz.webp
END:VEVENT
BEGIN:VEVENT
DTSTART;TZID=America/Los_Angeles:20260709T150000
DTEND;TZID=America/Los_Angeles:20260709T190000
DTSTAMP:20260422T213216
CREATED:20260422T125343Z
LAST-MODIFIED:20260423T035829Z
UID:10014329-1783609200-1783623600@www.thelinehotel.com
SUMMARY:Happy Hour at Lobby Bar
DESCRIPTION:When you’re looking for the good stuff made simple\, Lobby Bar is your unpretentious hang with all the classics. Stop in for daily happy hour\, refreshing cocktails\, and an eclectic mix of bar snacks.
URL:https://www.thelinehotel.com/event/happy-hour-at-lobby-bar-847/
LOCATION:Lobby Bar
CATEGORIES:food & drink,Los Angeles
ATTACH;FMTTYPE=image/webp:https://www.thelinehotel.com/wp-content/uploads/2026/02/19115528/Lobby-Bar-Happy-Hour-Menu-A26GKz.webp
END:VEVENT
BEGIN:VEVENT
DTSTART;TZID=America/Chicago:20260709T160000
DTEND;TZID=America/Chicago:20260709T210000
DTSTAMP:20260422T213216
CREATED:20260410T003206Z
LAST-MODIFIED:20260423T035658Z
UID:10014266-1783612800-1783630800@www.thelinehotel.com
SUMMARY:‘Agave After Work’ Happy Hour
DESCRIPTION:Join us at Cantero for Agave After Work\, a weekly celebration of the desert’s bold flavors and the vibrant energy of downtown Austin. Every week\, we’re serving up refreshing drink specials as a tribute to the spirits of the desert—sotol and agave—alongside mouthwatering Veracruz tacos. Our curated musicians’ sets or live music bring the perfect mix of ambient rhythms\, creating a relaxed yet lively atmosphere for you to unwind with friends after a long day of work. Whether you’re here to sip\, savor\, or soak in the festive vibes\, Agave After Work is the ultimate way to unwind and kick off your evening. \n  \nView the Happy Hour Menu HERE.
URL:https://www.thelinehotel.com/event/agave-after-work-happy-hour-64/
LOCATION:Cantero\, 111 E Cesar Chavez St\, Austin\, TX\, 78701\, United States
CATEGORIES:Austin,food & drink,Music & Entertainment
ATTACH;FMTTYPE=image/webp:https://www.thelinehotel.com/wp-content/uploads/2025/10/14043026/2024.10_JadeHammer_Opening_-105-6e1aib.webp
END:VEVENT
BEGIN:VEVENT
DTSTART;TZID=America/Chicago:20260709T173000
DTEND;TZID=America/Chicago:20260709T190000
DTSTAMP:20260422T213216
CREATED:20260410T003207Z
LAST-MODIFIED:20260423T035658Z
UID:10014267-1783618200-1783623600@www.thelinehotel.com
SUMMARY:Tarot in The Lobby
DESCRIPTION:Join us in the East Lobby for free tarot readings every Thursday from Megan at Jaguar High Priestess. First come\, first served (open to hotel guests only.) \nWith a larger group? It’s okay to bring your friends—we can accommodate up to six for a collective journey through the cosmos. 
URL:https://www.thelinehotel.com/event/tarot-in-the-lobby-103/
LOCATION:The LINE Austin\, 111 E Cesar Chavez St\, Austin\, TX\, 78701\, United States
CATEGORIES:Austin,Health & Wellness
ATTACH;FMTTYPE=image/jpeg:https://www.thelinehotel.com/wp-content/uploads/2023/11/02003235/Austin_TarotInTheLobby-pZcTab.tmp_.jpg
END:VEVENT
BEGIN:VEVENT
DTSTART;TZID=America/Los_Angeles:20260710T150000
DTEND;TZID=America/Los_Angeles:20260710T190000
DTSTAMP:20260422T213216
CREATED:20260422T125345Z
LAST-MODIFIED:20260423T035829Z
UID:10014330-1783695600-1783710000@www.thelinehotel.com
SUMMARY:Happy Hour at Lobby Bar
DESCRIPTION:When you’re looking for the good stuff made simple\, Lobby Bar is your unpretentious hang with all the classics. Stop in for daily happy hour\, refreshing cocktails\, and an eclectic mix of bar snacks.
URL:https://www.thelinehotel.com/event/happy-hour-at-lobby-bar-848/
LOCATION:Lobby Bar
CATEGORIES:food & drink,Los Angeles
ATTACH;FMTTYPE=image/webp:https://www.thelinehotel.com/wp-content/uploads/2026/02/19115528/Lobby-Bar-Happy-Hour-Menu-A26GKz.webp
END:VEVENT
BEGIN:VEVENT
DTSTART;TZID=America/Los_Angeles:20260711T100000
DTEND;TZID=America/Los_Angeles:20260711T143000
DTSTAMP:20260422T213216
CREATED:20260412T002351Z
LAST-MODIFIED:20260423T035830Z
UID:10014274-1783764000-1783780200@www.thelinehotel.com
SUMMARY:Weekend Brunch at Openaire
DESCRIPTION:There’s no better way to do the weekend than a long\, unhurried brunch. \nOur weekend brunch menu is crafted to satisfy every craving\, whether you’re starting light with our Coconut and Chia Pudding or going all-in with the Hibachi-Grilled Hanger Steak and Eggs. From classic Eggs Benedict and Huevos Rancheros to the Corn Flake-Crusted French Toast drizzled with yuzu-berry compote\, there’s something for everyone at the table. Pull up a chair\, take your time\, and let brunch be the best part of your weekend. \nView brunch menu here
URL:https://www.thelinehotel.com/event/weekend-brunch-at-openaire-33/
LOCATION:Openaire\, 3515 Wilshire Blvd\, Los Angeles\, CA\, 90010\, United States
CATEGORIES:food & drink,Los Angeles
ATTACH;FMTTYPE=image/webp:https://www.thelinehotel.com/wp-content/uploads/2026/03/16135528/Openaire_edits-35_2023_Jayna-GWmqiT.webp
END:VEVENT
BEGIN:VEVENT
DTSTART;TZID=America/Los_Angeles:20260711T150000
DTEND;TZID=America/Los_Angeles:20260711T190000
DTSTAMP:20260422T213216
CREATED:20260422T125347Z
LAST-MODIFIED:20260423T035831Z
UID:10014331-1783782000-1783796400@www.thelinehotel.com
SUMMARY:Happy Hour at Lobby Bar
DESCRIPTION:When you’re looking for the good stuff made simple\, Lobby Bar is your unpretentious hang with all the classics. Stop in for daily happy hour\, refreshing cocktails\, and an eclectic mix of bar snacks.
URL:https://www.thelinehotel.com/event/happy-hour-at-lobby-bar-849/
LOCATION:Lobby Bar
CATEGORIES:food & drink,Los Angeles
ATTACH;FMTTYPE=image/webp:https://www.thelinehotel.com/wp-content/uploads/2026/02/19115528/Lobby-Bar-Happy-Hour-Menu-A26GKz.webp
END:VEVENT
END:VCALENDAR