BEGIN:VCALENDAR
VERSION:2.0
PRODID:-//The LINE Hotels - ECPv6.13.2//NONSGML v1.0//EN
CALSCALE:GREGORIAN
METHOD:PUBLISH
X-ORIGINAL-URL:https://www.thelinehotel.com
X-WR-CALDESC:Events for The LINE Hotels
REFRESH-INTERVAL;VALUE=DURATION:PT1H
X-Robots-Tag:noindex
X-PUBLISHED-TTL:PT1H
BEGIN:VTIMEZONE
TZID:America/Los_Angeles
BEGIN:DAYLIGHT
TZOFFSETFROM:-0800
TZOFFSETTO:-0700
TZNAME:PDT
DTSTART:20260308T100000
END:DAYLIGHT
BEGIN:STANDARD
TZOFFSETFROM:-0700
TZOFFSETTO:-0800
TZNAME:PST
DTSTART:20261101T090000
END:STANDARD
END:VTIMEZONE
BEGIN:VTIMEZONE
TZID:America/New_York
BEGIN:DAYLIGHT
TZOFFSETFROM:-0500
TZOFFSETTO:-0400
TZNAME:EDT
DTSTART:20260308T070000
END:DAYLIGHT
BEGIN:STANDARD
TZOFFSETFROM:-0400
TZOFFSETTO:-0500
TZNAME:EST
DTSTART:20261101T060000
END:STANDARD
END:VTIMEZONE
BEGIN:VTIMEZONE
TZID:America/Chicago
BEGIN:DAYLIGHT
TZOFFSETFROM:-0600
TZOFFSETTO:-0500
TZNAME:CDT
DTSTART:20260308T080000
END:DAYLIGHT
BEGIN:STANDARD
TZOFFSETFROM:-0500
TZOFFSETTO:-0600
TZNAME:CST
DTSTART:20261101T070000
END:STANDARD
END:VTIMEZONE
BEGIN:VTIMEZONE
TZID:America/Chicago
BEGIN:DAYLIGHT
TZOFFSETFROM:-0600
TZOFFSETTO:-0500
TZNAME:CDT
DTSTART:20260308T080000
END:DAYLIGHT
BEGIN:STANDARD
TZOFFSETFROM:-0500
TZOFFSETTO:-0600
TZNAME:CST
DTSTART:20261101T070000
END:STANDARD
END:VTIMEZONE
BEGIN:VEVENT
DTSTART;TZID=America/Los_Angeles:20260404T100000
DTEND;TZID=America/Los_Angeles:20260404T143000
DTSTAMP:20260421T214327
CREATED:20260316T205606Z
LAST-MODIFIED:20260404T235021Z
UID:10014130-1775296800-1775313000@www.thelinehotel.com
SUMMARY:Weekend Brunch at Openaire
DESCRIPTION:There’s no better way to do the weekend than a long\, unhurried brunch. \nOur weekend brunch menu is crafted to satisfy every craving\, whether you’re starting light with our Coconut and Chia Pudding or going all-in with the Hibachi-Grilled Hanger Steak and Eggs. From classic Eggs Benedict and Huevos Rancheros to the Corn Flake-Crusted French Toast drizzled with yuzu-berry compote\, there’s something for everyone at the table. Pull up a chair\, take your time\, and let brunch be the best part of your weekend. \nView brunch menu here
URL:https://www.thelinehotel.com/event/weekend-brunch-at-openaire-5/
LOCATION:Openaire\, 3515 Wilshire Blvd\, Los Angeles\, CA\, 90010\, United States
CATEGORIES:food & drink,Los Angeles
ATTACH;FMTTYPE=image/webp:https://www.thelinehotel.com/wp-content/uploads/2026/03/16135528/Openaire_edits-35_2023_Jayna-GWmqiT.webp
END:VEVENT
BEGIN:VEVENT
DTSTART;TZID=America/New_York:20260404T150000
DTEND;TZID=America/New_York:20260404T190000
DTSTAMP:20260421T214327
CREATED:20260104T005222Z
LAST-MODIFIED:20260404T230522Z
UID:10013559-1775314800-1775329200@www.thelinehotel.com
SUMMARY:No Goodbyes Happy Hour
DESCRIPTION:Monday-Saturday: 3pm – 7pm
URL:https://www.thelinehotel.com/event/no-goodbyes-happy-hour-1312/
LOCATION:The LINE DC\, 2468 Champlain St NW\, Washington\, DC\, 20009\, United States
CATEGORIES:food & drink,Washington DC
ATTACH;FMTTYPE=image/jpeg:https://www.thelinehotel.com/wp-content/uploads/2022/11/15103247/stepitup-e1649866664936-u0osfp.tmp_.jpg
END:VEVENT
BEGIN:VEVENT
DTSTART;TZID=America/Los_Angeles:20260404T150000
DTEND;TZID=America/Los_Angeles:20260404T190000
DTSTAMP:20260421T214327
CREATED:20260127T011840Z
LAST-MODIFIED:20260404T235021Z
UID:10013968-1775314800-1775329200@www.thelinehotel.com
SUMMARY:Happy Hour at Lobby Bar
DESCRIPTION:When you’re looking for the good stuff made simple\, Lobby Bar is your unpretentious hang with all the classics. Stop in for daily happy hour\, refreshing cocktails\, and an eclectic mix of bar snacks.
URL:https://www.thelinehotel.com/event/happy-hour-at-lobby-bar-731/
LOCATION:Lobby Bar
CATEGORIES:food & drink,Los Angeles
ATTACH;FMTTYPE=image/webp:https://www.thelinehotel.com/wp-content/uploads/2026/02/19115528/Lobby-Bar-Happy-Hour-Menu-A26GKz.webp
END:VEVENT
BEGIN:VEVENT
DTSTART;TZID=America/New_York:20260405T090000
DTEND;TZID=America/New_York:20260405T140000
DTSTAMP:20260421T214327
CREATED:20260324T213552Z
LAST-MODIFIED:20260405T233022Z
UID:10014187-1775379600-1775397600@www.thelinehotel.com
SUMMARY:Weekend Brunch at No Goodbyes
DESCRIPTION:Gather your people and make it a moment. Every Saturday and Sunday from 9am to 2pm\, No Goodbyes is the place to slow down\, catch up\, and indulge\, surrounded by the stunning light of our gorgeous space\, once a 110-year-old neoclassical church. \nKick things off with a handcrafted cocktail (or two) and settle in for a menu that’s equal parts comforting and craveable. Think Challah French Toast with dulce de leche and whipped cream\, a Chorizo Hangover Hash loaded with peppers\, avocado\, and fried eggs\, or a classic Benedict elevated with smoked salmon. From classics done right to something a little more decadent\, there’s something for every mood and every member of the crew. \nWe’re here morning\, noon\, and night in Adams Morgan. Come as you are\, stay as long as you’d like.
URL:https://www.thelinehotel.com/event/weekend-brunch-at-no-goodbyes-79/
LOCATION:No Goodbyes
CATEGORIES:food & drink,Washington DC
ATTACH;FMTTYPE=image/jpeg:https://www.thelinehotel.com/wp-content/uploads/2026/03/24143529/20251015_TheLineHotel_holiday_selects-26-scaled-B32yGG.jpg
END:VEVENT
BEGIN:VEVENT
DTSTART;TZID=America/Los_Angeles:20260405T100000
DTEND;TZID=America/Los_Angeles:20260405T143000
DTSTAMP:20260421T214327
CREATED:20260316T205607Z
LAST-MODIFIED:20260405T234520Z
UID:10014131-1775383200-1775399400@www.thelinehotel.com
SUMMARY:Weekend Brunch at Openaire
DESCRIPTION:There’s no better way to do the weekend than a long\, unhurried brunch. \nOur weekend brunch menu is crafted to satisfy every craving\, whether you’re starting light with our Coconut and Chia Pudding or going all-in with the Hibachi-Grilled Hanger Steak and Eggs. From classic Eggs Benedict and Huevos Rancheros to the Corn Flake-Crusted French Toast drizzled with yuzu-berry compote\, there’s something for everyone at the table. Pull up a chair\, take your time\, and let brunch be the best part of your weekend. \nView brunch menu here
URL:https://www.thelinehotel.com/event/weekend-brunch-at-openaire-6/
LOCATION:Openaire\, 3515 Wilshire Blvd\, Los Angeles\, CA\, 90010\, United States
CATEGORIES:food & drink,Los Angeles
ATTACH;FMTTYPE=image/webp:https://www.thelinehotel.com/wp-content/uploads/2026/03/16135528/Openaire_edits-35_2023_Jayna-GWmqiT.webp
END:VEVENT
BEGIN:VEVENT
DTSTART;TZID=America/Los_Angeles:20260405T150000
DTEND;TZID=America/Los_Angeles:20260405T190000
DTSTAMP:20260421T214327
CREATED:20260127T011841Z
LAST-MODIFIED:20260405T234520Z
UID:10013969-1775401200-1775415600@www.thelinehotel.com
SUMMARY:Happy Hour at Lobby Bar
DESCRIPTION:When you’re looking for the good stuff made simple\, Lobby Bar is your unpretentious hang with all the classics. Stop in for daily happy hour\, refreshing cocktails\, and an eclectic mix of bar snacks.
URL:https://www.thelinehotel.com/event/happy-hour-at-lobby-bar-732/
LOCATION:Lobby Bar
CATEGORIES:food & drink,Los Angeles
ATTACH;FMTTYPE=image/webp:https://www.thelinehotel.com/wp-content/uploads/2026/02/19115528/Lobby-Bar-Happy-Hour-Menu-A26GKz.webp
END:VEVENT
BEGIN:VEVENT
DTSTART;TZID=America/Chicago:20260405T160000
DTEND;TZID=America/Chicago:20260405T230000
DTSTAMP:20260421T214327
CREATED:20260105T002135Z
LAST-MODIFIED:20260405T233020Z
UID:10013560-1775404800-1775430000@www.thelinehotel.com
SUMMARY:Sip Well Sundays
DESCRIPTION:\,lWine down from the weekend with $20 off bottles of wine — every Sunday evening at P6.
URL:https://www.thelinehotel.com/event/sip-well-sundays-163/
LOCATION:P6 at the LINE Austin\, 111 E Cesar Chavez St\, Austin\, Texas\, 78701
CATEGORIES:Austin,food & drink
ATTACH;FMTTYPE=image/webp:https://www.thelinehotel.com/wp-content/uploads/2026/03/12060040/MUR_7967-opt-2DxOw7.webp
END:VEVENT
BEGIN:VEVENT
DTSTART;TZID=America/Chicago:20260406T080000
DTEND;TZID=America/Chicago:20260406T090000
DTSTAMP:20260421T214327
CREATED:20260106T003715Z
LAST-MODIFIED:20260406T231019Z
UID:10013587-1775462400-1775466000@www.thelinehotel.com
SUMMARY:Morning Brew with Alfred
DESCRIPTION:Join us at the lobby every Monday morning for complimentary drip coffee or cold brew from Alfred\, plus views of Lady Bird Lake from under sprawling\, shady oaks.
URL:https://www.thelinehotel.com/event/morning-brew-with-alfred-133/
LOCATION:The LINE Austin\, 111 E Cesar Chavez St\, Austin\, TX\, 78701\, United States
CATEGORIES:Austin,food & drink
ATTACH;FMTTYPE=image/webp:https://www.thelinehotel.com/wp-content/uploads/2025/11/17090025/alfred-coffee-stacked-ItzEP6.tmp_-mLxNWL.webp
END:VEVENT
BEGIN:VEVENT
DTSTART;TZID=America/New_York:20260406T150000
DTEND;TZID=America/New_York:20260406T190000
DTSTAMP:20260421T214327
CREATED:20260106T000728Z
LAST-MODIFIED:20260406T232521Z
UID:10013573-1775487600-1775502000@www.thelinehotel.com
SUMMARY:No Goodbyes Happy Hour
DESCRIPTION:Monday-Saturday: 3pm – 7pm
URL:https://www.thelinehotel.com/event/no-goodbyes-happy-hour-1313/
LOCATION:The LINE DC\, 2468 Champlain St NW\, Washington\, DC\, 20009\, United States
CATEGORIES:food & drink,Washington DC
ATTACH;FMTTYPE=image/jpeg:https://www.thelinehotel.com/wp-content/uploads/2022/11/15103247/stepitup-e1649866664936-u0osfp.tmp_.jpg
END:VEVENT
BEGIN:VEVENT
DTSTART;TZID=America/Los_Angeles:20260406T150000
DTEND;TZID=America/Los_Angeles:20260406T190000
DTSTAMP:20260421T214327
CREATED:20260127T011855Z
LAST-MODIFIED:20260406T232521Z
UID:10013970-1775487600-1775502000@www.thelinehotel.com
SUMMARY:Happy Hour at Lobby Bar
DESCRIPTION:When you’re looking for the good stuff made simple\, Lobby Bar is your unpretentious hang with all the classics. Stop in for daily happy hour\, refreshing cocktails\, and an eclectic mix of bar snacks.
URL:https://www.thelinehotel.com/event/happy-hour-at-lobby-bar-733/
LOCATION:Lobby Bar
CATEGORIES:food & drink,Los Angeles
ATTACH;FMTTYPE=image/webp:https://www.thelinehotel.com/wp-content/uploads/2026/02/19115528/Lobby-Bar-Happy-Hour-Menu-A26GKz.webp
END:VEVENT
BEGIN:VEVENT
DTSTART;TZID=America/New_York:20260407T150000
DTEND;TZID=America/New_York:20260407T190000
DTSTAMP:20260421T214327
CREATED:20260107T010228Z
LAST-MODIFIED:20260407T234521Z
UID:10013861-1775574000-1775588400@www.thelinehotel.com
SUMMARY:No Goodbyes Happy Hour
DESCRIPTION:Monday-Saturday: 3pm – 7pm
URL:https://www.thelinehotel.com/event/no-goodbyes-happy-hour-1314/
LOCATION:The LINE DC\, 2468 Champlain St NW\, Washington\, DC\, 20009\, United States
CATEGORIES:food & drink,Washington DC
ATTACH;FMTTYPE=image/jpeg:https://www.thelinehotel.com/wp-content/uploads/2022/11/15103247/stepitup-e1649866664936-u0osfp.tmp_.jpg
END:VEVENT
BEGIN:VEVENT
DTSTART;TZID=America/Los_Angeles:20260407T150000
DTEND;TZID=America/Los_Angeles:20260407T190000
DTSTAMP:20260421T214327
CREATED:20260127T011857Z
LAST-MODIFIED:20260407T233020Z
UID:10013971-1775574000-1775588400@www.thelinehotel.com
SUMMARY:Happy Hour at Lobby Bar
DESCRIPTION:When you’re looking for the good stuff made simple\, Lobby Bar is your unpretentious hang with all the classics. Stop in for daily happy hour\, refreshing cocktails\, and an eclectic mix of bar snacks.
URL:https://www.thelinehotel.com/event/happy-hour-at-lobby-bar-734/
LOCATION:Lobby Bar
CATEGORIES:food & drink,Los Angeles
ATTACH;FMTTYPE=image/webp:https://www.thelinehotel.com/wp-content/uploads/2026/02/19115528/Lobby-Bar-Happy-Hour-Menu-A26GKz.webp
END:VEVENT
BEGIN:VEVENT
DTSTART;TZID=America/New_York:20260408T150000
DTEND;TZID=America/New_York:20260408T190000
DTSTAMP:20260421T214327
CREATED:20260108T004723Z
LAST-MODIFIED:20260408T234020Z
UID:10013862-1775660400-1775674800@www.thelinehotel.com
SUMMARY:No Goodbyes Happy Hour
DESCRIPTION:Monday-Saturday: 3pm – 7pm
URL:https://www.thelinehotel.com/event/no-goodbyes-happy-hour-1315/
LOCATION:The LINE DC\, 2468 Champlain St NW\, Washington\, DC\, 20009\, United States
CATEGORIES:food & drink,Washington DC
ATTACH;FMTTYPE=image/jpeg:https://www.thelinehotel.com/wp-content/uploads/2022/11/15103247/stepitup-e1649866664936-u0osfp.tmp_.jpg
END:VEVENT
BEGIN:VEVENT
DTSTART;TZID=America/Los_Angeles:20260408T150000
DTEND;TZID=America/Los_Angeles:20260408T190000
DTSTAMP:20260421T214327
CREATED:20260127T011858Z
LAST-MODIFIED:20260408T234021Z
UID:10013972-1775660400-1775674800@www.thelinehotel.com
SUMMARY:Happy Hour at Lobby Bar
DESCRIPTION:When you’re looking for the good stuff made simple\, Lobby Bar is your unpretentious hang with all the classics. Stop in for daily happy hour\, refreshing cocktails\, and an eclectic mix of bar snacks.
URL:https://www.thelinehotel.com/event/happy-hour-at-lobby-bar-735/
LOCATION:Lobby Bar
CATEGORIES:food & drink,Los Angeles
ATTACH;FMTTYPE=image/webp:https://www.thelinehotel.com/wp-content/uploads/2026/02/19115528/Lobby-Bar-Happy-Hour-Menu-A26GKz.webp
END:VEVENT
BEGIN:VEVENT
DTSTART;TZID=America/New_York:20260409T150000
DTEND;TZID=America/New_York:20260409T190000
DTSTAMP:20260421T214327
CREATED:20260109T001301Z
LAST-MODIFIED:20260409T234518Z
UID:10013865-1775746800-1775761200@www.thelinehotel.com
SUMMARY:No Goodbyes Happy Hour
DESCRIPTION:Monday-Saturday: 3pm – 7pm
URL:https://www.thelinehotel.com/event/no-goodbyes-happy-hour-1316/
LOCATION:The LINE DC\, 2468 Champlain St NW\, Washington\, DC\, 20009\, United States
CATEGORIES:food & drink,Washington DC
ATTACH;FMTTYPE=image/jpeg:https://www.thelinehotel.com/wp-content/uploads/2022/11/15103247/stepitup-e1649866664936-u0osfp.tmp_.jpg
END:VEVENT
BEGIN:VEVENT
DTSTART;TZID=America/Los_Angeles:20260409T150000
DTEND;TZID=America/Los_Angeles:20260409T190000
DTSTAMP:20260421T214327
CREATED:20260127T011900Z
LAST-MODIFIED:20260409T231521Z
UID:10013973-1775746800-1775761200@www.thelinehotel.com
SUMMARY:Happy Hour at Lobby Bar
DESCRIPTION:When you’re looking for the good stuff made simple\, Lobby Bar is your unpretentious hang with all the classics. Stop in for daily happy hour\, refreshing cocktails\, and an eclectic mix of bar snacks.
URL:https://www.thelinehotel.com/event/happy-hour-at-lobby-bar-736/
LOCATION:Lobby Bar
CATEGORIES:food & drink,Los Angeles
ATTACH;FMTTYPE=image/webp:https://www.thelinehotel.com/wp-content/uploads/2026/02/19115528/Lobby-Bar-Happy-Hour-Menu-A26GKz.webp
END:VEVENT
BEGIN:VEVENT
DTSTART;TZID=America/Chicago:20260409T160000
DTEND;TZID=America/Chicago:20260409T210000
DTSTAMP:20260421T214327
CREATED:20260109T001230Z
LAST-MODIFIED:20260409T233019Z
UID:10013863-1775750400-1775768400@www.thelinehotel.com
SUMMARY:‘Agave After Work’ Happy Hour
DESCRIPTION:Join us at Cantero for Agave After Work\, a weekly celebration of the desert’s bold flavors and the vibrant energy of downtown Austin. Every week\, we’re serving up refreshing drink specials as a tribute to the spirits of the desert—sotol and agave—alongside mouthwatering Veracruz tacos. Our curated musicians’ sets or live music bring the perfect mix of ambient rhythms\, creating a relaxed yet lively atmosphere for you to unwind with friends after a long day of work. Whether you’re here to sip\, savor\, or soak in the festive vibes\, Agave After Work is the ultimate way to unwind and kick off your evening. \n  \nView the Happy Hour Menu HERE.
URL:https://www.thelinehotel.com/event/agave-after-work-happy-hour-56/
LOCATION:Cantero\, 111 E Cesar Chavez St\, Austin\, TX\, 78701\, United States
CATEGORIES:Austin,food & drink,Music & Entertainment
ATTACH;FMTTYPE=image/webp:https://www.thelinehotel.com/wp-content/uploads/2025/10/14043026/2024.10_JadeHammer_Opening_-105-6e1aib.webp
END:VEVENT
BEGIN:VEVENT
DTSTART;TZID=America/Chicago:20260409T173000
DTEND;TZID=America/Chicago:20260409T190000
DTSTAMP:20260421T214327
CREATED:20260109T001244Z
LAST-MODIFIED:20260409T233020Z
UID:10013864-1775755800-1775761200@www.thelinehotel.com
SUMMARY:Tarot in The Lobby
DESCRIPTION:Join us in the East Lobby for free tarot readings every Thursday from Megan at Jaguar High Priestess. First come\, first served (open to hotel guests only.) \nWith a larger group? It’s okay to bring your friends—we can accommodate up to six for a collective journey through the cosmos. 
URL:https://www.thelinehotel.com/event/tarot-in-the-lobby-90/
LOCATION:The LINE Austin\, 111 E Cesar Chavez St\, Austin\, TX\, 78701\, United States
CATEGORIES:Austin,Health & Wellness
ATTACH;FMTTYPE=image/jpeg:https://www.thelinehotel.com/wp-content/uploads/2023/11/02003235/Austin_TarotInTheLobby-pZcTab.tmp_.jpg
END:VEVENT
BEGIN:VEVENT
DTSTART;TZID=America/Los_Angeles:20260409T190000
DTEND;TZID=America/Los_Angeles:20260409T230000
DTSTAMP:20260421T214327
CREATED:20260402T015540Z
LAST-MODIFIED:20260409T231522Z
UID:10014237-1775761200-1775775600@www.thelinehotel.com
SUMMARY:THE LINE LA x Framework Haus Cocktail Event
DESCRIPTION:The team behind Seoul’s acclaimed Alice Cheongdam bar – ranked No. 13 on Asia’s 50 Best Bars – brings its boundary-pushing cocktail program to Los Angeles for one night only at Breakroom 86 at the LINE LA. Led by renowned bartender Eggsy Seong\, the evening features five original cocktails crafted with rare\, house-prepared ingredients flown in from Korea. \nWith 80 tickets available and approximately 200 cocktails total\, this intimate experience is designed to be both exclusive and fleeting. Drinks will be served on a first come\, first served basis until sold out. \nGuests can expect inventive\, globally inspired flavors alongside a lively\, high-energy atmosphere in the heart of Koreatown. Secure your spot early and be part of a rare collaboration that brings one of Asia’s most exciting bar concepts stateside for a single night. \nEntrance: Breakroom 86 entrance on 630 S Ardmore Ave.\, next to the loading dock
URL:https://www.thelinehotel.com/event/line-la-x-framework-haus-cocktail-event/
LOCATION:Break Room 86\, 3515 Wilshire Blvd\,\, Los Angele\, CA\, 90010\, United States
CATEGORIES:food & drink,Los Angeles
ATTACH;FMTTYPE=image/png:https://www.thelinehotel.com/wp-content/uploads/2026/04/01185643/TalkMedia_i_71d3c4f89ae3.png-scaled-e1775089083297-GwNs1s.png
END:VEVENT
BEGIN:VEVENT
DTSTART;TZID=America/New_York:20260410T150000
DTEND;TZID=America/New_York:20260410T190000
DTSTAMP:20260421T214327
CREATED:20260110T000223Z
LAST-MODIFIED:20260410T234519Z
UID:10013867-1775833200-1775847600@www.thelinehotel.com
SUMMARY:No Goodbyes Happy Hour
DESCRIPTION:Monday-Saturday: 3pm – 7pm
URL:https://www.thelinehotel.com/event/no-goodbyes-happy-hour-1317/
LOCATION:The LINE DC\, 2468 Champlain St NW\, Washington\, DC\, 20009\, United States
CATEGORIES:food & drink,Washington DC
ATTACH;FMTTYPE=image/jpeg:https://www.thelinehotel.com/wp-content/uploads/2022/11/15103247/stepitup-e1649866664936-u0osfp.tmp_.jpg
END:VEVENT
BEGIN:VEVENT
DTSTART;TZID=America/Los_Angeles:20260410T150000
DTEND;TZID=America/Los_Angeles:20260410T190000
DTSTAMP:20260421T214327
CREATED:20260127T011902Z
LAST-MODIFIED:20260410T234524Z
UID:10013974-1775833200-1775847600@www.thelinehotel.com
SUMMARY:Happy Hour at Lobby Bar
DESCRIPTION:When you’re looking for the good stuff made simple\, Lobby Bar is your unpretentious hang with all the classics. Stop in for daily happy hour\, refreshing cocktails\, and an eclectic mix of bar snacks.
URL:https://www.thelinehotel.com/event/happy-hour-at-lobby-bar-737/
LOCATION:Lobby Bar
CATEGORIES:food & drink,Los Angeles
ATTACH;FMTTYPE=image/webp:https://www.thelinehotel.com/wp-content/uploads/2026/02/19115528/Lobby-Bar-Happy-Hour-Menu-A26GKz.webp
END:VEVENT
BEGIN:VEVENT
DTSTART;TZID=America/Chicago:20260411T090000
DTEND;TZID=America/Chicago:20260411T100000
DTSTAMP:20260421T214327
CREATED:20260321T011542Z
LAST-MODIFIED:20260411T235019Z
UID:10014164-1775898000-1775901600@www.thelinehotel.com
SUMMARY:Slow Flow Yoga
DESCRIPTION:Join us every Saturday morning for a slow-flow class to start the weekend right. Taught by Megan at Jaguar High Priestess. Mats provided.
URL:https://www.thelinehotel.com/event/slow-flow-yoga-214/
LOCATION:The LINE Austin\, 111 E Cesar Chavez St\, Austin\, TX\, 78701\, United States
CATEGORIES:Austin,Health & Wellness
ATTACH;FMTTYPE=image/webp:https://www.thelinehotel.com/wp-content/uploads/2025/12/01024024/Slow-Flow-Yoga-Update-Winter-2024-Website-Calendar-hluM3H.webp
END:VEVENT
BEGIN:VEVENT
DTSTART;TZID=America/New_York:20260411T090000
DTEND;TZID=America/New_York:20260411T140000
DTSTAMP:20260421T214327
CREATED:20260324T213609Z
LAST-MODIFIED:20260411T235021Z
UID:10014188-1775898000-1775916000@www.thelinehotel.com
SUMMARY:Weekend Brunch at No Goodbyes
DESCRIPTION:Gather your people and make it a moment. Every Saturday and Sunday from 9am to 2pm\, No Goodbyes is the place to slow down\, catch up\, and indulge\, surrounded by the stunning light of our gorgeous space\, once a 110-year-old neoclassical church. \nKick things off with a handcrafted cocktail (or two) and settle in for a menu that’s equal parts comforting and craveable. Think Challah French Toast with dulce de leche and whipped cream\, a Chorizo Hangover Hash loaded with peppers\, avocado\, and fried eggs\, or a classic Benedict elevated with smoked salmon. From classics done right to something a little more decadent\, there’s something for every mood and every member of the crew. \nWe’re here morning\, noon\, and night in Adams Morgan. Come as you are\, stay as long as you’d like.
URL:https://www.thelinehotel.com/event/weekend-brunch-at-no-goodbyes-203/
LOCATION:No Goodbyes
CATEGORIES:food & drink,Washington DC
ATTACH;FMTTYPE=image/jpeg:https://www.thelinehotel.com/wp-content/uploads/2026/03/24143529/20251015_TheLineHotel_holiday_selects-26-scaled-B32yGG.jpg
END:VEVENT
BEGIN:VEVENT
DTSTART;TZID=America/Los_Angeles:20260411T100000
DTEND;TZID=America/Los_Angeles:20260411T143000
DTSTAMP:20260421T214327
CREATED:20260316T205625Z
LAST-MODIFIED:20260411T232021Z
UID:10014132-1775901600-1775917800@www.thelinehotel.com
SUMMARY:Weekend Brunch at Openaire
DESCRIPTION:There’s no better way to do the weekend than a long\, unhurried brunch. \nOur weekend brunch menu is crafted to satisfy every craving\, whether you’re starting light with our Coconut and Chia Pudding or going all-in with the Hibachi-Grilled Hanger Steak and Eggs. From classic Eggs Benedict and Huevos Rancheros to the Corn Flake-Crusted French Toast drizzled with yuzu-berry compote\, there’s something for everyone at the table. Pull up a chair\, take your time\, and let brunch be the best part of your weekend. \nView brunch menu here
URL:https://www.thelinehotel.com/event/weekend-brunch-at-openaire-7/
LOCATION:Openaire\, 3515 Wilshire Blvd\, Los Angeles\, CA\, 90010\, United States
CATEGORIES:food & drink,Los Angeles
ATTACH;FMTTYPE=image/webp:https://www.thelinehotel.com/wp-content/uploads/2026/03/16135528/Openaire_edits-35_2023_Jayna-GWmqiT.webp
END:VEVENT
BEGIN:VEVENT
DTSTART;TZID=America/New_York:20260411T150000
DTEND;TZID=America/New_York:20260411T190000
DTSTAMP:20260421T214327
CREATED:20260111T004723Z
LAST-MODIFIED:20260411T235022Z
UID:10013868-1775919600-1775934000@www.thelinehotel.com
SUMMARY:No Goodbyes Happy Hour
DESCRIPTION:Monday-Saturday: 3pm – 7pm
URL:https://www.thelinehotel.com/event/no-goodbyes-happy-hour-1149/
LOCATION:The LINE DC\, 2468 Champlain St NW\, Washington\, DC\, 20009\, United States
CATEGORIES:food & drink,Washington DC
ATTACH;FMTTYPE=image/jpeg:https://www.thelinehotel.com/wp-content/uploads/2022/11/15103247/stepitup-e1649866664936-u0osfp.tmp_.jpg
END:VEVENT
BEGIN:VEVENT
DTSTART;TZID=America/Los_Angeles:20260411T150000
DTEND;TZID=America/Los_Angeles:20260411T190000
DTSTAMP:20260421T214327
CREATED:20260127T011903Z
LAST-MODIFIED:20260411T232022Z
UID:10013975-1775919600-1775934000@www.thelinehotel.com
SUMMARY:Happy Hour at Lobby Bar
DESCRIPTION:When you’re looking for the good stuff made simple\, Lobby Bar is your unpretentious hang with all the classics. Stop in for daily happy hour\, refreshing cocktails\, and an eclectic mix of bar snacks.
URL:https://www.thelinehotel.com/event/happy-hour-at-lobby-bar-738/
LOCATION:Lobby Bar
CATEGORIES:food & drink,Los Angeles
ATTACH;FMTTYPE=image/webp:https://www.thelinehotel.com/wp-content/uploads/2026/02/19115528/Lobby-Bar-Happy-Hour-Menu-A26GKz.webp
END:VEVENT
BEGIN:VEVENT
DTSTART;TZID=America/New_York:20260412T090000
DTEND;TZID=America/New_York:20260412T140000
DTSTAMP:20260421T214327
CREATED:20260324T213611Z
LAST-MODIFIED:20260412T235020Z
UID:10014189-1775984400-1776002400@www.thelinehotel.com
SUMMARY:Weekend Brunch at No Goodbyes
DESCRIPTION:Gather your people and make it a moment. Every Saturday and Sunday from 9am to 2pm\, No Goodbyes is the place to slow down\, catch up\, and indulge\, surrounded by the stunning light of our gorgeous space\, once a 110-year-old neoclassical church. \nKick things off with a handcrafted cocktail (or two) and settle in for a menu that’s equal parts comforting and craveable. Think Challah French Toast with dulce de leche and whipped cream\, a Chorizo Hangover Hash loaded with peppers\, avocado\, and fried eggs\, or a classic Benedict elevated with smoked salmon. From classics done right to something a little more decadent\, there’s something for every mood and every member of the crew. \nWe’re here morning\, noon\, and night in Adams Morgan. Come as you are\, stay as long as you’d like.
URL:https://www.thelinehotel.com/event/weekend-brunch-at-no-goodbyes-206/
LOCATION:No Goodbyes
CATEGORIES:food & drink,Washington DC
ATTACH;FMTTYPE=image/jpeg:https://www.thelinehotel.com/wp-content/uploads/2026/03/24143529/20251015_TheLineHotel_holiday_selects-26-scaled-B32yGG.jpg
END:VEVENT
BEGIN:VEVENT
DTSTART;TZID=America/Los_Angeles:20260412T100000
DTEND;TZID=America/Los_Angeles:20260412T143000
DTSTAMP:20260421T214327
CREATED:20260316T205627Z
LAST-MODIFIED:20260412T235020Z
UID:10014133-1775988000-1776004200@www.thelinehotel.com
SUMMARY:Weekend Brunch at Openaire
DESCRIPTION:There’s no better way to do the weekend than a long\, unhurried brunch. \nOur weekend brunch menu is crafted to satisfy every craving\, whether you’re starting light with our Coconut and Chia Pudding or going all-in with the Hibachi-Grilled Hanger Steak and Eggs. From classic Eggs Benedict and Huevos Rancheros to the Corn Flake-Crusted French Toast drizzled with yuzu-berry compote\, there’s something for everyone at the table. Pull up a chair\, take your time\, and let brunch be the best part of your weekend. \nView brunch menu here
URL:https://www.thelinehotel.com/event/weekend-brunch-at-openaire-8/
LOCATION:Openaire\, 3515 Wilshire Blvd\, Los Angeles\, CA\, 90010\, United States
CATEGORIES:food & drink,Los Angeles
ATTACH;FMTTYPE=image/webp:https://www.thelinehotel.com/wp-content/uploads/2026/03/16135528/Openaire_edits-35_2023_Jayna-GWmqiT.webp
END:VEVENT
BEGIN:VEVENT
DTSTART;TZID=America/Los_Angeles:20260412T150000
DTEND;TZID=America/Los_Angeles:20260412T190000
DTSTAMP:20260421T214327
CREATED:20260127T011905Z
LAST-MODIFIED:20260412T235021Z
UID:10013976-1776006000-1776020400@www.thelinehotel.com
SUMMARY:Happy Hour at Lobby Bar
DESCRIPTION:When you’re looking for the good stuff made simple\, Lobby Bar is your unpretentious hang with all the classics. Stop in for daily happy hour\, refreshing cocktails\, and an eclectic mix of bar snacks.
URL:https://www.thelinehotel.com/event/happy-hour-at-lobby-bar-739/
LOCATION:Lobby Bar
CATEGORIES:food & drink,Los Angeles
ATTACH;FMTTYPE=image/webp:https://www.thelinehotel.com/wp-content/uploads/2026/02/19115528/Lobby-Bar-Happy-Hour-Menu-A26GKz.webp
END:VEVENT
BEGIN:VEVENT
DTSTART;TZID=America/New_York:20260413T150000
DTEND;TZID=America/New_York:20260413T190000
DTSTAMP:20260421T214327
CREATED:20260113T001746Z
LAST-MODIFIED:20260413T232019Z
UID:10013873-1776092400-1776106800@www.thelinehotel.com
SUMMARY:No Goodbyes Happy Hour
DESCRIPTION:Monday-Saturday: 3pm – 7pm
URL:https://www.thelinehotel.com/event/no-goodbyes-happy-hour-1318/
LOCATION:The LINE DC\, 2468 Champlain St NW\, Washington\, DC\, 20009\, United States
CATEGORIES:food & drink,Washington DC
ATTACH;FMTTYPE=image/jpeg:https://www.thelinehotel.com/wp-content/uploads/2022/11/15103247/stepitup-e1649866664936-u0osfp.tmp_.jpg
END:VEVENT
END:VCALENDAR