BEGIN:VCALENDAR
VERSION:2.0
PRODID:-//The LINE Hotels - ECPv6.13.2//NONSGML v1.0//EN
CALSCALE:GREGORIAN
METHOD:PUBLISH
X-WR-CALNAME:The LINE Hotels
X-ORIGINAL-URL:https://www.thelinehotel.com
X-WR-CALDESC:Events for The LINE Hotels
REFRESH-INTERVAL;VALUE=DURATION:PT1H
X-Robots-Tag:noindex
X-PUBLISHED-TTL:PT1H
BEGIN:VTIMEZONE
TZID:America/New_York
BEGIN:DAYLIGHT
TZOFFSETFROM:-0500
TZOFFSETTO:-0400
TZNAME:EDT
DTSTART:20260308T070000
END:DAYLIGHT
BEGIN:STANDARD
TZOFFSETFROM:-0400
TZOFFSETTO:-0500
TZNAME:EST
DTSTART:20261101T060000
END:STANDARD
END:VTIMEZONE
BEGIN:VTIMEZONE
TZID:America/Los_Angeles
BEGIN:DAYLIGHT
TZOFFSETFROM:-0800
TZOFFSETTO:-0700
TZNAME:PDT
DTSTART:20260308T100000
END:DAYLIGHT
BEGIN:STANDARD
TZOFFSETFROM:-0700
TZOFFSETTO:-0800
TZNAME:PST
DTSTART:20261101T090000
END:STANDARD
END:VTIMEZONE
BEGIN:VTIMEZONE
TZID:America/Chicago
BEGIN:DAYLIGHT
TZOFFSETFROM:-0600
TZOFFSETTO:-0500
TZNAME:CDT
DTSTART:20260308T080000
END:DAYLIGHT
BEGIN:STANDARD
TZOFFSETFROM:-0500
TZOFFSETTO:-0600
TZNAME:CST
DTSTART:20261101T070000
END:STANDARD
END:VTIMEZONE
BEGIN:VTIMEZONE
TZID:America/Chicago
BEGIN:DAYLIGHT
TZOFFSETFROM:-0600
TZOFFSETTO:-0500
TZNAME:CDT
DTSTART:20260308T080000
END:DAYLIGHT
BEGIN:STANDARD
TZOFFSETFROM:-0500
TZOFFSETTO:-0600
TZNAME:CST
DTSTART:20261101T070000
END:STANDARD
END:VTIMEZONE
BEGIN:VEVENT
DTSTART;TZID=America/New_York:20260312T150000
DTEND;TZID=America/New_York:20260312T190000
DTSTAMP:20260421T184649
CREATED:20260102T223805Z
LAST-MODIFIED:20260312T235026Z
UID:10013530-1773327600-1773342000@www.thelinehotel.com
SUMMARY:No Goodbyes Happy Hour
DESCRIPTION:Monday-Saturday: 3pm – 7pm
URL:https://www.thelinehotel.com/event/no-goodbyes-happy-hour-1292/
LOCATION:The LINE DC\, 2468 Champlain St NW\, Washington\, DC\, 20009\, United States
CATEGORIES:food & drink,Washington DC
ATTACH;FMTTYPE=image/jpeg:https://www.thelinehotel.com/wp-content/uploads/2022/11/15103247/stepitup-e1649866664936-u0osfp.tmp_.jpg
END:VEVENT
BEGIN:VEVENT
DTSTART;TZID=America/Los_Angeles:20260312T150000
DTEND;TZID=America/Los_Angeles:20260312T190000
DTSTAMP:20260421T184649
CREATED:20260127T011742Z
LAST-MODIFIED:20260312T222037Z
UID:10013945-1773327600-1773342000@www.thelinehotel.com
SUMMARY:Happy Hour at Lobby Bar
DESCRIPTION:When you’re looking for the good stuff made simple\, Lobby Bar is your unpretentious hang with all the classics. Stop in for daily happy hour\, refreshing cocktails\, and an eclectic mix of bar snacks.
URL:https://www.thelinehotel.com/event/happy-hour-at-lobby-bar-708/
LOCATION:Lobby Bar
CATEGORIES:food & drink,Los Angeles
ATTACH;FMTTYPE=image/webp:https://www.thelinehotel.com/wp-content/uploads/2026/02/19115528/Lobby-Bar-Happy-Hour-Menu-A26GKz.webp
END:VEVENT
BEGIN:VEVENT
DTSTART;TZID=America/Chicago:20260312T160000
DTEND;TZID=America/Chicago:20260312T210000
DTSTAMP:20260421T184649
CREATED:20251212T002104Z
LAST-MODIFIED:20260312T230516Z
UID:10013453-1773331200-1773349200@www.thelinehotel.com
SUMMARY:‘Agave After Work’ Happy Hour
DESCRIPTION:Join us at Cantero for Agave After Work\, a weekly celebration of the desert’s bold flavors and the vibrant energy of downtown Austin. Every week\, we’re serving up refreshing drink specials as a tribute to the spirits of the desert—sotol and agave—alongside mouthwatering Veracruz tacos. Our curated musicians’ sets or live music bring the perfect mix of ambient rhythms\, creating a relaxed yet lively atmosphere for you to unwind with friends after a long day of work. Whether you’re here to sip\, savor\, or soak in the festive vibes\, Agave After Work is the ultimate way to unwind and kick off your evening. \n  \nView the Happy Hour Menu HERE.
URL:https://www.thelinehotel.com/event/agave-after-work-happy-hour-18/
LOCATION:Cantero\, 111 E Cesar Chavez St\, Austin\, TX\, 78701\, United States
CATEGORIES:Austin,food & drink,Music & Entertainment
ATTACH;FMTTYPE=image/webp:https://www.thelinehotel.com/wp-content/uploads/2025/10/14043026/2024.10_JadeHammer_Opening_-105-6e1aib.webp
END:VEVENT
BEGIN:VEVENT
DTSTART;TZID=America/Chicago:20260312T173000
DTEND;TZID=America/Chicago:20260312T190000
DTSTAMP:20260421T184649
CREATED:20260106T003639Z
LAST-MODIFIED:20260312T230517Z
UID:10013583-1773336600-1773342000@www.thelinehotel.com
SUMMARY:Tarot in The Lobby
DESCRIPTION:Join us in the East Lobby for free tarot readings every Thursday from Megan at Jaguar High Priestess. First come\, first served (open to hotel guests only.) \nWith a larger group? It’s okay to bring your friends—we can accommodate up to six for a collective journey through the cosmos. 
URL:https://www.thelinehotel.com/event/tarot-in-the-lobby-86/
LOCATION:The LINE Austin\, 111 E Cesar Chavez St\, Austin\, TX\, 78701\, United States
CATEGORIES:Austin,Health & Wellness
ATTACH;FMTTYPE=image/jpeg:https://www.thelinehotel.com/wp-content/uploads/2023/11/02003235/Austin_TarotInTheLobby-pZcTab.tmp_.jpg
END:VEVENT
BEGIN:VEVENT
DTSTART;TZID=America/New_York:20260312T180000
DTEND;TZID=America/New_York:20260312T193000
DTSTAMP:20260421T184649
CREATED:20260307T005519Z
LAST-MODIFIED:20260312T235027Z
UID:10014102-1773338400-1773343800@www.thelinehotel.com
SUMMARY:Transformer Framework Panel #39
DESCRIPTION:Transformer continues its artist-centered FRAMEWORK Panel Series with FRAMEWORK 39: Women Shaping Contemporary Practice\, presented with artconnexDC\, a collective of diverse women-identifying and non-binary visual arts professionals supporting the DC arts ecosystem. \nHosted during Women’s History Month\, the panel highlights artists currently featured in Transformer-curated exhibitions at the LINE DC. DC-based artists Genie Ghim\, Xenia Gray\, Rose Jaffe\, Katherine Sable\, and Sarah Bell Wilson will discuss their experiences navigating today’s cultural landscape\, moderated by Victoria Reis\, Transformer’s co-Founder\, Executive & Artistic Director\, and Tiffany Williams\, contemporary art curator and artconnexDC organizer. \nFor more information on the event\, please visit this page from Transformer’s website. \nAttendance is Free & Open to the Public. Advance Registration Required.
URL:https://www.thelinehotel.com/event/transformer-framework-panel-39/
LOCATION:The LINE DC\, 2468 Champlain St NW\, Washington\, DC\, 20009\, United States
CATEGORIES:Arts & Culture,Washington DC
ATTACH;FMTTYPE=image/jpeg:https://www.thelinehotel.com/wp-content/uploads/2026/03/06165529/LineDC_Transformer-Event_WebCalendar_v2-scaled-XYnI34.jpg
END:VEVENT
BEGIN:VEVENT
DTSTART;TZID=America/New_York:20260313T150000
DTEND;TZID=America/New_York:20260313T190000
DTSTAMP:20260421T184649
CREATED:20260102T223818Z
LAST-MODIFIED:20260313T232525Z
UID:10013531-1773414000-1773428400@www.thelinehotel.com
SUMMARY:No Goodbyes Happy Hour
DESCRIPTION:Monday-Saturday: 3pm – 7pm
URL:https://www.thelinehotel.com/event/no-goodbyes-happy-hour-1293/
LOCATION:The LINE DC\, 2468 Champlain St NW\, Washington\, DC\, 20009\, United States
CATEGORIES:food & drink,Washington DC
ATTACH;FMTTYPE=image/jpeg:https://www.thelinehotel.com/wp-content/uploads/2022/11/15103247/stepitup-e1649866664936-u0osfp.tmp_.jpg
END:VEVENT
BEGIN:VEVENT
DTSTART;TZID=America/Los_Angeles:20260313T150000
DTEND;TZID=America/Los_Angeles:20260313T190000
DTSTAMP:20260421T184649
CREATED:20260127T011744Z
LAST-MODIFIED:20260313T232527Z
UID:10013946-1773414000-1773428400@www.thelinehotel.com
SUMMARY:Happy Hour at Lobby Bar
DESCRIPTION:When you’re looking for the good stuff made simple\, Lobby Bar is your unpretentious hang with all the classics. Stop in for daily happy hour\, refreshing cocktails\, and an eclectic mix of bar snacks.
URL:https://www.thelinehotel.com/event/happy-hour-at-lobby-bar-709/
LOCATION:Lobby Bar
CATEGORIES:food & drink,Los Angeles
ATTACH;FMTTYPE=image/webp:https://www.thelinehotel.com/wp-content/uploads/2026/02/19115528/Lobby-Bar-Happy-Hour-Menu-A26GKz.webp
END:VEVENT
BEGIN:VEVENT
DTSTART;TZID=America/Chicago:20260314T090000
DTEND;TZID=America/Chicago:20260314T100000
DTSTAMP:20260421T184649
CREATED:20260302T205120Z
LAST-MODIFIED:20260314T234058Z
UID:10014083-1773478800-1773482400@www.thelinehotel.com
SUMMARY:Slow Flow Yoga
DESCRIPTION:Join us every Saturday morning for a slow-flow class to start the weekend right. Taught by Megan at Jaguar High Priestess. Mats provided.
URL:https://www.thelinehotel.com/event/slow-flow-yoga-210/
LOCATION:The LINE Austin\, 111 E Cesar Chavez St\, Austin\, TX\, 78701\, United States
CATEGORIES:Austin,Health & Wellness
ATTACH;FMTTYPE=image/jpeg:https://www.thelinehotel.com/wp-content/uploads/2024/10/29065015/Slow-Flow-Yoga-Update-Winter-2024-Website-Calendar-WcYEe8.tmp_.jpg
END:VEVENT
BEGIN:VEVENT
DTSTART;TZID=America/New_York:20260314T150000
DTEND;TZID=America/New_York:20260314T190000
DTSTAMP:20260421T184649
CREATED:20260102T223820Z
LAST-MODIFIED:20260314T230018Z
UID:10013532-1773500400-1773514800@www.thelinehotel.com
SUMMARY:No Goodbyes Happy Hour
DESCRIPTION:Monday-Saturday: 3pm – 7pm
URL:https://www.thelinehotel.com/event/no-goodbyes-happy-hour-1294/
LOCATION:The LINE DC\, 2468 Champlain St NW\, Washington\, DC\, 20009\, United States
CATEGORIES:food & drink,Washington DC
ATTACH;FMTTYPE=image/jpeg:https://www.thelinehotel.com/wp-content/uploads/2022/11/15103247/stepitup-e1649866664936-u0osfp.tmp_.jpg
END:VEVENT
BEGIN:VEVENT
DTSTART;TZID=America/Los_Angeles:20260314T150000
DTEND;TZID=America/Los_Angeles:20260314T190000
DTSTAMP:20260421T184649
CREATED:20260127T011745Z
LAST-MODIFIED:20260314T232535Z
UID:10013947-1773500400-1773514800@www.thelinehotel.com
SUMMARY:Happy Hour at Lobby Bar
DESCRIPTION:When you’re looking for the good stuff made simple\, Lobby Bar is your unpretentious hang with all the classics. Stop in for daily happy hour\, refreshing cocktails\, and an eclectic mix of bar snacks.
URL:https://www.thelinehotel.com/event/happy-hour-at-lobby-bar-710/
LOCATION:Lobby Bar
CATEGORIES:food & drink,Los Angeles
ATTACH;FMTTYPE=image/webp:https://www.thelinehotel.com/wp-content/uploads/2026/02/19115528/Lobby-Bar-Happy-Hour-Menu-A26GKz.webp
END:VEVENT
BEGIN:VEVENT
DTSTART;TZID=America/Los_Angeles:20260315T150000
DTEND;TZID=America/Los_Angeles:20260315T190000
DTSTAMP:20260421T184649
CREATED:20260127T011747Z
LAST-MODIFIED:20260315T232519Z
UID:10013948-1773586800-1773601200@www.thelinehotel.com
SUMMARY:Happy Hour at Lobby Bar
DESCRIPTION:When you’re looking for the good stuff made simple\, Lobby Bar is your unpretentious hang with all the classics. Stop in for daily happy hour\, refreshing cocktails\, and an eclectic mix of bar snacks.
URL:https://www.thelinehotel.com/event/happy-hour-at-lobby-bar-711/
LOCATION:Lobby Bar
CATEGORIES:food & drink,Los Angeles
ATTACH;FMTTYPE=image/webp:https://www.thelinehotel.com/wp-content/uploads/2026/02/19115528/Lobby-Bar-Happy-Hour-Menu-A26GKz.webp
END:VEVENT
BEGIN:VEVENT
DTSTART;TZID=America/Chicago:20260315T160000
DTEND;TZID=America/Chicago:20260315T230000
DTSTAMP:20260421T184650
CREATED:20251215T004130Z
LAST-MODIFIED:20260315T232515Z
UID:10013454-1773590400-1773615600@www.thelinehotel.com
SUMMARY:Sip Well Sundays
DESCRIPTION:\,lWine down from the weekend with $20 off bottles of wine — every Sunday evening at P6.
URL:https://www.thelinehotel.com/event/sip-well-sundays-160/
LOCATION:P6 at the LINE Austin\, 111 E Cesar Chavez St\, Austin\, Texas\, 78701
CATEGORIES:Austin,food & drink
ATTACH;FMTTYPE=image/webp:https://www.thelinehotel.com/wp-content/uploads/2026/03/12060040/MUR_7967-opt-2DxOw7.webp
END:VEVENT
BEGIN:VEVENT
DTSTART;TZID=America/Chicago:20260316T080000
DTEND;TZID=America/Chicago:20260316T090000
DTSTAMP:20260421T184650
CREATED:20251216T002136Z
LAST-MODIFIED:20260316T231520Z
UID:10013455-1773648000-1773651600@www.thelinehotel.com
SUMMARY:Morning Brew with Alfred
DESCRIPTION:Join us at the lobby every Monday morning for complimentary drip coffee or cold brew from Alfred\, plus views of Lady Bird Lake from under sprawling\, shady oaks.
URL:https://www.thelinehotel.com/event/morning-brew-with-alfred-130/
LOCATION:The LINE Austin\, 111 E Cesar Chavez St\, Austin\, TX\, 78701\, United States
CATEGORIES:Austin,food & drink
ATTACH;FMTTYPE=image/webp:https://www.thelinehotel.com/wp-content/uploads/2025/11/17090025/alfred-coffee-stacked-ItzEP6.tmp_-mLxNWL.webp
END:VEVENT
BEGIN:VEVENT
DTSTART;TZID=America/New_York:20260316T150000
DTEND;TZID=America/New_York:20260316T190000
DTSTAMP:20260421T184650
CREATED:20260102T223822Z
LAST-MODIFIED:20260316T231520Z
UID:10013533-1773673200-1773687600@www.thelinehotel.com
SUMMARY:No Goodbyes Happy Hour
DESCRIPTION:Monday-Saturday: 3pm – 7pm
URL:https://www.thelinehotel.com/event/no-goodbyes-happy-hour-1295/
LOCATION:The LINE DC\, 2468 Champlain St NW\, Washington\, DC\, 20009\, United States
CATEGORIES:food & drink,Washington DC
ATTACH;FMTTYPE=image/jpeg:https://www.thelinehotel.com/wp-content/uploads/2022/11/15103247/stepitup-e1649866664936-u0osfp.tmp_.jpg
END:VEVENT
BEGIN:VEVENT
DTSTART;TZID=America/Los_Angeles:20260316T150000
DTEND;TZID=America/Los_Angeles:20260316T190000
DTSTAMP:20260421T184650
CREATED:20260127T011748Z
LAST-MODIFIED:20260316T230019Z
UID:10013949-1773673200-1773687600@www.thelinehotel.com
SUMMARY:Happy Hour at Lobby Bar
DESCRIPTION:When you’re looking for the good stuff made simple\, Lobby Bar is your unpretentious hang with all the classics. Stop in for daily happy hour\, refreshing cocktails\, and an eclectic mix of bar snacks.
URL:https://www.thelinehotel.com/event/happy-hour-at-lobby-bar-712/
LOCATION:Lobby Bar
CATEGORIES:food & drink,Los Angeles
ATTACH;FMTTYPE=image/webp:https://www.thelinehotel.com/wp-content/uploads/2026/02/19115528/Lobby-Bar-Happy-Hour-Menu-A26GKz.webp
END:VEVENT
BEGIN:VEVENT
DTSTART;TZID=America/New_York:20260317T150000
DTEND;TZID=America/New_York:20260317T190000
DTSTAMP:20260421T184650
CREATED:20260102T223823Z
LAST-MODIFIED:20260317T235518Z
UID:10013534-1773759600-1773774000@www.thelinehotel.com
SUMMARY:No Goodbyes Happy Hour
DESCRIPTION:Monday-Saturday: 3pm – 7pm
URL:https://www.thelinehotel.com/event/no-goodbyes-happy-hour-1296/
LOCATION:The LINE DC\, 2468 Champlain St NW\, Washington\, DC\, 20009\, United States
CATEGORIES:food & drink,Washington DC
ATTACH;FMTTYPE=image/jpeg:https://www.thelinehotel.com/wp-content/uploads/2022/11/15103247/stepitup-e1649866664936-u0osfp.tmp_.jpg
END:VEVENT
BEGIN:VEVENT
DTSTART;TZID=America/Los_Angeles:20260317T150000
DTEND;TZID=America/Los_Angeles:20260317T190000
DTSTAMP:20260421T184650
CREATED:20260127T011802Z
LAST-MODIFIED:20260317T232519Z
UID:10013950-1773759600-1773774000@www.thelinehotel.com
SUMMARY:Happy Hour at Lobby Bar
DESCRIPTION:When you’re looking for the good stuff made simple\, Lobby Bar is your unpretentious hang with all the classics. Stop in for daily happy hour\, refreshing cocktails\, and an eclectic mix of bar snacks.
URL:https://www.thelinehotel.com/event/happy-hour-at-lobby-bar-713/
LOCATION:Lobby Bar
CATEGORIES:food & drink,Los Angeles
ATTACH;FMTTYPE=image/webp:https://www.thelinehotel.com/wp-content/uploads/2026/02/19115528/Lobby-Bar-Happy-Hour-Menu-A26GKz.webp
END:VEVENT
BEGIN:VEVENT
DTSTART;TZID=America/New_York:20260318T150000
DTEND;TZID=America/New_York:20260318T190000
DTSTAMP:20260421T184650
CREATED:20260102T223825Z
LAST-MODIFIED:20260318T232017Z
UID:10013535-1773846000-1773860400@www.thelinehotel.com
SUMMARY:No Goodbyes Happy Hour
DESCRIPTION:Monday-Saturday: 3pm – 7pm
URL:https://www.thelinehotel.com/event/no-goodbyes-happy-hour-1297/
LOCATION:The LINE DC\, 2468 Champlain St NW\, Washington\, DC\, 20009\, United States
CATEGORIES:food & drink,Washington DC
ATTACH;FMTTYPE=image/jpeg:https://www.thelinehotel.com/wp-content/uploads/2022/11/15103247/stepitup-e1649866664936-u0osfp.tmp_.jpg
END:VEVENT
BEGIN:VEVENT
DTSTART;TZID=America/Los_Angeles:20260318T150000
DTEND;TZID=America/Los_Angeles:20260318T190000
DTSTAMP:20260421T184650
CREATED:20260127T011803Z
LAST-MODIFIED:20260318T230521Z
UID:10013951-1773846000-1773860400@www.thelinehotel.com
SUMMARY:Happy Hour at Lobby Bar
DESCRIPTION:When you’re looking for the good stuff made simple\, Lobby Bar is your unpretentious hang with all the classics. Stop in for daily happy hour\, refreshing cocktails\, and an eclectic mix of bar snacks.
URL:https://www.thelinehotel.com/event/happy-hour-at-lobby-bar-714/
LOCATION:Lobby Bar
CATEGORIES:food & drink,Los Angeles
ATTACH;FMTTYPE=image/webp:https://www.thelinehotel.com/wp-content/uploads/2026/02/19115528/Lobby-Bar-Happy-Hour-Menu-A26GKz.webp
END:VEVENT
BEGIN:VEVENT
DTSTART;TZID=America/New_York:20260319T150000
DTEND;TZID=America/New_York:20260319T190000
DTSTAMP:20260421T184650
CREATED:20260102T223826Z
LAST-MODIFIED:20260319T210535Z
UID:10013536-1773932400-1773946800@www.thelinehotel.com
SUMMARY:No Goodbyes Happy Hour
DESCRIPTION:Monday-Saturday: 3pm – 7pm
URL:https://www.thelinehotel.com/event/no-goodbyes-happy-hour-1298/
LOCATION:The LINE DC\, 2468 Champlain St NW\, Washington\, DC\, 20009\, United States
CATEGORIES:food & drink,Washington DC
ATTACH;FMTTYPE=image/jpeg:https://www.thelinehotel.com/wp-content/uploads/2022/11/15103247/stepitup-e1649866664936-u0osfp.tmp_.jpg
END:VEVENT
BEGIN:VEVENT
DTSTART;TZID=America/Los_Angeles:20260319T150000
DTEND;TZID=America/Los_Angeles:20260319T190000
DTSTAMP:20260421T184650
CREATED:20260127T011805Z
LAST-MODIFIED:20260319T210542Z
UID:10013952-1773932400-1773946800@www.thelinehotel.com
SUMMARY:Happy Hour at Lobby Bar
DESCRIPTION:When you’re looking for the good stuff made simple\, Lobby Bar is your unpretentious hang with all the classics. Stop in for daily happy hour\, refreshing cocktails\, and an eclectic mix of bar snacks.
URL:https://www.thelinehotel.com/event/happy-hour-at-lobby-bar-715/
LOCATION:Lobby Bar
CATEGORIES:food & drink,Los Angeles
ATTACH;FMTTYPE=image/webp:https://www.thelinehotel.com/wp-content/uploads/2026/02/19115528/Lobby-Bar-Happy-Hour-Menu-A26GKz.webp
END:VEVENT
BEGIN:VEVENT
DTSTART;TZID=America/Chicago:20260319T160000
DTEND;TZID=America/Chicago:20260319T210000
DTSTAMP:20260421T184650
CREATED:20251219T000635Z
LAST-MODIFIED:20260319T234054Z
UID:10013456-1773936000-1773954000@www.thelinehotel.com
SUMMARY:‘Agave After Work’ Happy Hour
DESCRIPTION:Join us at Cantero for Agave After Work\, a weekly celebration of the desert’s bold flavors and the vibrant energy of downtown Austin. Every week\, we’re serving up refreshing drink specials as a tribute to the spirits of the desert—sotol and agave—alongside mouthwatering Veracruz tacos. Our curated musicians’ sets or live music bring the perfect mix of ambient rhythms\, creating a relaxed yet lively atmosphere for you to unwind with friends after a long day of work. Whether you’re here to sip\, savor\, or soak in the festive vibes\, Agave After Work is the ultimate way to unwind and kick off your evening. \n  \nView the Happy Hour Menu HERE.
URL:https://www.thelinehotel.com/event/agave-after-work-happy-hour-53/
LOCATION:Cantero\, 111 E Cesar Chavez St\, Austin\, TX\, 78701\, United States
CATEGORIES:Austin,food & drink,Music & Entertainment
ATTACH;FMTTYPE=image/webp:https://www.thelinehotel.com/wp-content/uploads/2025/10/14043026/2024.10_JadeHammer_Opening_-105-6e1aib.webp
END:VEVENT
BEGIN:VEVENT
DTSTART;TZID=America/Chicago:20260319T173000
DTEND;TZID=America/Chicago:20260319T190000
DTSTAMP:20260421T184650
CREATED:20260106T003655Z
LAST-MODIFIED:20260319T234054Z
UID:10013584-1773941400-1773946800@www.thelinehotel.com
SUMMARY:Tarot in The Lobby
DESCRIPTION:Join us in the East Lobby for free tarot readings every Thursday from Megan at Jaguar High Priestess. First come\, first served (open to hotel guests only.) \nWith a larger group? It’s okay to bring your friends—we can accommodate up to six for a collective journey through the cosmos. 
URL:https://www.thelinehotel.com/event/tarot-in-the-lobby-87/
LOCATION:The LINE Austin\, 111 E Cesar Chavez St\, Austin\, TX\, 78701\, United States
CATEGORIES:Austin,Health & Wellness
ATTACH;FMTTYPE=image/jpeg:https://www.thelinehotel.com/wp-content/uploads/2023/11/02003235/Austin_TarotInTheLobby-pZcTab.tmp_.jpg
END:VEVENT
BEGIN:VEVENT
DTSTART;TZID=America/New_York:20260320T150000
DTEND;TZID=America/New_York:20260320T190000
DTSTAMP:20260421T184650
CREATED:20260102T223828Z
LAST-MODIFIED:20260320T211517Z
UID:10013537-1774018800-1774033200@www.thelinehotel.com
SUMMARY:No Goodbyes Happy Hour
DESCRIPTION:Monday-Saturday: 3pm – 7pm
URL:https://www.thelinehotel.com/event/no-goodbyes-happy-hour-1299/
LOCATION:The LINE DC\, 2468 Champlain St NW\, Washington\, DC\, 20009\, United States
CATEGORIES:food & drink,Washington DC
ATTACH;FMTTYPE=image/jpeg:https://www.thelinehotel.com/wp-content/uploads/2022/11/15103247/stepitup-e1649866664936-u0osfp.tmp_.jpg
END:VEVENT
BEGIN:VEVENT
DTSTART;TZID=America/Los_Angeles:20260320T150000
DTEND;TZID=America/Los_Angeles:20260320T190000
DTSTAMP:20260421T184650
CREATED:20260127T011806Z
LAST-MODIFIED:20260320T213020Z
UID:10013953-1774018800-1774033200@www.thelinehotel.com
SUMMARY:Happy Hour at Lobby Bar
DESCRIPTION:When you’re looking for the good stuff made simple\, Lobby Bar is your unpretentious hang with all the classics. Stop in for daily happy hour\, refreshing cocktails\, and an eclectic mix of bar snacks.
URL:https://www.thelinehotel.com/event/happy-hour-at-lobby-bar-716/
LOCATION:Lobby Bar
CATEGORIES:food & drink,Los Angeles
ATTACH;FMTTYPE=image/webp:https://www.thelinehotel.com/wp-content/uploads/2026/02/19115528/Lobby-Bar-Happy-Hour-Menu-A26GKz.webp
END:VEVENT
BEGIN:VEVENT
DTSTART;TZID=America/Chicago:20260320T163000
DTEND;TZID=America/Chicago:20260320T173000
DTSTAMP:20260421T184650
CREATED:20260318T213518Z
LAST-MODIFIED:20260320T213018Z
UID:10014157-1774024200-1774027800@www.thelinehotel.com
SUMMARY:Unofficial SXSW Winddown: Jonny Tex LIVE at the Pool
DESCRIPTION:Join us Friday\, March 20\, for Jonny Tex at the LINE Austin pool. \nJonny Tex is a Boston band that sounds like it’s from somewhere else. Once a messy country cover act kicked off mid-residency\, they’ve reemerged with tight songs\, dry humor\, and a steadier hand on the wheel. Their music blends earnest absurdism with slacker pop precision and Western undertones\, delivered with blunt conviction and more sermon than confession. \nIn less than a year\, Jonny Tex has opened for Guerrilla Toss\, Godcaster\, French Cassettes\, and The Thing\, bringing disciplined yet high-energy sets to rooms like Crystal Ballroom and Brighton Music Hall. Now signed to Austin label Happen Twice\, the band is building toward a debut EP out this spring. \nTex\, a former youth pastor in training\, writes as someone who mistakes confidence for clarity. The songs are threaded with dry humor and small self-exposures\, where Southern gothic imagery meets East Coast restraint. They stay locked in even as the narrator begins to wobble. It’s art rock that sounds certain while quietly questioning itself. \nNote: This event is free with RSVP
URL:https://www.thelinehotel.com/event/unofficial-sxsw-winddown-jonny-tex-live-at-the-pool/
LOCATION:TX
CATEGORIES:Austin,Music & Entertainment
ATTACH;FMTTYPE=image/png:https://www.thelinehotel.com/wp-content/uploads/2026/03/18143628/JONNY-TEX-FINAL-UBfGQe.png
END:VEVENT
BEGIN:VEVENT
DTSTART;TZID=America/Chicago:20260321T090000
DTEND;TZID=America/Chicago:20260321T100000
DTSTAMP:20260421T184650
CREATED:20260302T205124Z
LAST-MODIFIED:20260321T235017Z
UID:10014084-1774083600-1774087200@www.thelinehotel.com
SUMMARY:Slow Flow Yoga
DESCRIPTION:Join us every Saturday morning for a slow-flow class to start the weekend right. Taught by Megan at Jaguar High Priestess. Mats provided.
URL:https://www.thelinehotel.com/event/slow-flow-yoga-232/
LOCATION:The LINE Austin\, 111 E Cesar Chavez St\, Austin\, TX\, 78701\, United States
CATEGORIES:Austin,Health & Wellness
ATTACH;FMTTYPE=image/jpeg:https://www.thelinehotel.com/wp-content/uploads/2024/10/29065015/Slow-Flow-Yoga-Update-Winter-2024-Website-Calendar-WcYEe8.tmp_.jpg
END:VEVENT
BEGIN:VEVENT
DTSTART;TZID=America/Los_Angeles:20260321T100000
DTEND;TZID=America/Los_Angeles:20260321T143000
DTSTAMP:20260421T184650
CREATED:20260316T205522Z
LAST-MODIFIED:20260321T230520Z
UID:10014126-1774087200-1774103400@www.thelinehotel.com
SUMMARY:Weekend Brunch at Openaire
DESCRIPTION:There’s no better way to do the weekend than a long\, unhurried brunch. \nOur weekend brunch menu is crafted to satisfy every craving\, whether you’re starting light with our Coconut and Chia Pudding or going all-in with the Hibachi-Grilled Hanger Steak and Eggs. From classic Eggs Benedict and Huevos Rancheros to the Corn Flake-Crusted French Toast drizzled with yuzu-berry compote\, there’s something for everyone at the table. Pull up a chair\, take your time\, and let brunch be the best part of your weekend. \nView brunch menu here
URL:https://www.thelinehotel.com/event/weekend-brunch-at-openaire/
LOCATION:Openaire\, 3515 Wilshire Blvd\, Los Angeles\, CA\, 90010\, United States
CATEGORIES:food & drink,Los Angeles
ATTACH;FMTTYPE=image/webp:https://www.thelinehotel.com/wp-content/uploads/2026/03/16135528/Openaire_edits-35_2023_Jayna-GWmqiT.webp
END:VEVENT
BEGIN:VEVENT
DTSTART;TZID=America/New_York:20260321T150000
DTEND;TZID=America/New_York:20260321T190000
DTSTAMP:20260421T184650
CREATED:20260102T223829Z
LAST-MODIFIED:20260321T235017Z
UID:10013538-1774105200-1774119600@www.thelinehotel.com
SUMMARY:No Goodbyes Happy Hour
DESCRIPTION:Monday-Saturday: 3pm – 7pm
URL:https://www.thelinehotel.com/event/no-goodbyes-happy-hour-1300/
LOCATION:The LINE DC\, 2468 Champlain St NW\, Washington\, DC\, 20009\, United States
CATEGORIES:food & drink,Washington DC
ATTACH;FMTTYPE=image/jpeg:https://www.thelinehotel.com/wp-content/uploads/2022/11/15103247/stepitup-e1649866664936-u0osfp.tmp_.jpg
END:VEVENT
BEGIN:VEVENT
DTSTART;TZID=America/Los_Angeles:20260321T150000
DTEND;TZID=America/Los_Angeles:20260321T190000
DTSTAMP:20260421T184650
CREATED:20260127T011808Z
LAST-MODIFIED:20260321T230520Z
UID:10013954-1774105200-1774119600@www.thelinehotel.com
SUMMARY:Happy Hour at Lobby Bar
DESCRIPTION:When you’re looking for the good stuff made simple\, Lobby Bar is your unpretentious hang with all the classics. Stop in for daily happy hour\, refreshing cocktails\, and an eclectic mix of bar snacks.
URL:https://www.thelinehotel.com/event/happy-hour-at-lobby-bar-717/
LOCATION:Lobby Bar
CATEGORIES:food & drink,Los Angeles
ATTACH;FMTTYPE=image/webp:https://www.thelinehotel.com/wp-content/uploads/2026/02/19115528/Lobby-Bar-Happy-Hour-Menu-A26GKz.webp
END:VEVENT
END:VCALENDAR