BEGIN:VCALENDAR
VERSION:2.0
PRODID:-//The LINE Hotels - ECPv6.13.2//NONSGML v1.0//EN
CALSCALE:GREGORIAN
METHOD:PUBLISH
X-ORIGINAL-URL:https://www.thelinehotel.com
X-WR-CALDESC:Events for The LINE Hotels
REFRESH-INTERVAL;VALUE=DURATION:PT1H
X-Robots-Tag:noindex
X-PUBLISHED-TTL:PT1H
BEGIN:VTIMEZONE
TZID:America/Chicago
BEGIN:DAYLIGHT
TZOFFSETFROM:-0600
TZOFFSETTO:-0500
TZNAME:CDT
DTSTART:20260308T080000
END:DAYLIGHT
BEGIN:STANDARD
TZOFFSETFROM:-0500
TZOFFSETTO:-0600
TZNAME:CST
DTSTART:20261101T070000
END:STANDARD
END:VTIMEZONE
BEGIN:VTIMEZONE
TZID:America/New_York
BEGIN:DAYLIGHT
TZOFFSETFROM:-0500
TZOFFSETTO:-0400
TZNAME:EDT
DTSTART:20260308T070000
END:DAYLIGHT
BEGIN:STANDARD
TZOFFSETFROM:-0400
TZOFFSETTO:-0500
TZNAME:EST
DTSTART:20261101T060000
END:STANDARD
END:VTIMEZONE
BEGIN:VTIMEZONE
TZID:America/Los_Angeles
BEGIN:DAYLIGHT
TZOFFSETFROM:-0800
TZOFFSETTO:-0700
TZNAME:PDT
DTSTART:20260308T100000
END:DAYLIGHT
BEGIN:STANDARD
TZOFFSETFROM:-0700
TZOFFSETTO:-0800
TZNAME:PST
DTSTART:20261101T090000
END:STANDARD
END:VTIMEZONE
BEGIN:VTIMEZONE
TZID:America/Chicago
BEGIN:DAYLIGHT
TZOFFSETFROM:-0600
TZOFFSETTO:-0500
TZNAME:CDT
DTSTART:20260308T080000
END:DAYLIGHT
BEGIN:STANDARD
TZOFFSETFROM:-0500
TZOFFSETTO:-0600
TZNAME:CST
DTSTART:20261101T070000
END:STANDARD
END:VTIMEZONE
BEGIN:VEVENT
DTSTART;TZID=America/Chicago:20260601T080000
DTEND;TZID=America/Chicago:20260601T090000
DTSTAMP:20260421T145729
CREATED:20260303T005205Z
LAST-MODIFIED:20260421T212120Z
UID:10014092-1780300800-1780304400@www.thelinehotel.com
SUMMARY:Morning Brew with Alfred
DESCRIPTION:Join us at the lobby every Monday morning for complimentary drip coffee or cold brew from Alfred\, plus views of Lady Bird Lake from under sprawling\, shady oaks.
URL:https://www.thelinehotel.com/event/morning-brew-with-alfred-122/
LOCATION:The LINE Austin\, 111 E Cesar Chavez St\, Austin\, TX\, 78701\, United States
CATEGORIES:Austin,food & drink
ATTACH;FMTTYPE=image/webp:https://www.thelinehotel.com/wp-content/uploads/2025/11/17090025/alfred-coffee-stacked-ItzEP6.tmp_-mLxNWL.webp
END:VEVENT
BEGIN:VEVENT
DTSTART;TZID=America/New_York:20260601T150000
DTEND;TZID=America/New_York:20260601T190000
DTSTAMP:20260421T145729
CREATED:20260303T000729Z
LAST-MODIFIED:20260421T215157Z
UID:10014090-1780326000-1780340400@www.thelinehotel.com
SUMMARY:No Goodbyes Happy Hour
DESCRIPTION:Monday-Saturday: 3pm – 7pm
URL:https://www.thelinehotel.com/event/no-goodbyes-happy-hour-1192/
LOCATION:The LINE DC\, 2468 Champlain St NW\, Washington\, DC\, 20009\, United States
CATEGORIES:food & drink,Washington DC
ATTACH;FMTTYPE=image/jpeg:https://www.thelinehotel.com/wp-content/uploads/2022/11/15103247/stepitup-e1649866664936-u0osfp.tmp_.jpg
END:VEVENT
BEGIN:VEVENT
DTSTART;TZID=America/New_York:20260602T150000
DTEND;TZID=America/New_York:20260602T190000
DTSTAMP:20260421T145729
CREATED:20260304T004230Z
LAST-MODIFIED:20260421T215157Z
UID:10014094-1780412400-1780426800@www.thelinehotel.com
SUMMARY:No Goodbyes Happy Hour
DESCRIPTION:Monday-Saturday: 3pm – 7pm
URL:https://www.thelinehotel.com/event/no-goodbyes-happy-hour-1194/
LOCATION:The LINE DC\, 2468 Champlain St NW\, Washington\, DC\, 20009\, United States
CATEGORIES:food & drink,Washington DC
ATTACH;FMTTYPE=image/jpeg:https://www.thelinehotel.com/wp-content/uploads/2022/11/15103247/stepitup-e1649866664936-u0osfp.tmp_.jpg
END:VEVENT
BEGIN:VEVENT
DTSTART;TZID=America/New_York:20260603T150000
DTEND;TZID=America/New_York:20260603T190000
DTSTAMP:20260421T145729
CREATED:20260305T002232Z
LAST-MODIFIED:20260421T215158Z
UID:10014095-1780498800-1780513200@www.thelinehotel.com
SUMMARY:No Goodbyes Happy Hour
DESCRIPTION:Monday-Saturday: 3pm – 7pm
URL:https://www.thelinehotel.com/event/no-goodbyes-happy-hour-1196/
LOCATION:The LINE DC\, 2468 Champlain St NW\, Washington\, DC\, 20009\, United States
CATEGORIES:food & drink,Washington DC
ATTACH;FMTTYPE=image/jpeg:https://www.thelinehotel.com/wp-content/uploads/2022/11/15103247/stepitup-e1649866664936-u0osfp.tmp_.jpg
END:VEVENT
BEGIN:VEVENT
DTSTART;TZID=America/New_York:20260604T150000
DTEND;TZID=America/New_York:20260604T190000
DTSTAMP:20260421T145729
CREATED:20260306T005728Z
LAST-MODIFIED:20260421T215158Z
UID:10014099-1780585200-1780599600@www.thelinehotel.com
SUMMARY:No Goodbyes Happy Hour
DESCRIPTION:Monday-Saturday: 3pm – 7pm
URL:https://www.thelinehotel.com/event/no-goodbyes-happy-hour-1197/
LOCATION:The LINE DC\, 2468 Champlain St NW\, Washington\, DC\, 20009\, United States
CATEGORIES:food & drink,Washington DC
ATTACH;FMTTYPE=image/jpeg:https://www.thelinehotel.com/wp-content/uploads/2022/11/15103247/stepitup-e1649866664936-u0osfp.tmp_.jpg
END:VEVENT
BEGIN:VEVENT
DTSTART;TZID=America/Chicago:20260604T160000
DTEND;TZID=America/Chicago:20260604T210000
DTSTAMP:20260421T145729
CREATED:20260306T004206Z
LAST-MODIFIED:20260421T212121Z
UID:10014097-1780588800-1780606800@www.thelinehotel.com
SUMMARY:‘Agave After Work’ Happy Hour
DESCRIPTION:Join us at Cantero for Agave After Work\, a weekly celebration of the desert’s bold flavors and the vibrant energy of downtown Austin. Every week\, we’re serving up refreshing drink specials as a tribute to the spirits of the desert—sotol and agave—alongside mouthwatering Veracruz tacos. Our curated musicians’ sets or live music bring the perfect mix of ambient rhythms\, creating a relaxed yet lively atmosphere for you to unwind with friends after a long day of work. Whether you’re here to sip\, savor\, or soak in the festive vibes\, Agave After Work is the ultimate way to unwind and kick off your evening. \n  \nView the Happy Hour Menu HERE.
URL:https://www.thelinehotel.com/event/agave-after-work-happy-hour-30/
LOCATION:Cantero\, 111 E Cesar Chavez St\, Austin\, TX\, 78701\, United States
CATEGORIES:Austin,food & drink,Music & Entertainment
ATTACH;FMTTYPE=image/webp:https://www.thelinehotel.com/wp-content/uploads/2025/10/14043026/2024.10_JadeHammer_Opening_-105-6e1aib.webp
END:VEVENT
BEGIN:VEVENT
DTSTART;TZID=America/Chicago:20260604T173000
DTEND;TZID=America/Chicago:20260604T190000
DTSTAMP:20260421T145729
CREATED:20260306T004208Z
LAST-MODIFIED:20260421T212122Z
UID:10014098-1780594200-1780599600@www.thelinehotel.com
SUMMARY:Tarot in The Lobby
DESCRIPTION:Join us in the East Lobby for free tarot readings every Thursday from Megan at Jaguar High Priestess. First come\, first served (open to hotel guests only.) \nWith a larger group? It’s okay to bring your friends—we can accommodate up to six for a collective journey through the cosmos. 
URL:https://www.thelinehotel.com/event/tarot-in-the-lobby-98/
LOCATION:The LINE Austin\, 111 E Cesar Chavez St\, Austin\, TX\, 78701\, United States
CATEGORIES:Austin,Health & Wellness
ATTACH;FMTTYPE=image/jpeg:https://www.thelinehotel.com/wp-content/uploads/2023/11/02003235/Austin_TarotInTheLobby-pZcTab.tmp_.jpg
END:VEVENT
BEGIN:VEVENT
DTSTART;TZID=America/Los_Angeles:20260605T150000
DTEND;TZID=America/Los_Angeles:20260605T190000
DTSTAMP:20260421T145729
CREATED:20260307T002259Z
LAST-MODIFIED:20260421T212204Z
UID:10014101-1780671600-1780686000@www.thelinehotel.com
SUMMARY:Happy Hour at Lobby Bar
DESCRIPTION:When you’re looking for the good stuff made simple\, Lobby Bar is your unpretentious hang with all the classics. Stop in for daily happy hour\, refreshing cocktails\, and an eclectic mix of bar snacks.
URL:https://www.thelinehotel.com/event/happy-hour-at-lobby-bar-786/
LOCATION:Lobby Bar
CATEGORIES:food & drink,Los Angeles
ATTACH;FMTTYPE=image/webp:https://www.thelinehotel.com/wp-content/uploads/2026/02/19115528/Lobby-Bar-Happy-Hour-Menu-A26GKz.webp
END:VEVENT
BEGIN:VEVENT
DTSTART;TZID=America/New_York:20260605T150000
DTEND;TZID=America/New_York:20260605T190000
DTSTAMP:20260421T145729
CREATED:20260307T005737Z
LAST-MODIFIED:20260421T215159Z
UID:10014103-1780671600-1780686000@www.thelinehotel.com
SUMMARY:No Goodbyes Happy Hour
DESCRIPTION:Monday-Saturday: 3pm – 7pm
URL:https://www.thelinehotel.com/event/no-goodbyes-happy-hour-1226/
LOCATION:The LINE DC\, 2468 Champlain St NW\, Washington\, DC\, 20009\, United States
CATEGORIES:food & drink,Washington DC
ATTACH;FMTTYPE=image/jpeg:https://www.thelinehotel.com/wp-content/uploads/2022/11/15103247/stepitup-e1649866664936-u0osfp.tmp_.jpg
END:VEVENT
BEGIN:VEVENT
DTSTART;TZID=America/Chicago:20260606T090000
DTEND;TZID=America/Chicago:20260606T100000
DTSTAMP:20260421T145729
CREATED:20260321T011713Z
LAST-MODIFIED:20260421T212122Z
UID:10014172-1780736400-1780740000@www.thelinehotel.com
SUMMARY:Slow Flow Yoga
DESCRIPTION:Join us every Saturday morning for a slow-flow class to start the weekend right. Taught by Megan at Jaguar High Priestess. Mats provided.
URL:https://www.thelinehotel.com/event/slow-flow-yoga-242/
LOCATION:The LINE Austin\, 111 E Cesar Chavez St\, Austin\, TX\, 78701\, United States
CATEGORIES:Austin,Health & Wellness
ATTACH;FMTTYPE=image/webp:https://www.thelinehotel.com/wp-content/uploads/2025/12/01024024/Slow-Flow-Yoga-Update-Winter-2024-Website-Calendar-hluM3H.webp
END:VEVENT
BEGIN:VEVENT
DTSTART;TZID=America/New_York:20260606T090000
DTEND;TZID=America/New_York:20260606T140000
DTSTAMP:20260421T145729
CREATED:20260324T213812Z
LAST-MODIFIED:20260421T215159Z
UID:10014204-1780736400-1780754400@www.thelinehotel.com
SUMMARY:Weekend Brunch at No Goodbyes
DESCRIPTION:Gather your people and make it a moment. Every Saturday and Sunday from 9am to 2pm\, No Goodbyes is the place to slow down\, catch up\, and indulge\, surrounded by the stunning light of our gorgeous space\, once a 110-year-old neoclassical church. \nKick things off with a handcrafted cocktail (or two) and settle in for a menu that’s equal parts comforting and craveable. Think Challah French Toast with dulce de leche and whipped cream\, a Chorizo Hangover Hash loaded with peppers\, avocado\, and fried eggs\, or a classic Benedict elevated with smoked salmon. From classics done right to something a little more decadent\, there’s something for every mood and every member of the crew. \nWe’re here morning\, noon\, and night in Adams Morgan. Come as you are\, stay as long as you’d like.
URL:https://www.thelinehotel.com/event/weekend-brunch-at-no-goodbyes-244/
LOCATION:No Goodbyes
CATEGORIES:food & drink,Washington DC
ATTACH;FMTTYPE=image/jpeg:https://www.thelinehotel.com/wp-content/uploads/2026/03/24143529/20251015_TheLineHotel_holiday_selects-26-scaled-B32yGG.jpg
END:VEVENT
BEGIN:VEVENT
DTSTART;TZID=America/Los_Angeles:20260606T100000
DTEND;TZID=America/Los_Angeles:20260606T143000
DTSTAMP:20260421T145729
CREATED:20260316T205842Z
LAST-MODIFIED:20260421T212205Z
UID:10014148-1780740000-1780756200@www.thelinehotel.com
SUMMARY:Weekend Brunch at Openaire
DESCRIPTION:There’s no better way to do the weekend than a long\, unhurried brunch. \nOur weekend brunch menu is crafted to satisfy every craving\, whether you’re starting light with our Coconut and Chia Pudding or going all-in with the Hibachi-Grilled Hanger Steak and Eggs. From classic Eggs Benedict and Huevos Rancheros to the Corn Flake-Crusted French Toast drizzled with yuzu-berry compote\, there’s something for everyone at the table. Pull up a chair\, take your time\, and let brunch be the best part of your weekend. \nView brunch menu here
URL:https://www.thelinehotel.com/event/weekend-brunch-at-openaire-23/
LOCATION:Openaire\, 3515 Wilshire Blvd\, Los Angeles\, CA\, 90010\, United States
CATEGORIES:food & drink,Los Angeles
ATTACH;FMTTYPE=image/webp:https://www.thelinehotel.com/wp-content/uploads/2026/03/16135528/Openaire_edits-35_2023_Jayna-GWmqiT.webp
END:VEVENT
BEGIN:VEVENT
DTSTART;TZID=America/New_York:20260606T150000
DTEND;TZID=America/New_York:20260606T190000
DTSTAMP:20260421T145729
CREATED:20260308T004234Z
LAST-MODIFIED:20260421T215213Z
UID:10014104-1780758000-1780772400@www.thelinehotel.com
SUMMARY:No Goodbyes Happy Hour
DESCRIPTION:Monday-Saturday: 3pm – 7pm
URL:https://www.thelinehotel.com/event/no-goodbyes-happy-hour-1232/
LOCATION:The LINE DC\, 2468 Champlain St NW\, Washington\, DC\, 20009\, United States
CATEGORIES:food & drink,Washington DC
ATTACH;FMTTYPE=image/jpeg:https://www.thelinehotel.com/wp-content/uploads/2022/11/15103247/stepitup-e1649866664936-u0osfp.tmp_.jpg
END:VEVENT
BEGIN:VEVENT
DTSTART;TZID=America/Los_Angeles:20260606T150000
DTEND;TZID=America/Los_Angeles:20260606T190000
DTSTAMP:20260421T145729
CREATED:20260308T004308Z
LAST-MODIFIED:20260421T212218Z
UID:10014105-1780758000-1780772400@www.thelinehotel.com
SUMMARY:Happy Hour at Lobby Bar
DESCRIPTION:When you’re looking for the good stuff made simple\, Lobby Bar is your unpretentious hang with all the classics. Stop in for daily happy hour\, refreshing cocktails\, and an eclectic mix of bar snacks.
URL:https://www.thelinehotel.com/event/happy-hour-at-lobby-bar-678/
LOCATION:Lobby Bar
CATEGORIES:food & drink,Los Angeles
ATTACH;FMTTYPE=image/webp:https://www.thelinehotel.com/wp-content/uploads/2026/02/19115528/Lobby-Bar-Happy-Hour-Menu-A26GKz.webp
END:VEVENT
BEGIN:VEVENT
DTSTART;TZID=America/New_York:20260607T090000
DTEND;TZID=America/New_York:20260607T140000
DTSTAMP:20260421T145729
CREATED:20260324T213814Z
LAST-MODIFIED:20260421T215213Z
UID:10014205-1780822800-1780840800@www.thelinehotel.com
SUMMARY:Weekend Brunch at No Goodbyes
DESCRIPTION:Gather your people and make it a moment. Every Saturday and Sunday from 9am to 2pm\, No Goodbyes is the place to slow down\, catch up\, and indulge\, surrounded by the stunning light of our gorgeous space\, once a 110-year-old neoclassical church. \nKick things off with a handcrafted cocktail (or two) and settle in for a menu that’s equal parts comforting and craveable. Think Challah French Toast with dulce de leche and whipped cream\, a Chorizo Hangover Hash loaded with peppers\, avocado\, and fried eggs\, or a classic Benedict elevated with smoked salmon. From classics done right to something a little more decadent\, there’s something for every mood and every member of the crew. \nWe’re here morning\, noon\, and night in Adams Morgan. Come as you are\, stay as long as you’d like.
URL:https://www.thelinehotel.com/event/weekend-brunch-at-no-goodbyes-245/
LOCATION:No Goodbyes
CATEGORIES:food & drink,Washington DC
ATTACH;FMTTYPE=image/jpeg:https://www.thelinehotel.com/wp-content/uploads/2026/03/24143529/20251015_TheLineHotel_holiday_selects-26-scaled-B32yGG.jpg
END:VEVENT
BEGIN:VEVENT
DTSTART;TZID=America/Los_Angeles:20260607T100000
DTEND;TZID=America/Los_Angeles:20260607T143000
DTSTAMP:20260421T145729
CREATED:20260316T205844Z
LAST-MODIFIED:20260421T212218Z
UID:10014149-1780826400-1780842600@www.thelinehotel.com
SUMMARY:Weekend Brunch at Openaire
DESCRIPTION:There’s no better way to do the weekend than a long\, unhurried brunch. \nOur weekend brunch menu is crafted to satisfy every craving\, whether you’re starting light with our Coconut and Chia Pudding or going all-in with the Hibachi-Grilled Hanger Steak and Eggs. From classic Eggs Benedict and Huevos Rancheros to the Corn Flake-Crusted French Toast drizzled with yuzu-berry compote\, there’s something for everyone at the table. Pull up a chair\, take your time\, and let brunch be the best part of your weekend. \nView brunch menu here
URL:https://www.thelinehotel.com/event/weekend-brunch-at-openaire-24/
LOCATION:Openaire\, 3515 Wilshire Blvd\, Los Angeles\, CA\, 90010\, United States
CATEGORIES:food & drink,Los Angeles
ATTACH;FMTTYPE=image/webp:https://www.thelinehotel.com/wp-content/uploads/2026/03/16135528/Openaire_edits-35_2023_Jayna-GWmqiT.webp
END:VEVENT
BEGIN:VEVENT
DTSTART;TZID=America/Los_Angeles:20260607T150000
DTEND;TZID=America/Los_Angeles:20260607T190000
DTSTAMP:20260421T145729
CREATED:20260309T005752Z
LAST-MODIFIED:20260421T212219Z
UID:10014107-1780844400-1780858800@www.thelinehotel.com
SUMMARY:Happy Hour at Lobby Bar
DESCRIPTION:When you’re looking for the good stuff made simple\, Lobby Bar is your unpretentious hang with all the classics. Stop in for daily happy hour\, refreshing cocktails\, and an eclectic mix of bar snacks.
URL:https://www.thelinehotel.com/event/happy-hour-at-lobby-bar-787/
LOCATION:Lobby Bar
CATEGORIES:food & drink,Los Angeles
ATTACH;FMTTYPE=image/webp:https://www.thelinehotel.com/wp-content/uploads/2026/02/19115528/Lobby-Bar-Happy-Hour-Menu-A26GKz.webp
END:VEVENT
BEGIN:VEVENT
DTSTART;TZID=America/Chicago:20260607T160000
DTEND;TZID=America/Chicago:20260607T230000
DTSTAMP:20260421T145729
CREATED:20260309T001218Z
LAST-MODIFIED:20260421T212123Z
UID:10014106-1780848000-1780873200@www.thelinehotel.com
SUMMARY:Sip Well Sundays
DESCRIPTION:\,lWine down from the weekend with $20 off bottles of wine — every Sunday evening at P6.
URL:https://www.thelinehotel.com/event/sip-well-sundays-152/
LOCATION:P6 at the LINE Austin\, 111 E Cesar Chavez St\, Austin\, Texas\, 78701
CATEGORIES:Austin,food & drink
ATTACH;FMTTYPE=image/webp:https://www.thelinehotel.com/wp-content/uploads/2026/03/12060040/MUR_7967-opt-2DxOw7.webp
END:VEVENT
BEGIN:VEVENT
DTSTART;TZID=America/Chicago:20260608T080000
DTEND;TZID=America/Chicago:20260608T090000
DTSTAMP:20260421T145729
CREATED:20260310T001207Z
LAST-MODIFIED:20260421T212124Z
UID:10014108-1780905600-1780909200@www.thelinehotel.com
SUMMARY:Morning Brew with Alfred
DESCRIPTION:Join us at the lobby every Monday morning for complimentary drip coffee or cold brew from Alfred\, plus views of Lady Bird Lake from under sprawling\, shady oaks.
URL:https://www.thelinehotel.com/event/morning-brew-with-alfred-111/
LOCATION:The LINE Austin\, 111 E Cesar Chavez St\, Austin\, TX\, 78701\, United States
CATEGORIES:Austin,food & drink
ATTACH;FMTTYPE=image/webp:https://www.thelinehotel.com/wp-content/uploads/2025/11/17090025/alfred-coffee-stacked-ItzEP6.tmp_-mLxNWL.webp
END:VEVENT
BEGIN:VEVENT
DTSTART;TZID=America/New_York:20260608T150000
DTEND;TZID=America/New_York:20260608T190000
DTSTAMP:20260421T145729
CREATED:20260310T001240Z
LAST-MODIFIED:20260421T215214Z
UID:10014109-1780930800-1780945200@www.thelinehotel.com
SUMMARY:No Goodbyes Happy Hour
DESCRIPTION:Monday-Saturday: 3pm – 7pm
URL:https://www.thelinehotel.com/event/no-goodbyes-happy-hour-1200/
LOCATION:The LINE DC\, 2468 Champlain St NW\, Washington\, DC\, 20009\, United States
CATEGORIES:food & drink,Washington DC
ATTACH;FMTTYPE=image/jpeg:https://www.thelinehotel.com/wp-content/uploads/2022/11/15103247/stepitup-e1649866664936-u0osfp.tmp_.jpg
END:VEVENT
BEGIN:VEVENT
DTSTART;TZID=America/Los_Angeles:20260608T150000
DTEND;TZID=America/Los_Angeles:20260608T190000
DTSTAMP:20260421T145729
CREATED:20260310T001315Z
LAST-MODIFIED:20260421T212219Z
UID:10014111-1780930800-1780945200@www.thelinehotel.com
SUMMARY:Happy Hour at Lobby Bar
DESCRIPTION:When you’re looking for the good stuff made simple\, Lobby Bar is your unpretentious hang with all the classics. Stop in for daily happy hour\, refreshing cocktails\, and an eclectic mix of bar snacks.
URL:https://www.thelinehotel.com/event/happy-hour-at-lobby-bar-788/
LOCATION:Lobby Bar
CATEGORIES:food & drink,Los Angeles
ATTACH;FMTTYPE=image/webp:https://www.thelinehotel.com/wp-content/uploads/2026/02/19115528/Lobby-Bar-Happy-Hour-Menu-A26GKz.webp
END:VEVENT
BEGIN:VEVENT
DTSTART;TZID=America/Chicago:20260608T200000
DTEND;TZID=America/Chicago:20260608T220000
DTSTAMP:20260421T145729
CREATED:20260310T001221Z
LAST-MODIFIED:20260421T212124Z
UID:10014110-1780948800-1780956000@www.thelinehotel.com
SUMMARY:A Seat at the Screen a Top Chef Arlo Grey Watch Party
DESCRIPTION:Note: This event is now sold out.  \nA Seat at the Screen returns to Arlo Grey for its third year as we celebrate Chef Kristen Kish as the Emmy nominated host of Top Chef Season 23. \nJoin us for the final chapter of our limited four part dining series\, featuring one unforgettable episode brought to life through an immersive culinary experience. This intimate evening is welcoming just 40 guests\, creating a private\, shared experience unlike any other at Arlo Grey. For the first time\, Arlo Grey will transform into your own private movie theater\, complete with a full restaurant screen projection and an intimate atmosphere throughout the evening. \nGuests will begin with light bites and a welcome cocktail at the bar before being seated for the episode as dinner service unfolds. Led by Executive Chef Alejandro Munoz\, in collaboration with Chef Kish’s creative direction\, the five course menu highlights the finest Central Texas ingredients. Each evening will feature a dish inspired by that week’s challenge\, thoughtfully woven into the progression of the meal. To conclude the night\, each guest will receive a special sweet treat and a signed menu from Chef Kristen Kish as a keepsake from the experience. \nTickets are $99 per person. Additional selections from Arlo Grey’s cocktail menu will be available for purchase. Please note that this pre determined menu is unable to accommodate substitutions or dietary restrictions.
URL:https://www.thelinehotel.com/event/a-seat-at-the-screen-a-top-chef-arlo-grey-watch-party-3/
LOCATION:Arlo Grey\, 111 E Cesar Chavez St.\, Austin\, TX\, 78701\, United States
CATEGORIES:Austin,food & drink,Music & Entertainment
ATTACH;FMTTYPE=image/png:https://www.thelinehotel.com/wp-content/uploads/2026/03/09171306/ARLO-GREY-BLUE-I3jS55.png
END:VEVENT
BEGIN:VEVENT
DTSTART;TZID=America/New_York:20260609T150000
DTEND;TZID=America/New_York:20260609T190000
DTSTAMP:20260421T145729
CREATED:20260311T002231Z
LAST-MODIFIED:20260421T215215Z
UID:10014112-1781017200-1781031600@www.thelinehotel.com
SUMMARY:No Goodbyes Happy Hour
DESCRIPTION:Monday-Saturday: 3pm – 7pm
URL:https://www.thelinehotel.com/event/no-goodbyes-happy-hour-1201/
LOCATION:The LINE DC\, 2468 Champlain St NW\, Washington\, DC\, 20009\, United States
CATEGORIES:food & drink,Washington DC
ATTACH;FMTTYPE=image/jpeg:https://www.thelinehotel.com/wp-content/uploads/2022/11/15103247/stepitup-e1649866664936-u0osfp.tmp_.jpg
END:VEVENT
BEGIN:VEVENT
DTSTART;TZID=America/Los_Angeles:20260609T150000
DTEND;TZID=America/Los_Angeles:20260609T190000
DTSTAMP:20260421T145729
CREATED:20260311T010756Z
LAST-MODIFIED:20260421T212220Z
UID:10014113-1781017200-1781031600@www.thelinehotel.com
SUMMARY:Happy Hour at Lobby Bar
DESCRIPTION:When you’re looking for the good stuff made simple\, Lobby Bar is your unpretentious hang with all the classics. Stop in for daily happy hour\, refreshing cocktails\, and an eclectic mix of bar snacks.
URL:https://www.thelinehotel.com/event/happy-hour-at-lobby-bar-789/
LOCATION:Lobby Bar
CATEGORIES:food & drink,Los Angeles
ATTACH;FMTTYPE=image/webp:https://www.thelinehotel.com/wp-content/uploads/2026/02/19115528/Lobby-Bar-Happy-Hour-Menu-A26GKz.webp
END:VEVENT
BEGIN:VEVENT
DTSTART;TZID=America/Los_Angeles:20260610T150000
DTEND;TZID=America/Los_Angeles:20260610T190000
DTSTAMP:20260421T145729
CREATED:20260312T002302Z
LAST-MODIFIED:20260421T212221Z
UID:10014114-1781103600-1781118000@www.thelinehotel.com
SUMMARY:Happy Hour at Lobby Bar
DESCRIPTION:When you’re looking for the good stuff made simple\, Lobby Bar is your unpretentious hang with all the classics. Stop in for daily happy hour\, refreshing cocktails\, and an eclectic mix of bar snacks.
URL:https://www.thelinehotel.com/event/happy-hour-at-lobby-bar-790/
LOCATION:Lobby Bar
CATEGORIES:food & drink,Los Angeles
ATTACH;FMTTYPE=image/webp:https://www.thelinehotel.com/wp-content/uploads/2026/02/19115528/Lobby-Bar-Happy-Hour-Menu-A26GKz.webp
END:VEVENT
BEGIN:VEVENT
DTSTART;TZID=America/Chicago:20260611T160000
DTEND;TZID=America/Chicago:20260611T210000
DTSTAMP:20260421T145729
CREATED:20260313T000714Z
LAST-MODIFIED:20260421T212138Z
UID:10014116-1781193600-1781211600@www.thelinehotel.com
SUMMARY:‘Agave After Work’ Happy Hour
DESCRIPTION:Join us at Cantero for Agave After Work\, a weekly celebration of the desert’s bold flavors and the vibrant energy of downtown Austin. Every week\, we’re serving up refreshing drink specials as a tribute to the spirits of the desert—sotol and agave—alongside mouthwatering Veracruz tacos. Our curated musicians’ sets or live music bring the perfect mix of ambient rhythms\, creating a relaxed yet lively atmosphere for you to unwind with friends after a long day of work. Whether you’re here to sip\, savor\, or soak in the festive vibes\, Agave After Work is the ultimate way to unwind and kick off your evening. \n  \nView the Happy Hour Menu HERE.
URL:https://www.thelinehotel.com/event/agave-after-work-happy-hour-32/
LOCATION:Cantero\, 111 E Cesar Chavez St\, Austin\, TX\, 78701\, United States
CATEGORIES:Austin,food & drink,Music & Entertainment
ATTACH;FMTTYPE=image/webp:https://www.thelinehotel.com/wp-content/uploads/2025/10/14043026/2024.10_JadeHammer_Opening_-105-6e1aib.webp
END:VEVENT
BEGIN:VEVENT
DTSTART;TZID=America/Chicago:20260611T173000
DTEND;TZID=America/Chicago:20260611T190000
DTSTAMP:20260421T145729
CREATED:20260313T000727Z
LAST-MODIFIED:20260421T212138Z
UID:10014117-1781199000-1781204400@www.thelinehotel.com
SUMMARY:Tarot in The Lobby
DESCRIPTION:Join us in the East Lobby for free tarot readings every Thursday from Megan at Jaguar High Priestess. First come\, first served (open to hotel guests only.) \nWith a larger group? It’s okay to bring your friends—we can accommodate up to six for a collective journey through the cosmos. 
URL:https://www.thelinehotel.com/event/tarot-in-the-lobby-99/
LOCATION:The LINE Austin\, 111 E Cesar Chavez St\, Austin\, TX\, 78701\, United States
CATEGORIES:Austin,Health & Wellness
ATTACH;FMTTYPE=image/jpeg:https://www.thelinehotel.com/wp-content/uploads/2023/11/02003235/Austin_TarotInTheLobby-pZcTab.tmp_.jpg
END:VEVENT
BEGIN:VEVENT
DTSTART;TZID=America/New_York:20260612T150000
DTEND;TZID=America/New_York:20260612T190000
DTSTAMP:20260421T145729
CREATED:20260314T003745Z
LAST-MODIFIED:20260421T215216Z
UID:10014120-1781276400-1781290800@www.thelinehotel.com
SUMMARY:No Goodbyes Happy Hour
DESCRIPTION:Monday-Saturday: 3pm – 7pm
URL:https://www.thelinehotel.com/event/no-goodbyes-happy-hour-1204/
LOCATION:The LINE DC\, 2468 Champlain St NW\, Washington\, DC\, 20009\, United States
CATEGORIES:food & drink,Washington DC
ATTACH;FMTTYPE=image/jpeg:https://www.thelinehotel.com/wp-content/uploads/2022/11/15103247/stepitup-e1649866664936-u0osfp.tmp_.jpg
END:VEVENT
BEGIN:VEVENT
DTSTART;TZID=America/New_York:20260613T090000
DTEND;TZID=America/New_York:20260613T140000
DTSTAMP:20260421T145729
CREATED:20260324T213831Z
LAST-MODIFIED:20260421T215217Z
UID:10014206-1781341200-1781359200@www.thelinehotel.com
SUMMARY:Weekend Brunch at No Goodbyes
DESCRIPTION:Gather your people and make it a moment. Every Saturday and Sunday from 9am to 2pm\, No Goodbyes is the place to slow down\, catch up\, and indulge\, surrounded by the stunning light of our gorgeous space\, once a 110-year-old neoclassical church. \nKick things off with a handcrafted cocktail (or two) and settle in for a menu that’s equal parts comforting and craveable. Think Challah French Toast with dulce de leche and whipped cream\, a Chorizo Hangover Hash loaded with peppers\, avocado\, and fried eggs\, or a classic Benedict elevated with smoked salmon. From classics done right to something a little more decadent\, there’s something for every mood and every member of the crew. \nWe’re here morning\, noon\, and night in Adams Morgan. Come as you are\, stay as long as you’d like.
URL:https://www.thelinehotel.com/event/weekend-brunch-at-no-goodbyes-246/
LOCATION:No Goodbyes
CATEGORIES:food & drink,Washington DC
ATTACH;FMTTYPE=image/jpeg:https://www.thelinehotel.com/wp-content/uploads/2026/03/24143529/20251015_TheLineHotel_holiday_selects-26-scaled-B32yGG.jpg
END:VEVENT
BEGIN:VEVENT
DTSTART;TZID=America/Los_Angeles:20260613T100000
DTEND;TZID=America/Los_Angeles:20260613T143000
DTSTAMP:20260421T145729
CREATED:20260316T205901Z
LAST-MODIFIED:20260421T212223Z
UID:10014150-1781344800-1781361000@www.thelinehotel.com
SUMMARY:Weekend Brunch at Openaire
DESCRIPTION:There’s no better way to do the weekend than a long\, unhurried brunch. \nOur weekend brunch menu is crafted to satisfy every craving\, whether you’re starting light with our Coconut and Chia Pudding or going all-in with the Hibachi-Grilled Hanger Steak and Eggs. From classic Eggs Benedict and Huevos Rancheros to the Corn Flake-Crusted French Toast drizzled with yuzu-berry compote\, there’s something for everyone at the table. Pull up a chair\, take your time\, and let brunch be the best part of your weekend. \nView brunch menu here
URL:https://www.thelinehotel.com/event/weekend-brunch-at-openaire-25/
LOCATION:Openaire\, 3515 Wilshire Blvd\, Los Angeles\, CA\, 90010\, United States
CATEGORIES:food & drink,Los Angeles
ATTACH;FMTTYPE=image/webp:https://www.thelinehotel.com/wp-content/uploads/2026/03/16135528/Openaire_edits-35_2023_Jayna-GWmqiT.webp
END:VEVENT
END:VCALENDAR